View In:
ArcGIS JavaScript
ArcGIS Online Map Viewer
ArcGIS Earth
Service Description: rasters/dc_2016_1m
Name: rasters/dc_2016_1m
Description:
Single Fused Map Cache: false
Extent:
XMin: 96285.896666665
YMin: 99074.60522552635
XMax: 289773.0423034138
YMax: 321045.945833335
Spatial Reference: PROJCS["North_American_1983_Transverse_Mercator",GEOGCS["GCS_North_American_1983",DATUM["D_North_American_1983",SPHEROID["GRS_1980",6378137.0,298.257222101]],PRIMEM["Greenwich",0.0],UNIT["Degree",0.0174532925199433]],PROJECTION["Transverse_Mercator"],PARAMETER["False_Easting",194000.000122583],PARAMETER["False_Northing",0.0134514166666667],PARAMETER["Central_Meridian",-91.9166666666667],PARAMETER["Scale_Factor",1.0000385418],PARAMETER["Latitude_Of_Origin",45.8833333333333],UNIT["Foot_US",0.3048006096012192]]
Initial Extent:
XMin: 96285.896666665
YMin: 99074.60522552635
XMax: 289773.0423034138
YMax: 321045.945833335
Spatial Reference: PROJCS["North_American_1983_Transverse_Mercator",GEOGCS["GCS_North_American_1983",DATUM["D_North_American_1983",SPHEROID["GRS_1980",6378137.0,298.257222101]],PRIMEM["Greenwich",0.0],UNIT["Degree",0.0174532925199433]],PROJECTION["Transverse_Mercator"],PARAMETER["False_Easting",194000.000122583],PARAMETER["False_Northing",0.0134514166666667],PARAMETER["Central_Meridian",-91.9166666666667],PARAMETER["Scale_Factor",1.0000385418],PARAMETER["Latitude_Of_Origin",45.8833333333333],UNIT["Foot_US",0.3048006096012192]]
Full Extent:
XMin: 96285.896666665
YMin: 99074.60522552635
XMax: 289773.0423034138
YMax: 321045.945833335
Spatial Reference: PROJCS["North_American_1983_Transverse_Mercator",GEOGCS["GCS_North_American_1983",DATUM["D_North_American_1983",SPHEROID["GRS_1980",6378137.0,298.257222101]],PRIMEM["Greenwich",0.0],UNIT["Degree",0.0174532925199433]],PROJECTION["Transverse_Mercator"],PARAMETER["False_Easting",194000.000122583],PARAMETER["False_Northing",0.0134514166666667],PARAMETER["Central_Meridian",-91.9166666666667],PARAMETER["Scale_Factor",1.0000385418],PARAMETER["Latitude_Of_Origin",45.8833333333333],UNIT["Foot_US",0.3048006096012192]]
Pixel Size X: 3.2808333299999797
Pixel Size Y: 3.28083332999998
Band Count: 3
Pixel Type: U8
RasterFunction Infos: {"rasterFunctionInfos": [{
"help": "",
"name": "None",
"description": ""
}]}
Mensuration Capabilities: Basic
Inspection Capabilities:
Has Histograms: true
Has Colormap: false
Has Multi Dimensions : false
Rendering Rule:
Min Scale: 0
Max Scale: 0
Copyright Text:
Service Data Type: esriImageServiceDataTypeRGB
Min Values: 0, 0, 0
Max Values: 255, 255, 255
Mean Values: 136.82669652049, 128.11522940806, 115.17016660983001
Standard Deviation Values: 52.974344889900998, 51.298760681304003, 51.344875356905
Object ID Field:
Fields:
None
Default Mosaic Method: Center
Allowed Mosaic Methods:
SortField:
SortValue: N/A
Mosaic Operator: First
Default Compression Quality: 75
Default Resampling Method: Bilinear
Max Record Count: null
Max Image Height: 4100
Max Image Width: 15000
Max Download Image Count: null
Max Mosaic Image Count: null
Allow Raster Function: true
Allow Copy: true
Allow Analysis: true
Allow Compute TiePoints: false
Supports Statistics: false
Supports Advanced Queries: false
Use StandardizedQueries: false
Raster Type Infos:
Name: Raster Dataset
Description: Supports all ArcGIS Raster Datasets
Help:
Has Raster Attribute Table: false
Edit Fields Info: N/A
Ownership Based AccessControl For Rasters: N/A
Child Resources:
Info
Histograms
Statistics
Key Properties
Legend
Raster Function Infos
Supported Operations:
Export Image
Identify
Measure
Compute Histograms
Compute Statistics Histograms
Get Samples
Compute Class Statistics
Query Boundary
Compute Pixel Location
Compute Angles
Validate
Project