{
 "extent": {
  "ymin": 99074.605225526349,
  "xmin": 96285.896666664994,
  "ymax": 321045.94583333499,
  "xmax": 289773.04230341379,
  "spatialReference": {
   "wkt": "PROJCS[\"North_American_1983_Transverse_Mercator\",GEOGCS[\"GCS_North_American_1983\",DATUM[\"D_North_American_1983\",SPHEROID[\"GRS_1980\",6378137.0,298.257222101]],PRIMEM[\"Greenwich\",0.0],UNIT[\"Degree\",0.0174532925199433]],PROJECTION[\"Transverse_Mercator\"],PARAMETER[\"False_Easting\",194000.000122583],PARAMETER[\"False_Northing\",0.0134514166666667],PARAMETER[\"Central_Meridian\",-91.9166666666667],PARAMETER[\"Scale_Factor\",1.0000385418],PARAMETER[\"Latitude_Of_Origin\",45.8833333333333],UNIT[\"Foot_US\",0.3048006096012192]]",
   "wkt2": "PROJCRS[\"North_American_1983_Transverse_Mercator\",BASEGEOGCRS[\"GCS_North_American_1983\",DATUM[\"D_North_American_1983\",ELLIPSOID[\"GRS_1980\",6378137.0,298.257222101]],PRIMEM[\"Greenwich\",0.0],CS[ellipsoidal,2],AXIS[\"Latitude (lat)\",north,ORDER[1]],AXIS[\"Longitude (lon)\",east,ORDER[2]],ANGLEUNIT[\"Degree\",0.0174532925199433]],CONVERSION[\"Transverse_Mercator\",METHOD[\"Transverse_Mercator\"],PARAMETER[\"False_Easting\",194000.000122583,LENGTHUNIT[\"Foot_US\",0.3048006096012192]],PARAMETER[\"False_Northing\",0.0134514166666667,LENGTHUNIT[\"Foot_US\",0.3048006096012192]],PARAMETER[\"Central_Meridian\",-91.9166666666667],PARAMETER[\"Scale_Factor\",1.0000385418],PARAMETER[\"Latitude_Of_Origin\",45.8833333333333]],CS[Cartesian,2],AXIS[\"Easting (X)\",east,ORDER[1]],AXIS[\"Northing (Y)\",north,ORDER[2]],LENGTHUNIT[\"Foot_US\",0.3048006096012192]]"
  }
 },
 "blockWidth": 2048,
 "mosaicOperator": "First",
 "serviceSourceType": "esriImageServiceSourceTypeDataset",
 "hasMultidimensions": false,
 "maxImageWidth": 15000,
 "meanValues": [
  136.82669652049,
  128.11522940806,
  115.17016660983001
 ],
 "hasColormap": false,
 "compressionType": "JPEG2000",
 "defaultCompressionQuality": 75,
 "maxValues": [
  255,
  255,
  255
 ],
 "hasHistograms": true,
 "datasetFormat": "JP2",
 "maxImageHeight": 4100,
 "sortField": "",
 "bandNames": [
  "Band_1",
  "Band_2",
  "Band_3"
 ],
 "spatialReference": {
  "wkt": "PROJCS[\"North_American_1983_Transverse_Mercator\",GEOGCS[\"GCS_North_American_1983\",DATUM[\"D_North_American_1983\",SPHEROID[\"GRS_1980\",6378137.0,298.257222101]],PRIMEM[\"Greenwich\",0.0],UNIT[\"Degree\",0.0174532925199433]],PROJECTION[\"Transverse_Mercator\"],PARAMETER[\"False_Easting\",194000.000122583],PARAMETER[\"False_Northing\",0.0134514166666667],PARAMETER[\"Central_Meridian\",-91.9166666666667],PARAMETER[\"Scale_Factor\",1.0000385418],PARAMETER[\"Latitude_Of_Origin\",45.8833333333333],UNIT[\"Foot_US\",0.3048006096012192]]",
  "wkt2": "PROJCRS[\"North_American_1983_Transverse_Mercator\",BASEGEOGCRS[\"GCS_North_American_1983\",DATUM[\"D_North_American_1983\",ELLIPSOID[\"GRS_1980\",6378137.0,298.257222101]],PRIMEM[\"Greenwich\",0.0],CS[ellipsoidal,2],AXIS[\"Latitude (lat)\",north,ORDER[1]],AXIS[\"Longitude (lon)\",east,ORDER[2]],ANGLEUNIT[\"Degree\",0.0174532925199433]],CONVERSION[\"Transverse_Mercator\",METHOD[\"Transverse_Mercator\"],PARAMETER[\"False_Easting\",194000.000122583,LENGTHUNIT[\"Foot_US\",0.3048006096012192]],PARAMETER[\"False_Northing\",0.0134514166666667,LENGTHUNIT[\"Foot_US\",0.3048006096012192]],PARAMETER[\"Central_Meridian\",-91.9166666666667],PARAMETER[\"Scale_Factor\",1.0000385418],PARAMETER[\"Latitude_Of_Origin\",45.8833333333333]],CS[Cartesian,2],AXIS[\"Easting (X)\",east,ORDER[1]],AXIS[\"Northing (Y)\",north,ORDER[2]],LENGTHUNIT[\"Foot_US\",0.3048006096012192]]"
 },
 "fullExtent": {
  "ymin": 99074.605225526349,
  "xmin": 96285.896666664994,
  "ymax": 321045.94583333499,
  "xmax": 289773.04230341379,
  "spatialReference": {
   "wkt": "PROJCS[\"North_American_1983_Transverse_Mercator\",GEOGCS[\"GCS_North_American_1983\",DATUM[\"D_North_American_1983\",SPHEROID[\"GRS_1980\",6378137.0,298.257222101]],PRIMEM[\"Greenwich\",0.0],UNIT[\"Degree\",0.0174532925199433]],PROJECTION[\"Transverse_Mercator\"],PARAMETER[\"False_Easting\",194000.000122583],PARAMETER[\"False_Northing\",0.0134514166666667],PARAMETER[\"Central_Meridian\",-91.9166666666667],PARAMETER[\"Scale_Factor\",1.0000385418],PARAMETER[\"Latitude_Of_Origin\",45.8833333333333],UNIT[\"Foot_US\",0.3048006096012192]]",
   "wkt2": "PROJCRS[\"North_American_1983_Transverse_Mercator\",BASEGEOGCRS[\"GCS_North_American_1983\",DATUM[\"D_North_American_1983\",ELLIPSOID[\"GRS_1980\",6378137.0,298.257222101]],PRIMEM[\"Greenwich\",0.0],CS[ellipsoidal,2],AXIS[\"Latitude (lat)\",north,ORDER[1]],AXIS[\"Longitude (lon)\",east,ORDER[2]],ANGLEUNIT[\"Degree\",0.0174532925199433]],CONVERSION[\"Transverse_Mercator\",METHOD[\"Transverse_Mercator\"],PARAMETER[\"False_Easting\",194000.000122583,LENGTHUNIT[\"Foot_US\",0.3048006096012192]],PARAMETER[\"False_Northing\",0.0134514166666667,LENGTHUNIT[\"Foot_US\",0.3048006096012192]],PARAMETER[\"Central_Meridian\",-91.9166666666667],PARAMETER[\"Scale_Factor\",1.0000385418],PARAMETER[\"Latitude_Of_Origin\",45.8833333333333]],CS[Cartesian,2],AXIS[\"Easting (X)\",east,ORDER[1]],AXIS[\"Northing (Y)\",north,ORDER[2]],LENGTHUNIT[\"Foot_US\",0.3048006096012192]]"
  }
 },
 "bandCount": 3,
 "rasterFunctionInfos": [
  {
   "help": "",
   "name": "None",
   "description": ""
  }
 ],
 "supportsStatistics": false,
 "sortableFields": "",
 "minValues": [
  0,
  0,
  0
 ],
 "allowRasterFunction": true,
 "allowComputeTiePoints": false,
 "serviceDataType": "esriImageServiceDataTypeRGB",
 "supportsAdvancedQueries": false,
 "currentVersion": 12.1,
 "sortValue": null,
 "objectIdField": "",
 "blockHeight": 2048,
 "initialExtent": {
  "ymin": 99074.605225526349,
  "xmin": 96285.896666664994,
  "ymax": 321045.94583333499,
  "xmax": 289773.04230341379,
  "spatialReference": {
   "wkt": "PROJCS[\"North_American_1983_Transverse_Mercator\",GEOGCS[\"GCS_North_American_1983\",DATUM[\"D_North_American_1983\",SPHEROID[\"GRS_1980\",6378137.0,298.257222101]],PRIMEM[\"Greenwich\",0.0],UNIT[\"Degree\",0.0174532925199433]],PROJECTION[\"Transverse_Mercator\"],PARAMETER[\"False_Easting\",194000.000122583],PARAMETER[\"False_Northing\",0.0134514166666667],PARAMETER[\"Central_Meridian\",-91.9166666666667],PARAMETER[\"Scale_Factor\",1.0000385418],PARAMETER[\"Latitude_Of_Origin\",45.8833333333333],UNIT[\"Foot_US\",0.3048006096012192]]",
   "wkt2": "PROJCRS[\"North_American_1983_Transverse_Mercator\",BASEGEOGCRS[\"GCS_North_American_1983\",DATUM[\"D_North_American_1983\",ELLIPSOID[\"GRS_1980\",6378137.0,298.257222101]],PRIMEM[\"Greenwich\",0.0],CS[ellipsoidal,2],AXIS[\"Latitude (lat)\",north,ORDER[1]],AXIS[\"Longitude (lon)\",east,ORDER[2]],ANGLEUNIT[\"Degree\",0.0174532925199433]],CONVERSION[\"Transverse_Mercator\",METHOD[\"Transverse_Mercator\"],PARAMETER[\"False_Easting\",194000.000122583,LENGTHUNIT[\"Foot_US\",0.3048006096012192]],PARAMETER[\"False_Northing\",0.0134514166666667,LENGTHUNIT[\"Foot_US\",0.3048006096012192]],PARAMETER[\"Central_Meridian\",-91.9166666666667],PARAMETER[\"Scale_Factor\",1.0000385418],PARAMETER[\"Latitude_Of_Origin\",45.8833333333333]],CS[Cartesian,2],AXIS[\"Easting (X)\",east,ORDER[1]],AXIS[\"Northing (Y)\",north,ORDER[2]],LENGTHUNIT[\"Foot_US\",0.3048006096012192]]"
  }
 },
 "pixelSizeX": 3.2808333299999797,
 "pixelSizeY": 3.2808333299999801,
 "defaultMosaicMethod": "Center",
 "name": "rasters/dc_2016_1m",
 "allowedMosaicMethods": "",
 "fields": [],
 "allowAnalysis": true,
 "hasRasterAttributeTable": false,
 "useStandardizedQueries": false,
 "description": "",
 "pixelType": "U8",
 "meanPixelSize": 0.99999999898399194,
 "exportTilesAllowed": false,
 "editFieldsInfo": null,
 "rasterTypeInfos": [
  {
   "help": "",
   "name": "Raster Dataset",
   "description": "Supports all ArcGIS Raster Datasets"
  }
 ],
 "defaultResamplingMethod": "Bilinear",
 "itemAccess": false,
 "minScale": 0,
 "serviceProperties": "Center<\/MosaicMethod>First<\/MosaicOperator>true<\/SortAscending><\/LockImageID><\/TileOrderField>0<\/TileOrderBase>0.000000<\/AvgImageSpacingX>0.000000<\/AvgImageSpacingY>0.0<\/ViewPointX>0.0<\/ViewPointY>0.0<\/ViewPointDefShiftX>0.0<\/ViewPointDefShiftY>None<\/CompressionMethod>75<\/CompressionQuality>0.010000<\/CompressionTolerance>Bilinear<\/SamplingMethod><\/ImageServiceProperties><\/ImageServer>",
 "advancedQueryCapabilities": {
  "supportsStatistics": false,
  "supportsSqlExpression": false,
  "supportsOrderBy": false,
  "useStandardizedQueries": false,
  "supportsPagination": false,
  "supportsDistinct": false
 },
 "serviceItemId": "03f559b245904b03a4df69724e2f264c",
 "capabilities": "Image,Metadata,Mensuration",
 "maxScale": 0,
 "stdvValues": [
  52.974344889900998,
  51.298760681304003,
  51.344875356905
 ],
 "allowedFields": "",
 "minPixelSize": 0,
 "noDataValues": [
  256,
  256,
  256
 ],
 "sortAscending": true,
 "inspectionCapabilities": "",
 "maxPixelSize": 0,
 "noDataValue": 256,
 "allowedCompressions": "None,JPEG,LZ77,LERC",
 "uncompressedSize": 11970214725,
 "serviceDescription": "rasters/dc_2016_1m",
 "allowCopy": true,
 "copyrightText": "",
 "mensurationCapabilities": "Basic",
 "ownershipBasedAccessControlForRasters": null
}
