View In:
ArcGIS JavaScript
ArcGIS Online Map Viewer
ArcGIS Earth
Service Description: rasters/dc_2010_wroc
Name: rasters/dc_2010_wroc
Description:
Single Fused Map Cache: false
Extent:
XMin: 341293.26627300004
YMin: 628979.562275
XMax: 405614.4482730001
YMax: 705660.231875
Spatial Reference: 3071
(3071)
LatestVCSWkid(0)
Initial Extent:
XMin: 341293.26627300004
YMin: 628979.562275
XMax: 405614.4482730001
YMax: 705660.231875
Spatial Reference: 3071
(3071)
LatestVCSWkid(0)
Full Extent:
XMin: 341293.26627300004
YMin: 628979.562275
XMax: 405614.4482730001
YMax: 705660.231875
Spatial Reference: 3071
(3071)
LatestVCSWkid(0)
Pixel Size X: 0.4572000000000002
Pixel Size Y: 0.45720000000000016
Band Count: 3
Pixel Type: U8
RasterFunction Infos: {"rasterFunctionInfos": [{
"name": "None",
"description": "",
"help": ""
}]}
Mensuration Capabilities: Basic
Inspection Capabilities:
Has Histograms: true
Has Colormap: false
Has Multi Dimensions : false
Rendering Rule:
Min Scale: 0
Max Scale: 0
Copyright Text:
Service Data Type: esriImageServiceDataTypeRGB
Min Values: 0, 0, 0
Max Values: 255, 255, 255
Mean Values: 101.57758925415, 102.28013432308, 103.57122658183
Standard Deviation Values: 50.5308203994, 49.277686461672, 48.357825480522
Object ID Field:
Fields:
None
Default Mosaic Method: Center
Allowed Mosaic Methods:
SortField:
SortValue: null
Mosaic Operator: First
Default Compression Quality: 75
Default Resampling Method: Bilinear
Max Record Count: null
Max Image Height: 4100
Max Image Width: 15000
Max Download Image Count: null
Max Mosaic Image Count: null
Allow Raster Function: true
Allow Copy: true
Allow Analysis: true
Allow Compute TiePoints: false
Supports Statistics: false
Supports Advanced Queries: false
Use StandardizedQueries: true
Raster Type Infos:
Name: Raster Dataset
Description: Supports all ArcGIS Raster Datasets
Help:
Has Raster Attribute Table: false
Edit Fields Info: null
Ownership Based AccessControl For Rasters: null
Child Resources:
Info
Histograms
Statistics
Key Properties
Legend
Raster Function Infos
Supported Operations:
Export Image
Identify
Measure
Compute Histograms
Compute Statistics Histograms
Get Samples
Compute Class Statistics
Query Boundary
Compute Pixel Location
Compute Angles
Validate
Project