{
 "currentVersion": 11.5,
 "serviceDescription": "rasters/dc_2010_wroc",
 "serviceItemId": "3045eb642dac42258a864bbdaa00c3ba",
 "name": "rasters/dc_2010_wroc",
 "description": "",
 "extent": {
  "xmin": 341293.26627300004,
  "ymin": 628979.562275,
  "xmax": 405614.4482730001,
  "ymax": 705660.231875,
  "spatialReference": {
   "wkid": 3071,
   "latestWkid": 3071
  }
 },
 "initialExtent": {
  "xmin": 341293.26627300004,
  "ymin": 628979.562275,
  "xmax": 405614.4482730001,
  "ymax": 705660.231875,
  "spatialReference": {
   "wkid": 3071,
   "latestWkid": 3071
  }
 },
 "fullExtent": {
  "xmin": 341293.26627300004,
  "ymin": 628979.562275,
  "xmax": 405614.4482730001,
  "ymax": 705660.231875,
  "spatialReference": {
   "wkid": 3071,
   "latestWkid": 3071
  }
 },
 "sortableFields": "",
 "bandCount": 3,
 "pixelType": "U8",
 "minValues": [
  0,
  0,
  0
 ],
 "maxValues": [
  255,
  255,
  255
 ],
 "meanValues": [
  101.57758925415,
  102.28013432308,
  103.57122658183
 ],
 "stdvValues": [
  50.5308203994,
  49.277686461672,
  48.357825480522
 ],
 "serviceProperties": "Center<\/MosaicMethod>First<\/MosaicOperator>true<\/SortAscending><\/LockImageID><\/TileOrderField>0<\/TileOrderBase>0.000000<\/AvgImageSpacingX>0.000000<\/AvgImageSpacingY>0.0<\/ViewPointX>0.0<\/ViewPointY>0.0<\/ViewPointDefShiftX>0.0<\/ViewPointDefShiftY>None<\/CompressionMethod>75<\/CompressionQuality>0.010000<\/CompressionTolerance>Bilinear<\/SamplingMethod><\/ImageServiceProperties><\/ImageServer>",
 "allowedFields": "",
 "hasMultidimensions": false,
 "pixelSizeX": 0.4572000000000002,
 "pixelSizeY": 0.45720000000000016,
 "meanPixelSize": 0.45720000000000016,
 "datasetFormat": "MrSID",
 "uncompressedSize": 70786220490,
 "blockWidth": 1024,
 "blockHeight": 128,
 "compressionType": "Wavelet (MG3)",
 "bandNames": [
  "Band_1",
  "Band_2",
  "Band_3"
 ],
 "allowCopy": true,
 "allowAnalysis": true,
 "itemAccess": false,
 "inspectionCapabilities": "",
 "minPixelSize": 0,
 "maxPixelSize": 0,
 "copyrightText": "",
 "serviceDataType": "esriImageServiceDataTypeRGB",
 "serviceSourceType": "esriImageServiceSourceTypeDataset",
 "objectIdField": "",
 "fields": [],
 "capabilities": "Image,Metadata,Mensuration",
 "defaultMosaicMethod": "Center",
 "allowedMosaicMethods": "",
 "sortField": "",
 "sortValue": null,
 "sortAscending": true,
 "mosaicOperator": "First",
 "defaultCompressionQuality": 75,
 "defaultResamplingMethod": "Bilinear",
 "maxImageHeight": 4100,
 "maxImageWidth": 15000,
 "allowRasterFunction": true,
 "rasterFunctionInfos": [
  {
   "name": "None",
   "description": "",
   "help": ""
  }
 ],
 "rasterTypeInfos": [
  {
   "name": "Raster Dataset",
   "description": "Supports all ArcGIS Raster Datasets",
   "help": ""
  }
 ],
 "mensurationCapabilities": "Basic",
 "hasHistograms": true,
 "hasColormap": false,
 "hasRasterAttributeTable": false,
 "minScale": 0,
 "maxScale": 0,
 "exportTilesAllowed": false,
 "supportsStatistics": false,
 "supportsAdvancedQueries": false,
 "editFieldsInfo": null,
 "ownershipBasedAccessControlForRasters": null,
 "allowComputeTiePoints": false,
 "useStandardizedQueries": true,
 "advancedQueryCapabilities": {
  "useStandardizedQueries": true,
  "supportsStatistics": false,
  "supportsOrderBy": false,
  "supportsDistinct": false,
  "supportsPagination": false
 },
 "spatialReference": {
  "wkid": 3071,
  "latestWkid": 3071
 }
}
