View In:
ArcGIS JavaScript
ArcGIS Online Map Viewer
ArcGIS Earth
Service Description: rasters/dc_1996_infrared
Name: rasters/dc_1996_infrared
Description:
Single Fused Map Cache: false
Extent:
XMin: 96834.4922249097
YMin: 88939.54631523002
XMax: 293660.4922249097
YMax: 288265.54631523
Spatial Reference: 0
(0)
LatestVCSWkid(0)
Initial Extent:
XMin: 96834.4922249097
YMin: 88939.54631523002
XMax: 293660.4922249097
YMax: 288265.54631523
Spatial Reference: 0
(0)
LatestVCSWkid(0)
Full Extent:
XMin: 96834.4922249097
YMin: 88939.54631523002
XMax: 293660.4922249097
YMax: 288265.54631523
Spatial Reference: 0
(0)
LatestVCSWkid(0)
Pixel Size X: 2.0
Pixel Size Y: 2.0
Band Count: 3
Pixel Type: U8
RasterFunction Infos: {"rasterFunctionInfos": [{
"name": "None",
"description": "",
"help": ""
}]}
Mensuration Capabilities: Basic
Inspection Capabilities:
Has Histograms: true
Has Colormap: false
Has Multi Dimensions : false
Rendering Rule:
Min Scale: 0
Max Scale: 0
Copyright Text:
Service Data Type: esriImageServiceDataTypeRGB
Min Values: 0, 0, 0
Max Values: 255, 255, 248
Mean Values: 92.869345676415, 70.146749421418, 66.593414685462
Standard Deviation Values: 78.568253870345, 62.323158851587, 57.629123533235
Object ID Field:
Fields:
None
Default Mosaic Method: Center
Allowed Mosaic Methods:
SortField:
SortValue: null
Mosaic Operator: First
Default Compression Quality: 75
Default Resampling Method: Bilinear
Max Record Count: null
Max Image Height: 4100
Max Image Width: 15000
Max Download Image Count: null
Max Mosaic Image Count: null
Allow Raster Function: true
Allow Copy: true
Allow Analysis: true
Allow Compute TiePoints: false
Supports Statistics: false
Supports Advanced Queries: false
Use StandardizedQueries: true
Raster Type Infos:
Name: Raster Dataset
Description: Supports all ArcGIS Raster Datasets
Help:
Has Raster Attribute Table: false
Edit Fields Info: null
Ownership Based AccessControl For Rasters: null
Child Resources:
Info
Histograms
Statistics
Key Properties
Legend
Raster Function Infos
Supported Operations:
Export Image
Identify
Measure
Compute Histograms
Compute Statistics Histograms
Get Samples
Compute Class Statistics
Query Boundary
Compute Pixel Location
Compute Angles
Validate
Project