{
 "currentVersion": 11.5,
 "serviceDescription": "rasters/dc_1996_infrared",
 "serviceItemId": "7a7ff3e18f6347fba75a982f7eee9ef9",
 "name": "rasters/dc_1996_infrared",
 "description": "",
 "extent": {
  "xmin": 96834.4922249097,
  "ymin": 88939.54631523002,
  "xmax": 293660.4922249097,
  "ymax": 288265.54631523,
  "spatialReference": {
   "wkt2": "PROJCRS[\"dc_4\",BASEGEOGCRS[\"GCS_douglas_cnty_geographic_coord_system\",DATUM[\"D_custom\",ELLIPSOID[\"douglas_county\",6378414.93,298.27021878,LENGTHUNIT[\"Meter\",1.0]]],PRIMEM[\"greenwich\",0.0,ANGLEUNIT[\"Degree\",0.0174532925199433]],CS[ellipsoidal,2],ANGLEUNIT[\"Degree\",0.0174532925199433]],CONVERSION[\"Transverse_Mercator\",METHOD[\"Transverse_Mercator\"],PARAMETER[\"False_Easting\",194000.0,LENGTHUNIT[\"Foot_US\",0.3048006096012192]],PARAMETER[\"False_Northing\",0.0,LENGTHUNIT[\"Foot_US\",0.3048006096012192]],PARAMETER[\"Central_Meridian\",-91.91666667,ANGLEUNIT[\"Degree\",0.0174532925199433]],PARAMETER[\"Scale_Factor\",0.999994968,SCALEUNIT[\"Unity\",1.0]],PARAMETER[\"Latitude_Of_Origin\",45.88333333,ANGLEUNIT[\"Degree\",0.0174532925199433]]],CS[Cartesian,2],AXIS[\"Easting (X)\",east,ORDER[1]],AXIS[\"Northing (Y)\",north,ORDER[2]],LENGTHUNIT[\"Foot_US\",0.3048006096012192]]",
   "wkt": "PROJCS[\"dc_4\",GEOGCS[\"GCS_douglas_cnty_geographic_coord_system\",DATUM[\"D_custom\",SPHEROID[\"douglas_county\",6378414.93,298.27021878]],PRIMEM[\"greenwich\",0.0],UNIT[\"Degree\",0.0174532925199433]],PROJECTION[\"Transverse_Mercator\"],PARAMETER[\"False_Easting\",194000.0],PARAMETER[\"False_Northing\",0.0],PARAMETER[\"Central_Meridian\",-91.91666667],PARAMETER[\"Scale_Factor\",0.999994968],PARAMETER[\"Latitude_Of_Origin\",45.88333333],UNIT[\"Foot_US\",0.3048006096012192]]"
  }
 },
 "initialExtent": {
  "xmin": 96834.4922249097,
  "ymin": 88939.54631523002,
  "xmax": 293660.4922249097,
  "ymax": 288265.54631523,
  "spatialReference": {
   "wkt2": "PROJCRS[\"dc_4\",BASEGEOGCRS[\"GCS_douglas_cnty_geographic_coord_system\",DATUM[\"D_custom\",ELLIPSOID[\"douglas_county\",6378414.93,298.27021878,LENGTHUNIT[\"Meter\",1.0]]],PRIMEM[\"greenwich\",0.0,ANGLEUNIT[\"Degree\",0.0174532925199433]],CS[ellipsoidal,2],ANGLEUNIT[\"Degree\",0.0174532925199433]],CONVERSION[\"Transverse_Mercator\",METHOD[\"Transverse_Mercator\"],PARAMETER[\"False_Easting\",194000.0,LENGTHUNIT[\"Foot_US\",0.3048006096012192]],PARAMETER[\"False_Northing\",0.0,LENGTHUNIT[\"Foot_US\",0.3048006096012192]],PARAMETER[\"Central_Meridian\",-91.91666667,ANGLEUNIT[\"Degree\",0.0174532925199433]],PARAMETER[\"Scale_Factor\",0.999994968,SCALEUNIT[\"Unity\",1.0]],PARAMETER[\"Latitude_Of_Origin\",45.88333333,ANGLEUNIT[\"Degree\",0.0174532925199433]]],CS[Cartesian,2],AXIS[\"Easting (X)\",east,ORDER[1]],AXIS[\"Northing (Y)\",north,ORDER[2]],LENGTHUNIT[\"Foot_US\",0.3048006096012192]]",
   "wkt": "PROJCS[\"dc_4\",GEOGCS[\"GCS_douglas_cnty_geographic_coord_system\",DATUM[\"D_custom\",SPHEROID[\"douglas_county\",6378414.93,298.27021878]],PRIMEM[\"greenwich\",0.0],UNIT[\"Degree\",0.0174532925199433]],PROJECTION[\"Transverse_Mercator\"],PARAMETER[\"False_Easting\",194000.0],PARAMETER[\"False_Northing\",0.0],PARAMETER[\"Central_Meridian\",-91.91666667],PARAMETER[\"Scale_Factor\",0.999994968],PARAMETER[\"Latitude_Of_Origin\",45.88333333],UNIT[\"Foot_US\",0.3048006096012192]]"
  }
 },
 "fullExtent": {
  "xmin": 96834.4922249097,
  "ymin": 88939.54631523002,
  "xmax": 293660.4922249097,
  "ymax": 288265.54631523,
  "spatialReference": {
   "wkt2": "PROJCRS[\"dc_4\",BASEGEOGCRS[\"GCS_douglas_cnty_geographic_coord_system\",DATUM[\"D_custom\",ELLIPSOID[\"douglas_county\",6378414.93,298.27021878,LENGTHUNIT[\"Meter\",1.0]]],PRIMEM[\"greenwich\",0.0,ANGLEUNIT[\"Degree\",0.0174532925199433]],CS[ellipsoidal,2],ANGLEUNIT[\"Degree\",0.0174532925199433]],CONVERSION[\"Transverse_Mercator\",METHOD[\"Transverse_Mercator\"],PARAMETER[\"False_Easting\",194000.0,LENGTHUNIT[\"Foot_US\",0.3048006096012192]],PARAMETER[\"False_Northing\",0.0,LENGTHUNIT[\"Foot_US\",0.3048006096012192]],PARAMETER[\"Central_Meridian\",-91.91666667,ANGLEUNIT[\"Degree\",0.0174532925199433]],PARAMETER[\"Scale_Factor\",0.999994968,SCALEUNIT[\"Unity\",1.0]],PARAMETER[\"Latitude_Of_Origin\",45.88333333,ANGLEUNIT[\"Degree\",0.0174532925199433]]],CS[Cartesian,2],AXIS[\"Easting (X)\",east,ORDER[1]],AXIS[\"Northing (Y)\",north,ORDER[2]],LENGTHUNIT[\"Foot_US\",0.3048006096012192]]",
   "wkt": "PROJCS[\"dc_4\",GEOGCS[\"GCS_douglas_cnty_geographic_coord_system\",DATUM[\"D_custom\",SPHEROID[\"douglas_county\",6378414.93,298.27021878]],PRIMEM[\"greenwich\",0.0],UNIT[\"Degree\",0.0174532925199433]],PROJECTION[\"Transverse_Mercator\"],PARAMETER[\"False_Easting\",194000.0],PARAMETER[\"False_Northing\",0.0],PARAMETER[\"Central_Meridian\",-91.91666667],PARAMETER[\"Scale_Factor\",0.999994968],PARAMETER[\"Latitude_Of_Origin\",45.88333333],UNIT[\"Foot_US\",0.3048006096012192]]"
  }
 },
 "sortableFields": "",
 "bandCount": 3,
 "pixelType": "U8",
 "minValues": [
  0,
  0,
  0
 ],
 "maxValues": [
  255,
  255,
  248
 ],
 "meanValues": [
  92.869345676415,
  70.146749421418,
  66.593414685462
 ],
 "stdvValues": [
  78.568253870345,
  62.323158851587,
  57.629123533235
 ],
 "serviceProperties": "Center<\/MosaicMethod>First<\/MosaicOperator>true<\/SortAscending><\/LockImageID><\/TileOrderField>0<\/TileOrderBase>0.000000<\/AvgImageSpacingX>0.000000<\/AvgImageSpacingY>0.0<\/ViewPointX>0.0<\/ViewPointY>0.0<\/ViewPointDefShiftX>0.0<\/ViewPointDefShiftY>None<\/CompressionMethod>75<\/CompressionQuality>0.010000<\/CompressionTolerance>Bilinear<\/SamplingMethod><\/ImageServiceProperties><\/ImageServer>",
 "allowedFields": "",
 "hasMultidimensions": false,
 "pixelSizeX": 2,
 "pixelSizeY": 2,
 "meanPixelSize": 0.6096012192024385,
 "datasetFormat": "MrSID",
 "uncompressedSize": 29424404457,
 "blockWidth": 1024,
 "blockHeight": 128,
 "compressionType": "Wavelet (MG3)",
 "bandNames": [
  "Band_1",
  "Band_2",
  "Band_3"
 ],
 "allowCopy": true,
 "allowAnalysis": true,
 "itemAccess": false,
 "inspectionCapabilities": "",
 "minPixelSize": 0,
 "maxPixelSize": 0,
 "copyrightText": "",
 "serviceDataType": "esriImageServiceDataTypeRGB",
 "serviceSourceType": "esriImageServiceSourceTypeDataset",
 "objectIdField": "",
 "fields": [],
 "capabilities": "Image,Metadata,Mensuration",
 "defaultMosaicMethod": "Center",
 "allowedMosaicMethods": "",
 "sortField": "",
 "sortValue": null,
 "sortAscending": true,
 "mosaicOperator": "First",
 "defaultCompressionQuality": 75,
 "defaultResamplingMethod": "Bilinear",
 "maxImageHeight": 4100,
 "maxImageWidth": 15000,
 "allowRasterFunction": true,
 "rasterFunctionInfos": [
  {
   "name": "None",
   "description": "",
   "help": ""
  }
 ],
 "rasterTypeInfos": [
  {
   "name": "Raster Dataset",
   "description": "Supports all ArcGIS Raster Datasets",
   "help": ""
  }
 ],
 "mensurationCapabilities": "Basic",
 "hasHistograms": true,
 "hasColormap": false,
 "hasRasterAttributeTable": false,
 "minScale": 0,
 "maxScale": 0,
 "exportTilesAllowed": false,
 "supportsStatistics": false,
 "supportsAdvancedQueries": false,
 "editFieldsInfo": null,
 "ownershipBasedAccessControlForRasters": null,
 "allowComputeTiePoints": false,
 "useStandardizedQueries": true,
 "advancedQueryCapabilities": {
  "useStandardizedQueries": true,
  "supportsStatistics": false,
  "supportsOrderBy": false,
  "supportsDistinct": false,
  "supportsPagination": false
 },
 "spatialReference": {
  "wkt2": "PROJCRS[\"dc_4\",BASEGEOGCRS[\"GCS_douglas_cnty_geographic_coord_system\",DATUM[\"D_custom\",ELLIPSOID[\"douglas_county\",6378414.93,298.27021878,LENGTHUNIT[\"Meter\",1.0]]],PRIMEM[\"greenwich\",0.0,ANGLEUNIT[\"Degree\",0.0174532925199433]],CS[ellipsoidal,2],ANGLEUNIT[\"Degree\",0.0174532925199433]],CONVERSION[\"Transverse_Mercator\",METHOD[\"Transverse_Mercator\"],PARAMETER[\"False_Easting\",194000.0,LENGTHUNIT[\"Foot_US\",0.3048006096012192]],PARAMETER[\"False_Northing\",0.0,LENGTHUNIT[\"Foot_US\",0.3048006096012192]],PARAMETER[\"Central_Meridian\",-91.91666667,ANGLEUNIT[\"Degree\",0.0174532925199433]],PARAMETER[\"Scale_Factor\",0.999994968,SCALEUNIT[\"Unity\",1.0]],PARAMETER[\"Latitude_Of_Origin\",45.88333333,ANGLEUNIT[\"Degree\",0.0174532925199433]]],CS[Cartesian,2],AXIS[\"Easting (X)\",east,ORDER[1]],AXIS[\"Northing (Y)\",north,ORDER[2]],LENGTHUNIT[\"Foot_US\",0.3048006096012192]]",
  "wkt": "PROJCS[\"dc_4\",GEOGCS[\"GCS_douglas_cnty_geographic_coord_system\",DATUM[\"D_custom\",SPHEROID[\"douglas_county\",6378414.93,298.27021878]],PRIMEM[\"greenwich\",0.0],UNIT[\"Degree\",0.0174532925199433]],PROJECTION[\"Transverse_Mercator\"],PARAMETER[\"False_Easting\",194000.0],PARAMETER[\"False_Northing\",0.0],PARAMETER[\"Central_Meridian\",-91.91666667],PARAMETER[\"Scale_Factor\",0.999994968],PARAMETER[\"Latitude_Of_Origin\",45.88333333],UNIT[\"Foot_US\",0.3048006096012192]]"
 }
}
