View In:
ArcGIS JavaScript
ArcGIS Online Map Viewer
ArcGIS Earth
Service Description: rasters/dc_1986
Name: rasters/dc_1986
Description:
Single Fused Map Cache: false
Extent:
XMin: 92333.257559314
YMin: 98127.97545656201
XMax: 295261.561859314
YMax: 320108.129540562
Spatial Reference: 103909
(103909)
LatestVCSWkid(0)
Initial Extent:
XMin: 92333.257559314
YMin: 98127.97545656201
XMax: 295261.561859314
YMax: 320108.129540562
Spatial Reference: 103909
(103909)
LatestVCSWkid(0)
Full Extent:
XMin: 92333.257559314
YMin: 98127.97545656201
XMax: 295261.561859314
YMax: 320108.129540562
Spatial Reference: 103909
(103909)
LatestVCSWkid(0)
Pixel Size X: 1.0358769999999997
Pixel Size Y: 1.035877
Band Count: 1
Pixel Type: U8
RasterFunction Infos: {"rasterFunctionInfos": [{
"name": "None",
"description": "",
"help": ""
}]}
Mensuration Capabilities: Basic
Inspection Capabilities:
Has Histograms: true
Has Colormap: false
Has Multi Dimensions : false
Rendering Rule:
Min Scale: 0
Max Scale: 0
Copyright Text:
Service Data Type: esriImageServiceDataTypeGeneric
Min Values: 0
Max Values: 198
Mean Values: 114.97798742138
Standard Deviation Values: 43.386901912729
Object ID Field:
Fields:
None
Default Mosaic Method: Center
Allowed Mosaic Methods:
SortField:
SortValue: null
Mosaic Operator: First
Default Compression Quality: 75
Default Resampling Method: Bilinear
Max Record Count: null
Max Image Height: 4100
Max Image Width: 15000
Max Download Image Count: null
Max Mosaic Image Count: null
Allow Raster Function: true
Allow Copy: true
Allow Analysis: true
Allow Compute TiePoints: false
Supports Statistics: false
Supports Advanced Queries: false
Use StandardizedQueries: true
Raster Type Infos:
Name: Raster Dataset
Description: Supports all ArcGIS Raster Datasets
Help:
Has Raster Attribute Table: false
Edit Fields Info: null
Ownership Based AccessControl For Rasters: null
Child Resources:
Info
Histograms
Statistics
Key Properties
Legend
Raster Function Infos
Supported Operations:
Export Image
Identify
Measure
Compute Histograms
Compute Statistics Histograms
Get Samples
Compute Class Statistics
Query Boundary
Compute Pixel Location
Compute Angles
Validate
Project