{
 "currentVersion": 11.4,
 "serviceDescription": "rasters/dc_1986",
 "name": "rasters/dc_1986",
 "description": "",
 "extent": {
  "xmin": 92333.257559314,
  "ymin": 98127.97545656201,
  "xmax": 295261.561859314,
  "ymax": 320108.129540562,
  "spatialReference": {
   "wkid": 103909,
   "latestWkid": 103909
  }
 },
 "initialExtent": {
  "xmin": 92333.257559314,
  "ymin": 98127.97545656201,
  "xmax": 295261.561859314,
  "ymax": 320108.129540562,
  "spatialReference": {
   "wkid": 103909,
   "latestWkid": 103909
  }
 },
 "fullExtent": {
  "xmin": 92333.257559314,
  "ymin": 98127.97545656201,
  "xmax": 295261.561859314,
  "ymax": 320108.129540562,
  "spatialReference": {
   "wkid": 103909,
   "latestWkid": 103909
  }
 },
 "sortableFields": "",
 "bandCount": 1,
 "pixelType": "U8",
 "minValues": [
  0
 ],
 "maxValues": [
  198
 ],
 "meanValues": [
  114.97798742138
 ],
 "stdvValues": [
  43.386901912729
 ],
 "hasMultidimensions": false,
 "pixelSizeX": 1.0358769999999997,
 "pixelSizeY": 1.035877,
 "meanPixelSize": 0.3157359410718821,
 "datasetFormat": "MrSID",
 "uncompressedSize": 41979802800,
 "blockWidth": 1024,
 "blockHeight": 128,
 "compressionType": "Wavelet (MG3)",
 "bandNames": [
  "Band_1"
 ],
 "allowCopy": true,
 "allowAnalysis": true,
 "itemAccess": false,
 "inspectionCapabilities": "",
 "minPixelSize": 0,
 "maxPixelSize": 0,
 "copyrightText": "",
 "serviceDataType": "esriImageServiceDataTypeGeneric",
 "serviceSourceType": "esriImageServiceSourceTypeDataset",
 "objectIdField": "",
 "fields": [],
 "capabilities": "Image,Metadata,Mensuration",
 "defaultMosaicMethod": "Center",
 "allowedMosaicMethods": "",
 "sortField": "",
 "sortValue": null,
 "sortAscending": true,
 "mosaicOperator": "First",
 "defaultCompressionQuality": 75,
 "defaultResamplingMethod": "Bilinear",
 "maxImageHeight": 4100,
 "maxImageWidth": 15000,
 "allowRasterFunction": true,
 "rasterFunctionInfos": [
  {
   "name": "None",
   "description": "",
   "help": ""
  }
 ],
 "rasterTypeInfos": [
  {
   "name": "Raster Dataset",
   "description": "Supports all ArcGIS Raster Datasets",
   "help": ""
  }
 ],
 "mensurationCapabilities": "Basic",
 "hasHistograms": true,
 "hasColormap": false,
 "hasRasterAttributeTable": false,
 "minScale": 0,
 "maxScale": 0,
 "exportTilesAllowed": false,
 "supportsStatistics": false,
 "supportsAdvancedQueries": false,
 "editFieldsInfo": null,
 "ownershipBasedAccessControlForRasters": null,
 "allowComputeTiePoints": false,
 "useStandardizedQueries": true,
 "advancedQueryCapabilities": {
  "useStandardizedQueries": true,
  "supportsStatistics": false,
  "supportsOrderBy": false,
  "supportsDistinct": false,
  "supportsPagination": false
 },
 "spatialReference": {
  "wkid": 103909,
  "latestWkid": 103909
 }
}
