View In:
ArcGIS JavaScript
ArcGIS Online Map Viewer
ArcGIS Earth
Service Description: rasters/WIDOUG16_Delivery
Name: rasters/WIDOUG16_Delivery
Description:
Single Fused Map Cache: false
Extent:
XMin: 98490.0
YMin: 99894.0
XMax: 288570.0
YMax: 319014.0
Spatial Reference: PROJCS["GCS_WI_DOUGLAS",GEOGCS["GCS_unknown",DATUM["D_unknown",SPHEROID["unnamed",6378414.93,298.270216827128]],PRIMEM["Greenwich",0.0],UNIT["Degree",0.0174532925199433]],PROJECTION["Transverse_Mercator"],PARAMETER["False_Easting",194000.000122583],PARAMETER["False_Northing",0.0134514166666667],PARAMETER["Central_Meridian",-91.9166666666667],PARAMETER["Scale_Factor",1.0000385418],PARAMETER["Latitude_Of_Origin",45.8833333333333],UNIT["Foot_US",0.3048006096012192]]
Initial Extent:
XMin: 98490.0
YMin: 99894.0
XMax: 288570.0
YMax: 319014.0
Spatial Reference: PROJCS["GCS_WI_DOUGLAS",GEOGCS["GCS_unknown",DATUM["D_unknown",SPHEROID["unnamed",6378414.93,298.270216827128]],PRIMEM["Greenwich",0.0],UNIT["Degree",0.0174532925199433]],PROJECTION["Transverse_Mercator"],PARAMETER["False_Easting",194000.000122583],PARAMETER["False_Northing",0.0134514166666667],PARAMETER["Central_Meridian",-91.9166666666667],PARAMETER["Scale_Factor",1.0000385418],PARAMETER["Latitude_Of_Origin",45.8833333333333],UNIT["Foot_US",0.3048006096012192]]
Full Extent:
XMin: 98490.0
YMin: 99894.0
XMax: 288570.0
YMax: 319014.0
Spatial Reference: PROJCS["GCS_WI_DOUGLAS",GEOGCS["GCS_unknown",DATUM["D_unknown",SPHEROID["unnamed",6378414.93,298.270216827128]],PRIMEM["Greenwich",0.0],UNIT["Degree",0.0174532925199433]],PROJECTION["Transverse_Mercator"],PARAMETER["False_Easting",194000.000122583],PARAMETER["False_Northing",0.0134514166666667],PARAMETER["Central_Meridian",-91.9166666666667],PARAMETER["Scale_Factor",1.0000385418],PARAMETER["Latitude_Of_Origin",45.8833333333333],UNIT["Foot_US",0.3048006096012192]]
Pixel Size X: 0.5
Pixel Size Y: 0.5
Band Count: 3
Pixel Type: U8
RasterFunction Infos: {"rasterFunctionInfos": [{
"help": "",
"name": "None",
"description": ""
}]}
Mensuration Capabilities: Basic
Inspection Capabilities:
Has Histograms: true
Has Colormap: false
Has Multi Dimensions : false
Rendering Rule:
Min Scale: 0
Max Scale: 0
Copyright Text:
Service Data Type: esriImageServiceDataTypeRGB
Min Values: 0, 0, 23
Max Values: 255, 255, 255
Mean Values: 143.59298660362001, 133.58865248226999, 120.98108747045001
Standard Deviation Values: 43.267437418058002, 45.110111990318998, 48.727620965890999
Object ID Field:
Fields:
None
Default Mosaic Method: Center
Allowed Mosaic Methods:
SortField:
SortValue: N/A
Mosaic Operator: First
Default Compression Quality: 75
Default Resampling Method: Bilinear
Max Record Count: null
Max Image Height: 4100
Max Image Width: 15000
Max Download Image Count: null
Max Mosaic Image Count: null
Allow Raster Function: true
Allow Copy: true
Allow Analysis: true
Allow Compute TiePoints: false
Supports Statistics: false
Supports Advanced Queries: false
Use StandardizedQueries: false
Raster Type Infos:
Name: Raster Dataset
Description: Supports all ArcGIS Raster Datasets
Help:
Has Raster Attribute Table: false
Edit Fields Info: N/A
Ownership Based AccessControl For Rasters: N/A
Child Resources:
Info
Histograms
Statistics
Key Properties
Legend
Raster Function Infos
Supported Operations:
Export Image
Identify
Measure
Compute Histograms
Compute Statistics Histograms
Get Samples
Compute Class Statistics
Query Boundary
Compute Pixel Location
Compute Angles
Validate
Project