{
 "extent": {
  "ymin": 99894,
  "xmin": 98490,
  "ymax": 319014,
  "xmax": 288570,
  "spatialReference": {
   "wkt": "PROJCS[\"GCS_WI_DOUGLAS\",GEOGCS[\"GCS_unknown\",DATUM[\"D_unknown\",SPHEROID[\"unnamed\",6378414.93,298.270216827128]],PRIMEM[\"Greenwich\",0.0],UNIT[\"Degree\",0.0174532925199433]],PROJECTION[\"Transverse_Mercator\"],PARAMETER[\"False_Easting\",194000.000122583],PARAMETER[\"False_Northing\",0.0134514166666667],PARAMETER[\"Central_Meridian\",-91.9166666666667],PARAMETER[\"Scale_Factor\",1.0000385418],PARAMETER[\"Latitude_Of_Origin\",45.8833333333333],UNIT[\"Foot_US\",0.3048006096012192]]",
   "wkt2": "PROJCRS[\"GCS_WI_DOUGLAS\",BASEGEOGCRS[\"GCS_unknown\",DATUM[\"D_unknown\",ELLIPSOID[\"unnamed\",6378414.93,298.270216827128]],PRIMEM[\"Greenwich\",0.0],CS[ellipsoidal,2],ANGLEUNIT[\"Degree\",0.0174532925199433]],CONVERSION[\"Transverse_Mercator\",METHOD[\"Transverse_Mercator\"],PARAMETER[\"False_Easting\",194000.000122583,LENGTHUNIT[\"Foot_US\",0.3048006096012192]],PARAMETER[\"False_Northing\",0.0134514166666667,LENGTHUNIT[\"Foot_US\",0.3048006096012192]],PARAMETER[\"Central_Meridian\",-91.9166666666667],PARAMETER[\"Scale_Factor\",1.0000385418],PARAMETER[\"Latitude_Of_Origin\",45.8833333333333]],CS[Cartesian,2],AXIS[\"Easting (X)\",east,ORDER[1]],AXIS[\"Northing (Y)\",north,ORDER[2]],LENGTHUNIT[\"Foot_US\",0.3048006096012192]]"
  }
 },
 "blockWidth": 1024,
 "mosaicOperator": "First",
 "serviceSourceType": "esriImageServiceSourceTypeDataset",
 "hasMultidimensions": false,
 "maxImageWidth": 15000,
 "meanValues": [
  143.59298660362001,
  133.58865248226999,
  120.98108747045001
 ],
 "hasColormap": false,
 "compressionType": "Wavelet (MG3)",
 "defaultCompressionQuality": 75,
 "maxValues": [
  255,
  255,
  255
 ],
 "hasHistograms": true,
 "datasetFormat": "MrSID",
 "maxImageHeight": 4100,
 "sortField": "",
 "bandNames": [
  "Band_1",
  "Band_2",
  "Band_3"
 ],
 "spatialReference": {
  "wkt": "PROJCS[\"GCS_WI_DOUGLAS\",GEOGCS[\"GCS_unknown\",DATUM[\"D_unknown\",SPHEROID[\"unnamed\",6378414.93,298.270216827128]],PRIMEM[\"Greenwich\",0.0],UNIT[\"Degree\",0.0174532925199433]],PROJECTION[\"Transverse_Mercator\"],PARAMETER[\"False_Easting\",194000.000122583],PARAMETER[\"False_Northing\",0.0134514166666667],PARAMETER[\"Central_Meridian\",-91.9166666666667],PARAMETER[\"Scale_Factor\",1.0000385418],PARAMETER[\"Latitude_Of_Origin\",45.8833333333333],UNIT[\"Foot_US\",0.3048006096012192]]",
  "wkt2": "PROJCRS[\"GCS_WI_DOUGLAS\",BASEGEOGCRS[\"GCS_unknown\",DATUM[\"D_unknown\",ELLIPSOID[\"unnamed\",6378414.93,298.270216827128]],PRIMEM[\"Greenwich\",0.0],CS[ellipsoidal,2],ANGLEUNIT[\"Degree\",0.0174532925199433]],CONVERSION[\"Transverse_Mercator\",METHOD[\"Transverse_Mercator\"],PARAMETER[\"False_Easting\",194000.000122583,LENGTHUNIT[\"Foot_US\",0.3048006096012192]],PARAMETER[\"False_Northing\",0.0134514166666667,LENGTHUNIT[\"Foot_US\",0.3048006096012192]],PARAMETER[\"Central_Meridian\",-91.9166666666667],PARAMETER[\"Scale_Factor\",1.0000385418],PARAMETER[\"Latitude_Of_Origin\",45.8833333333333]],CS[Cartesian,2],AXIS[\"Easting (X)\",east,ORDER[1]],AXIS[\"Northing (Y)\",north,ORDER[2]],LENGTHUNIT[\"Foot_US\",0.3048006096012192]]"
 },
 "fullExtent": {
  "ymin": 99894,
  "xmin": 98490,
  "ymax": 319014,
  "xmax": 288570,
  "spatialReference": {
   "wkt": "PROJCS[\"GCS_WI_DOUGLAS\",GEOGCS[\"GCS_unknown\",DATUM[\"D_unknown\",SPHEROID[\"unnamed\",6378414.93,298.270216827128]],PRIMEM[\"Greenwich\",0.0],UNIT[\"Degree\",0.0174532925199433]],PROJECTION[\"Transverse_Mercator\"],PARAMETER[\"False_Easting\",194000.000122583],PARAMETER[\"False_Northing\",0.0134514166666667],PARAMETER[\"Central_Meridian\",-91.9166666666667],PARAMETER[\"Scale_Factor\",1.0000385418],PARAMETER[\"Latitude_Of_Origin\",45.8833333333333],UNIT[\"Foot_US\",0.3048006096012192]]",
   "wkt2": "PROJCRS[\"GCS_WI_DOUGLAS\",BASEGEOGCRS[\"GCS_unknown\",DATUM[\"D_unknown\",ELLIPSOID[\"unnamed\",6378414.93,298.270216827128]],PRIMEM[\"Greenwich\",0.0],CS[ellipsoidal,2],ANGLEUNIT[\"Degree\",0.0174532925199433]],CONVERSION[\"Transverse_Mercator\",METHOD[\"Transverse_Mercator\"],PARAMETER[\"False_Easting\",194000.000122583,LENGTHUNIT[\"Foot_US\",0.3048006096012192]],PARAMETER[\"False_Northing\",0.0134514166666667,LENGTHUNIT[\"Foot_US\",0.3048006096012192]],PARAMETER[\"Central_Meridian\",-91.9166666666667],PARAMETER[\"Scale_Factor\",1.0000385418],PARAMETER[\"Latitude_Of_Origin\",45.8833333333333]],CS[Cartesian,2],AXIS[\"Easting (X)\",east,ORDER[1]],AXIS[\"Northing (Y)\",north,ORDER[2]],LENGTHUNIT[\"Foot_US\",0.3048006096012192]]"
  }
 },
 "bandCount": 3,
 "rasterFunctionInfos": [
  {
   "help": "",
   "name": "None",
   "description": ""
  }
 ],
 "supportsStatistics": false,
 "sortableFields": "",
 "minValues": [
  0,
  0,
  23
 ],
 "allowRasterFunction": true,
 "allowComputeTiePoints": false,
 "serviceDataType": "esriImageServiceDataTypeRGB",
 "supportsAdvancedQueries": false,
 "currentVersion": 12.1,
 "sortValue": null,
 "objectIdField": "",
 "blockHeight": 128,
 "initialExtent": {
  "ymin": 99894,
  "xmin": 98490,
  "ymax": 319014,
  "xmax": 288570,
  "spatialReference": {
   "wkt": "PROJCS[\"GCS_WI_DOUGLAS\",GEOGCS[\"GCS_unknown\",DATUM[\"D_unknown\",SPHEROID[\"unnamed\",6378414.93,298.270216827128]],PRIMEM[\"Greenwich\",0.0],UNIT[\"Degree\",0.0174532925199433]],PROJECTION[\"Transverse_Mercator\"],PARAMETER[\"False_Easting\",194000.000122583],PARAMETER[\"False_Northing\",0.0134514166666667],PARAMETER[\"Central_Meridian\",-91.9166666666667],PARAMETER[\"Scale_Factor\",1.0000385418],PARAMETER[\"Latitude_Of_Origin\",45.8833333333333],UNIT[\"Foot_US\",0.3048006096012192]]",
   "wkt2": "PROJCRS[\"GCS_WI_DOUGLAS\",BASEGEOGCRS[\"GCS_unknown\",DATUM[\"D_unknown\",ELLIPSOID[\"unnamed\",6378414.93,298.270216827128]],PRIMEM[\"Greenwich\",0.0],CS[ellipsoidal,2],ANGLEUNIT[\"Degree\",0.0174532925199433]],CONVERSION[\"Transverse_Mercator\",METHOD[\"Transverse_Mercator\"],PARAMETER[\"False_Easting\",194000.000122583,LENGTHUNIT[\"Foot_US\",0.3048006096012192]],PARAMETER[\"False_Northing\",0.0134514166666667,LENGTHUNIT[\"Foot_US\",0.3048006096012192]],PARAMETER[\"Central_Meridian\",-91.9166666666667],PARAMETER[\"Scale_Factor\",1.0000385418],PARAMETER[\"Latitude_Of_Origin\",45.8833333333333]],CS[Cartesian,2],AXIS[\"Easting (X)\",east,ORDER[1]],AXIS[\"Northing (Y)\",north,ORDER[2]],LENGTHUNIT[\"Foot_US\",0.3048006096012192]]"
  }
 },
 "pixelSizeX": 0.5,
 "pixelSizeY": 0.5,
 "defaultMosaicMethod": "Center",
 "name": "rasters/WIDOUG16_Delivery",
 "allowedMosaicMethods": "",
 "fields": [],
 "allowAnalysis": true,
 "hasRasterAttributeTable": false,
 "useStandardizedQueries": false,
 "description": "",
 "pixelType": "U8",
 "meanPixelSize": 0.15240030480060962,
 "exportTilesAllowed": false,
 "editFieldsInfo": null,
 "rasterTypeInfos": [
  {
   "help": "",
   "name": "Raster Dataset",
   "description": "Supports all ArcGIS Raster Datasets"
  }
 ],
 "defaultResamplingMethod": "Bilinear",
 "itemAccess": false,
 "minScale": 0,
 "serviceProperties": "Center<\/MosaicMethod>First<\/MosaicOperator>true<\/SortAscending><\/LockImageID><\/TileOrderField>0<\/TileOrderBase>0.000000<\/AvgImageSpacingX>0.000000<\/AvgImageSpacingY>0.0<\/ViewPointX>0.0<\/ViewPointY>0.0<\/ViewPointDefShiftX>0.0<\/ViewPointDefShiftY>None<\/CompressionMethod>75<\/CompressionQuality>0.010000<\/CompressionTolerance>Bilinear<\/SamplingMethod><\/ImageServiceProperties><\/ImageServer>",
 "advancedQueryCapabilities": {
  "supportsStatistics": false,
  "supportsSqlExpression": false,
  "supportsOrderBy": false,
  "useStandardizedQueries": false,
  "supportsPagination": false,
  "supportsDistinct": false
 },
 "serviceItemId": "2a8c56a0e21646b08e151f220aa09a1e",
 "capabilities": "Image,Metadata,Mensuration",
 "maxScale": 0,
 "stdvValues": [
  43.267437418058002,
  45.110111990318998,
  48.727620965890999
 ],
 "allowedFields": "",
 "minPixelSize": 0,
 "sortAscending": true,
 "inspectionCapabilities": "",
 "maxPixelSize": 0,
 "allowedCompressions": "None,JPEG,LZ77,LERC",
 "uncompressedSize": 499803955200,
 "serviceDescription": "rasters/WIDOUG16_Delivery",
 "allowCopy": true,
 "copyrightText": "",
 "mensurationCapabilities": "Basic",
 "ownershipBasedAccessControlForRasters": null
}
