View In:
ArcGIS JavaScript
ArcGIS Online Map Viewer
ArcGIS Earth
Service Description: rasters/2016_Superior_3inch
Name: rasters/2016_Superior_3inch
Description:
Single Fused Map Cache: false
Extent:
XMin: 123812.25
YMin: 278587.25
XMax: 193039.25
YMax: 315613.0
Spatial Reference: PROJCS["Douglas_County_WISCRS",GEOGCS["GCS_NAD83_1986",DATUM["D_North_American_1983",SPHEROID["GRS_1980",6378137.0,298.257222101]],PRIMEM["Greenwich",0.0],UNIT["Degree",0.0174532925199433]],PROJECTION["Transverse_Mercator"],PARAMETER["False_Easting",194000.000122581],PARAMETER["False_Northing",0.0134514166666665],PARAMETER["Central_Meridian",-91.916666666667],PARAMETER["Scale_Factor",1.0000385418],PARAMETER["Latitude_Of_Origin",45.883333333333],UNIT["Foot_US",0.3048006096012192]]
Initial Extent:
XMin: 123812.25
YMin: 278587.25
XMax: 193039.25
YMax: 315613.0
Spatial Reference: PROJCS["Douglas_County_WISCRS",GEOGCS["GCS_NAD83_1986",DATUM["D_North_American_1983",SPHEROID["GRS_1980",6378137.0,298.257222101]],PRIMEM["Greenwich",0.0],UNIT["Degree",0.0174532925199433]],PROJECTION["Transverse_Mercator"],PARAMETER["False_Easting",194000.000122581],PARAMETER["False_Northing",0.0134514166666665],PARAMETER["Central_Meridian",-91.916666666667],PARAMETER["Scale_Factor",1.0000385418],PARAMETER["Latitude_Of_Origin",45.883333333333],UNIT["Foot_US",0.3048006096012192]]
Full Extent:
XMin: 123812.25
YMin: 278587.25
XMax: 193039.25
YMax: 315613.0
Spatial Reference: PROJCS["Douglas_County_WISCRS",GEOGCS["GCS_NAD83_1986",DATUM["D_North_American_1983",SPHEROID["GRS_1980",6378137.0,298.257222101]],PRIMEM["Greenwich",0.0],UNIT["Degree",0.0174532925199433]],PROJECTION["Transverse_Mercator"],PARAMETER["False_Easting",194000.000122581],PARAMETER["False_Northing",0.0134514166666665],PARAMETER["Central_Meridian",-91.916666666667],PARAMETER["Scale_Factor",1.0000385418],PARAMETER["Latitude_Of_Origin",45.883333333333],UNIT["Foot_US",0.3048006096012192]]
Pixel Size X: 0.25
Pixel Size Y: 0.25
Band Count: 3
Pixel Type: U8
RasterFunction Infos: {"rasterFunctionInfos": [{
"help": "",
"name": "None",
"description": ""
}]}
Mensuration Capabilities: Basic
Inspection Capabilities:
Has Histograms: true
Has Colormap: false
Has Multi Dimensions : false
Rendering Rule:
Min Scale: 0
Max Scale: 0
Copyright Text:
Service Data Type: esriImageServiceDataTypeRGB
Min Values: 30, 14, 8
Max Values: 255, 255, 255
Mean Values: 181.89864864865001, 170.45230524642, 154.61883942765999
Standard Deviation Values: 63.075815395760003, 70.222645231228, 81.435382781469002
Object ID Field:
Fields:
None
Default Mosaic Method: Center
Allowed Mosaic Methods:
SortField:
SortValue: N/A
Mosaic Operator: First
Default Compression Quality: 75
Default Resampling Method: Bilinear
Max Record Count: null
Max Image Height: 4100
Max Image Width: 15000
Max Download Image Count: null
Max Mosaic Image Count: null
Allow Raster Function: true
Allow Copy: true
Allow Analysis: true
Allow Compute TiePoints: false
Supports Statistics: false
Supports Advanced Queries: false
Use StandardizedQueries: false
Raster Type Infos:
Name: Raster Dataset
Description: Supports all ArcGIS Raster Datasets
Help:
Has Raster Attribute Table: false
Edit Fields Info: N/A
Ownership Based AccessControl For Rasters: N/A
Child Resources:
Info
Histograms
Statistics
Key Properties
Legend
Raster Function Infos
Supported Operations:
Export Image
Identify
Measure
Compute Histograms
Compute Statistics Histograms
Get Samples
Compute Class Statistics
Query Boundary
Compute Pixel Location
Compute Angles
Validate
Project