{
 "extent": {
  "ymin": 278587.25,
  "xmin": 123812.25,
  "ymax": 315613,
  "xmax": 193039.25,
  "spatialReference": {
   "wkt": "PROJCS[\"Douglas_County_WISCRS\",GEOGCS[\"GCS_NAD83_1986\",DATUM[\"D_North_American_1983\",SPHEROID[\"GRS_1980\",6378137.0,298.257222101]],PRIMEM[\"Greenwich\",0.0],UNIT[\"Degree\",0.0174532925199433]],PROJECTION[\"Transverse_Mercator\"],PARAMETER[\"False_Easting\",194000.000122581],PARAMETER[\"False_Northing\",0.0134514166666665],PARAMETER[\"Central_Meridian\",-91.916666666667],PARAMETER[\"Scale_Factor\",1.0000385418],PARAMETER[\"Latitude_Of_Origin\",45.883333333333],UNIT[\"Foot_US\",0.3048006096012192]]",
   "wkt2": "PROJCRS[\"Douglas_County_WISCRS\",BASEGEOGCRS[\"GCS_NAD83_1986\",DATUM[\"D_North_American_1983\",ELLIPSOID[\"GRS_1980\",6378137.0,298.257222101]],PRIMEM[\"Greenwich\",0.0],CS[ellipsoidal,2],ANGLEUNIT[\"Degree\",0.0174532925199433]],CONVERSION[\"Transverse_Mercator\",METHOD[\"Transverse_Mercator\"],PARAMETER[\"False_Easting\",194000.000122581,LENGTHUNIT[\"Foot_US\",0.3048006096012192]],PARAMETER[\"False_Northing\",0.0134514166666665,LENGTHUNIT[\"Foot_US\",0.3048006096012192]],PARAMETER[\"Central_Meridian\",-91.916666666667],PARAMETER[\"Scale_Factor\",1.0000385418],PARAMETER[\"Latitude_Of_Origin\",45.883333333333]],CS[Cartesian,2],AXIS[\"Easting (X)\",east,ORDER[1]],AXIS[\"Northing (Y)\",north,ORDER[2]],LENGTHUNIT[\"Foot_US\",0.3048006096012192]]"
  }
 },
 "blockWidth": 1024,
 "mosaicOperator": "First",
 "serviceSourceType": "esriImageServiceSourceTypeDataset",
 "hasMultidimensions": false,
 "maxImageWidth": 15000,
 "meanValues": [
  181.89864864865001,
  170.45230524642,
  154.61883942765999
 ],
 "hasColormap": false,
 "compressionType": "Wavelet (MG3)",
 "defaultCompressionQuality": 75,
 "maxValues": [
  255,
  255,
  255
 ],
 "hasHistograms": true,
 "datasetFormat": "MrSID",
 "maxImageHeight": 4100,
 "sortField": "",
 "bandNames": [
  "Band_1",
  "Band_2",
  "Band_3"
 ],
 "spatialReference": {
  "wkt": "PROJCS[\"Douglas_County_WISCRS\",GEOGCS[\"GCS_NAD83_1986\",DATUM[\"D_North_American_1983\",SPHEROID[\"GRS_1980\",6378137.0,298.257222101]],PRIMEM[\"Greenwich\",0.0],UNIT[\"Degree\",0.0174532925199433]],PROJECTION[\"Transverse_Mercator\"],PARAMETER[\"False_Easting\",194000.000122581],PARAMETER[\"False_Northing\",0.0134514166666665],PARAMETER[\"Central_Meridian\",-91.916666666667],PARAMETER[\"Scale_Factor\",1.0000385418],PARAMETER[\"Latitude_Of_Origin\",45.883333333333],UNIT[\"Foot_US\",0.3048006096012192]]",
  "wkt2": "PROJCRS[\"Douglas_County_WISCRS\",BASEGEOGCRS[\"GCS_NAD83_1986\",DATUM[\"D_North_American_1983\",ELLIPSOID[\"GRS_1980\",6378137.0,298.257222101]],PRIMEM[\"Greenwich\",0.0],CS[ellipsoidal,2],ANGLEUNIT[\"Degree\",0.0174532925199433]],CONVERSION[\"Transverse_Mercator\",METHOD[\"Transverse_Mercator\"],PARAMETER[\"False_Easting\",194000.000122581,LENGTHUNIT[\"Foot_US\",0.3048006096012192]],PARAMETER[\"False_Northing\",0.0134514166666665,LENGTHUNIT[\"Foot_US\",0.3048006096012192]],PARAMETER[\"Central_Meridian\",-91.916666666667],PARAMETER[\"Scale_Factor\",1.0000385418],PARAMETER[\"Latitude_Of_Origin\",45.883333333333]],CS[Cartesian,2],AXIS[\"Easting (X)\",east,ORDER[1]],AXIS[\"Northing (Y)\",north,ORDER[2]],LENGTHUNIT[\"Foot_US\",0.3048006096012192]]"
 },
 "fullExtent": {
  "ymin": 278587.25,
  "xmin": 123812.25,
  "ymax": 315613,
  "xmax": 193039.25,
  "spatialReference": {
   "wkt": "PROJCS[\"Douglas_County_WISCRS\",GEOGCS[\"GCS_NAD83_1986\",DATUM[\"D_North_American_1983\",SPHEROID[\"GRS_1980\",6378137.0,298.257222101]],PRIMEM[\"Greenwich\",0.0],UNIT[\"Degree\",0.0174532925199433]],PROJECTION[\"Transverse_Mercator\"],PARAMETER[\"False_Easting\",194000.000122581],PARAMETER[\"False_Northing\",0.0134514166666665],PARAMETER[\"Central_Meridian\",-91.916666666667],PARAMETER[\"Scale_Factor\",1.0000385418],PARAMETER[\"Latitude_Of_Origin\",45.883333333333],UNIT[\"Foot_US\",0.3048006096012192]]",
   "wkt2": "PROJCRS[\"Douglas_County_WISCRS\",BASEGEOGCRS[\"GCS_NAD83_1986\",DATUM[\"D_North_American_1983\",ELLIPSOID[\"GRS_1980\",6378137.0,298.257222101]],PRIMEM[\"Greenwich\",0.0],CS[ellipsoidal,2],ANGLEUNIT[\"Degree\",0.0174532925199433]],CONVERSION[\"Transverse_Mercator\",METHOD[\"Transverse_Mercator\"],PARAMETER[\"False_Easting\",194000.000122581,LENGTHUNIT[\"Foot_US\",0.3048006096012192]],PARAMETER[\"False_Northing\",0.0134514166666665,LENGTHUNIT[\"Foot_US\",0.3048006096012192]],PARAMETER[\"Central_Meridian\",-91.916666666667],PARAMETER[\"Scale_Factor\",1.0000385418],PARAMETER[\"Latitude_Of_Origin\",45.883333333333]],CS[Cartesian,2],AXIS[\"Easting (X)\",east,ORDER[1]],AXIS[\"Northing (Y)\",north,ORDER[2]],LENGTHUNIT[\"Foot_US\",0.3048006096012192]]"
  }
 },
 "bandCount": 3,
 "rasterFunctionInfos": [
  {
   "help": "",
   "name": "None",
   "description": ""
  }
 ],
 "supportsStatistics": false,
 "sortableFields": "",
 "minValues": [
  30,
  14,
  8
 ],
 "allowRasterFunction": true,
 "allowComputeTiePoints": false,
 "serviceDataType": "esriImageServiceDataTypeRGB",
 "supportsAdvancedQueries": false,
 "currentVersion": 12.1,
 "sortValue": null,
 "objectIdField": "",
 "blockHeight": 128,
 "initialExtent": {
  "ymin": 278587.25,
  "xmin": 123812.25,
  "ymax": 315613,
  "xmax": 193039.25,
  "spatialReference": {
   "wkt": "PROJCS[\"Douglas_County_WISCRS\",GEOGCS[\"GCS_NAD83_1986\",DATUM[\"D_North_American_1983\",SPHEROID[\"GRS_1980\",6378137.0,298.257222101]],PRIMEM[\"Greenwich\",0.0],UNIT[\"Degree\",0.0174532925199433]],PROJECTION[\"Transverse_Mercator\"],PARAMETER[\"False_Easting\",194000.000122581],PARAMETER[\"False_Northing\",0.0134514166666665],PARAMETER[\"Central_Meridian\",-91.916666666667],PARAMETER[\"Scale_Factor\",1.0000385418],PARAMETER[\"Latitude_Of_Origin\",45.883333333333],UNIT[\"Foot_US\",0.3048006096012192]]",
   "wkt2": "PROJCRS[\"Douglas_County_WISCRS\",BASEGEOGCRS[\"GCS_NAD83_1986\",DATUM[\"D_North_American_1983\",ELLIPSOID[\"GRS_1980\",6378137.0,298.257222101]],PRIMEM[\"Greenwich\",0.0],CS[ellipsoidal,2],ANGLEUNIT[\"Degree\",0.0174532925199433]],CONVERSION[\"Transverse_Mercator\",METHOD[\"Transverse_Mercator\"],PARAMETER[\"False_Easting\",194000.000122581,LENGTHUNIT[\"Foot_US\",0.3048006096012192]],PARAMETER[\"False_Northing\",0.0134514166666665,LENGTHUNIT[\"Foot_US\",0.3048006096012192]],PARAMETER[\"Central_Meridian\",-91.916666666667],PARAMETER[\"Scale_Factor\",1.0000385418],PARAMETER[\"Latitude_Of_Origin\",45.883333333333]],CS[Cartesian,2],AXIS[\"Easting (X)\",east,ORDER[1]],AXIS[\"Northing (Y)\",north,ORDER[2]],LENGTHUNIT[\"Foot_US\",0.3048006096012192]]"
  }
 },
 "pixelSizeX": 0.25,
 "pixelSizeY": 0.25,
 "defaultMosaicMethod": "Center",
 "name": "rasters/2016_Superior_3inch",
 "allowedMosaicMethods": "",
 "fields": [],
 "allowAnalysis": true,
 "hasRasterAttributeTable": false,
 "useStandardizedQueries": false,
 "description": "",
 "pixelType": "U8",
 "meanPixelSize": 0.07620015240030481,
 "exportTilesAllowed": false,
 "editFieldsInfo": null,
 "rasterTypeInfos": [
  {
   "help": "",
   "name": "Raster Dataset",
   "description": "Supports all ArcGIS Raster Datasets"
  }
 ],
 "defaultResamplingMethod": "Bilinear",
 "itemAccess": false,
 "minScale": 0,
 "serviceProperties": "Center<\/MosaicMethod>First<\/MosaicOperator>true<\/SortAscending><\/LockImageID><\/TileOrderField>0<\/TileOrderBase>0.000000<\/AvgImageSpacingX>0.000000<\/AvgImageSpacingY>0.0<\/ViewPointX>0.0<\/ViewPointY>0.0<\/ViewPointDefShiftX>0.0<\/ViewPointDefShiftY>None<\/CompressionMethod>75<\/CompressionQuality>0.010000<\/CompressionTolerance>Bilinear<\/SamplingMethod><\/ImageServiceProperties><\/ImageServer>",
 "advancedQueryCapabilities": {
  "supportsStatistics": false,
  "supportsSqlExpression": false,
  "supportsOrderBy": false,
  "useStandardizedQueries": false,
  "supportsPagination": false,
  "supportsDistinct": false
 },
 "serviceItemId": "2a450702434c4b91aad04d52c0242f9c",
 "capabilities": "Image,Metadata,Mensuration",
 "maxScale": 0,
 "stdvValues": [
  63.075815395760003,
  70.222645231228,
  81.435382781469002
 ],
 "allowedFields": "",
 "minPixelSize": 0,
 "noDataValues": [
  255,
  255,
  255
 ],
 "sortAscending": true,
 "inspectionCapabilities": "",
 "maxPixelSize": 0,
 "noDataValue": 255,
 "allowedCompressions": "None,JPEG,LZ77,LERC",
 "uncompressedSize": 123032716572,
 "serviceDescription": "rasters/2016_Superior_3inch",
 "allowCopy": true,
 "copyrightText": "",
 "mensurationCapabilities": "Basic",
 "ownershipBasedAccessControlForRasters": null
}
