View In:
ArcGIS JavaScript
ArcGIS Online Map Viewer
ArcGIS Earth
Service Description: DEM3ft
Name: DEM3ft
Description:
Single Fused Map Cache: false
Extent:
XMin: 121356.2919482924
YMin: 278722.9019713998
XMax: 190254.2919482924
YMax: 315988.9019713998
Spatial Reference: 103415
(8182)
VCSWkid(105703)
LatestVCSWkid(6360)
Initial Extent:
XMin: 121356.2919482924
YMin: 278722.9019713998
XMax: 190254.2919482924
YMax: 315988.9019713998
Spatial Reference: 103415
(8182)
VCSWkid(105703)
LatestVCSWkid(6360)
Full Extent:
XMin: 121356.2919482924
YMin: 278722.9019713998
XMax: 190254.2919482924
YMax: 315988.9019713998
Spatial Reference: 103415
(8182)
VCSWkid(105703)
LatestVCSWkid(6360)
Pixel Size X: 3.0
Pixel Size Y: 3.0
Band Count: 1
Pixel Type: F32
RasterFunction Infos: {"rasterFunctionInfos": [{
"help": "",
"name": "None",
"description": ""
}]}
Mensuration Capabilities: Basic
Inspection Capabilities:
Has Histograms: true
Has Colormap: false
Has Multi Dimensions : false
Rendering Rule:
Min Scale: 0
Max Scale: 0
Copyright Text:
Service Data Type: esriImageServiceDataTypeGeneric
Min Values: 579.58349609375
Max Values: 772.23974609375
Mean Values: 637.11339317158001
Standard Deviation Values: 25.510549077667001
Object ID Field:
Fields:
None
Default Mosaic Method: Center
Allowed Mosaic Methods:
SortField:
SortValue: N/A
Mosaic Operator: First
Default Compression Quality: 75
Default Resampling Method: Bilinear
Max Record Count: null
Max Image Height: 4100
Max Image Width: 15000
Max Download Image Count: null
Max Mosaic Image Count: null
Allow Raster Function: true
Allow Copy: true
Allow Analysis: true
Allow Compute TiePoints: false
Supports Statistics: false
Supports Advanced Queries: false
Use StandardizedQueries: false
Raster Type Infos:
Name: Raster Dataset
Description: Supports all ArcGIS Raster Datasets
Help:
Has Raster Attribute Table: false
Edit Fields Info: N/A
Ownership Based AccessControl For Rasters: N/A
Child Resources:
Info
Histograms
Statistics
Key Properties
Legend
Raster Function Infos
Supported Operations:
Export Image
Identify
Measure
Compute Histograms
Compute Statistics Histograms
Get Samples
Compute Class Statistics
Query Boundary
Compute Pixel Location
Compute Angles
Validate
Project