{
 "extent": {
  "ymin": 278722.90197139978,
  "xmin": 121356.2919482924,
  "ymax": 315988.90197139978,
  "xmax": 190254.2919482924,
  "spatialReference": {
   "latestVcsWkid": 6360,
   "latestWkid": 8182,
   "wkid": 103415,
   "vcsWkid": 105703
  }
 },
 "blockWidth": 128,
 "mosaicOperator": "First",
 "serviceSourceType": "esriImageServiceSourceTypeDataset",
 "hasMultidimensions": false,
 "maxImageWidth": 15000,
 "meanValues": [
  637.11339317158001
 ],
 "hasColormap": false,
 "compressionType": "LZW",
 "defaultCompressionQuality": 75,
 "maxValues": [
  772.23974609375
 ],
 "hasHistograms": true,
 "datasetFormat": "TIFF",
 "maxImageHeight": 4100,
 "sortField": "",
 "bandNames": [
  "Band_1"
 ],
 "spatialReference": {
  "latestVcsWkid": 6360,
  "latestWkid": 8182,
  "wkid": 103415,
  "vcsWkid": 105703
 },
 "fullExtent": {
  "ymin": 278722.90197139978,
  "xmin": 121356.2919482924,
  "ymax": 315988.90197139978,
  "xmax": 190254.2919482924,
  "spatialReference": {
   "latestVcsWkid": 6360,
   "latestWkid": 8182,
   "wkid": 103415,
   "vcsWkid": 105703
  }
 },
 "bandCount": 1,
 "rasterFunctionInfos": [
  {
   "help": "",
   "name": "None",
   "description": ""
  }
 ],
 "supportsStatistics": false,
 "sortableFields": "",
 "minValues": [
  579.58349609375
 ],
 "allowRasterFunction": true,
 "allowComputeTiePoints": false,
 "serviceDataType": "esriImageServiceDataTypeGeneric",
 "supportsAdvancedQueries": false,
 "currentVersion": 12.1,
 "heightModelInfo": {
  "vertCRS": "NAVD88_height_(ftUS)",
  "heightModel": "gravity_related_height",
  "heightUnit": "us-foot"
 },
 "sortValue": null,
 "objectIdField": "",
 "blockHeight": 128,
 "initialExtent": {
  "ymin": 278722.90197139978,
  "xmin": 121356.2919482924,
  "ymax": 315988.90197139978,
  "xmax": 190254.2919482924,
  "spatialReference": {
   "latestVcsWkid": 6360,
   "latestWkid": 8182,
   "wkid": 103415,
   "vcsWkid": 105703
  }
 },
 "pixelSizeX": 3,
 "pixelSizeY": 3,
 "defaultMosaicMethod": "Center",
 "name": "DEM3ft",
 "allowedMosaicMethods": "",
 "fields": [],
 "allowAnalysis": true,
 "hasRasterAttributeTable": false,
 "useStandardizedQueries": false,
 "description": "",
 "pixelType": "F32",
 "meanPixelSize": 0.91440182880365772,
 "exportTilesAllowed": false,
 "editFieldsInfo": null,
 "rasterTypeInfos": [
  {
   "help": "",
   "name": "Raster Dataset",
   "description": "Supports all ArcGIS Raster Datasets"
  }
 ],
 "defaultResamplingMethod": "Bilinear",
 "itemAccess": false,
 "minScale": 0,
 "serviceProperties": "Center<\/MosaicMethod>First<\/MosaicOperator>true<\/SortAscending><\/LockImageID><\/TileOrderField>0<\/TileOrderBase>0.000000<\/AvgImageSpacingX>0.000000<\/AvgImageSpacingY>0.0<\/ViewPointX>0.0<\/ViewPointY>0.0<\/ViewPointDefShiftX>0.0<\/ViewPointDefShiftY>None<\/CompressionMethod>75<\/CompressionQuality>0.010000<\/CompressionTolerance>Bilinear<\/SamplingMethod><\/ImageServiceProperties><\/ImageServer>",
 "advancedQueryCapabilities": {
  "supportsStatistics": false,
  "supportsSqlExpression": false,
  "supportsOrderBy": false,
  "useStandardizedQueries": false,
  "supportsPagination": false,
  "supportsDistinct": false
 },
 "serviceItemId": "34a3bea9e877417ca9b167e6b6414c8b",
 "capabilities": "Image,Metadata,Mensuration",
 "maxScale": 0,
 "stdvValues": [
  25.510549077667001
 ],
 "allowedFields": "",
 "minPixelSize": 0,
 "noDataValues": [
  -3.4028230607370965E+38
 ],
 "sortAscending": true,
 "inspectionCapabilities": "",
 "maxPixelSize": 0,
 "noDataValue": -3.4028230607370965E+38,
 "allowedCompressions": "None,JPEG,LZ77,LERC",
 "uncompressedSize": 1141134608,
 "serviceDescription": "DEM3ft",
 "allowCopy": true,
 "copyrightText": "",
 "mensurationCapabilities": "Basic",
 "ownershipBasedAccessControlForRasters": null
}
