View In:
ArcGIS JavaScript
ArcGIS Online Map Viewer
ArcGIS Earth
Service Description: 2013Aerials/WIDOUG050060
Name: 2013Aerials/WIDOUG050060
Description:
Single Fused Map Cache: false
Extent:
XMin: 187675.23571777344
YMin: 162428.8225079085
XMax: 257325.9016879326
YMax: 194795.15551757812
Spatial Reference: 103415
(8182)
Initial Extent:
XMin: 187675.23571777344
YMin: 162428.8225079085
XMax: 257325.9016879326
YMax: 194795.15551757812
Spatial Reference: 103415
(8182)
Full Extent:
XMin: 187675.23571777344
YMin: 162428.8225079085
XMax: 257325.9016879326
YMax: 194795.15551757812
Spatial Reference: 103415
(8182)
Pixel Size X: 0.33333332999999604
Pixel Size Y: 0.33333332999999604
Band Count: 3
Pixel Type: U8
RasterFunction Infos: {"rasterFunctionInfos": [{
"help": "",
"name": "None",
"description": ""
}]}
Mensuration Capabilities: Basic
Inspection Capabilities:
Has Histograms: true
Has Colormap: false
Has Multi Dimensions : false
Rendering Rule:
Min Scale: 0
Max Scale: 0
Copyright Text:
Service Data Type: esriImageServiceDataTypeRGB
Min Values: 0, 2, 11
Max Values: 229, 202, 180
Mean Values: 120.98968446601999, 114.18790453074, 100.14158576052
Standard Deviation Values: 33.170036319657001, 24.433767372302999, 21.875321957720999
Object ID Field:
Fields:
None
Default Mosaic Method: Center
Allowed Mosaic Methods:
SortField:
SortValue: N/A
Mosaic Operator: First
Default Compression Quality: 75
Default Resampling Method: Bilinear
Max Record Count: null
Max Image Height: 4100
Max Image Width: 15000
Max Download Image Count: null
Max Mosaic Image Count: null
Allow Raster Function: true
Allow Copy: true
Allow Analysis: true
Allow Compute TiePoints: false
Supports Statistics: false
Supports Advanced Queries: false
Use StandardizedQueries: false
Raster Type Infos:
Name: Raster Dataset
Description: Supports all ArcGIS Raster Datasets
Help:
Has Raster Attribute Table: false
Edit Fields Info: N/A
Ownership Based AccessControl For Rasters: N/A
Child Resources:
Info
Histograms
Statistics
Key Properties
Legend
Raster Function Infos
Supported Operations:
Export Image
Identify
Measure
Compute Histograms
Compute Statistics Histograms
Get Samples
Compute Class Statistics
Query Boundary
Compute Pixel Location
Compute Angles
Validate
Project