{
 "extent": {
  "ymin": 162428.82250790851,
  "xmin": 187675.23571777344,
  "ymax": 194795.15551757813,
  "xmax": 257325.90168793261,
  "spatialReference": {
   "latestWkid": 8182,
   "wkid": 103415
  }
 },
 "blockWidth": 1024,
 "mosaicOperator": "First",
 "serviceSourceType": "esriImageServiceSourceTypeDataset",
 "hasMultidimensions": false,
 "maxImageWidth": 15000,
 "meanValues": [
  120.98968446601999,
  114.18790453074,
  100.14158576052
 ],
 "hasColormap": false,
 "compressionType": "Wavelet (MG3)",
 "defaultCompressionQuality": 75,
 "maxValues": [
  229,
  202,
  180
 ],
 "hasHistograms": true,
 "datasetFormat": "MrSID",
 "maxImageHeight": 4100,
 "sortField": "",
 "bandNames": [
  "Band_1",
  "Band_2",
  "Band_3"
 ],
 "spatialReference": {
  "latestWkid": 8182,
  "wkid": 103415
 },
 "fullExtent": {
  "ymin": 162428.82250790851,
  "xmin": 187675.23571777344,
  "ymax": 194795.15551757813,
  "xmax": 257325.90168793261,
  "spatialReference": {
   "latestWkid": 8182,
   "wkid": 103415
  }
 },
 "bandCount": 3,
 "rasterFunctionInfos": [
  {
   "help": "",
   "name": "None",
   "description": ""
  }
 ],
 "supportsStatistics": false,
 "sortableFields": "",
 "minValues": [
  0,
  2,
  11
 ],
 "allowRasterFunction": true,
 "allowComputeTiePoints": false,
 "serviceDataType": "esriImageServiceDataTypeRGB",
 "supportsAdvancedQueries": false,
 "currentVersion": 12.1,
 "sortValue": null,
 "objectIdField": "",
 "blockHeight": 128,
 "initialExtent": {
  "ymin": 162428.82250790851,
  "xmin": 187675.23571777344,
  "ymax": 194795.15551757813,
  "xmax": 257325.90168793261,
  "spatialReference": {
   "latestWkid": 8182,
   "wkid": 103415
  }
 },
 "pixelSizeX": 0.33333332999999604,
 "pixelSizeY": 0.33333332999999604,
 "defaultMosaicMethod": "Center",
 "name": "2013Aerials/WIDOUG050060",
 "allowedMosaicMethods": "",
 "fields": [],
 "allowAnalysis": true,
 "hasRasterAttributeTable": false,
 "useStandardizedQueries": false,
 "description": "",
 "pixelType": "U8",
 "meanPixelSize": 0.10160020218440317,
 "exportTilesAllowed": false,
 "editFieldsInfo": null,
 "rasterTypeInfos": [
  {
   "help": "",
   "name": "Raster Dataset",
   "description": "Supports all ArcGIS Raster Datasets"
  }
 ],
 "defaultResamplingMethod": "Bilinear",
 "itemAccess": false,
 "minScale": 0,
 "serviceProperties": "Center<\/MosaicMethod>First<\/MosaicOperator>true<\/SortAscending><\/LockImageID><\/TileOrderField>0<\/TileOrderBase>0.000000<\/AvgImageSpacingX>0.000000<\/AvgImageSpacingY>0.0<\/ViewPointX>0.0<\/ViewPointY>0.0<\/ViewPointDefShiftX>0.0<\/ViewPointDefShiftY>None<\/CompressionMethod>75<\/CompressionQuality>0.010000<\/CompressionTolerance>Bilinear<\/SamplingMethod><\/ImageServiceProperties><\/ImageServer>",
 "advancedQueryCapabilities": {
  "supportsStatistics": false,
  "supportsSqlExpression": false,
  "supportsOrderBy": false,
  "useStandardizedQueries": false,
  "supportsPagination": false,
  "supportsDistinct": false
 },
 "serviceItemId": "770c97e4c4d34be8bb971c4b1df4cf11",
 "capabilities": "Image,Metadata,Mensuration",
 "maxScale": 0,
 "stdvValues": [
  33.170036319657001,
  24.433767372302999,
  21.875321957720999
 ],
 "allowedFields": "",
 "minPixelSize": 0,
 "sortAscending": true,
 "inspectionCapabilities": "",
 "maxPixelSize": 0,
 "allowedCompressions": "None,JPEG,LZ77,LERC",
 "uncompressedSize": 60867090744,
 "serviceDescription": "2013Aerials/WIDOUG050060",
 "allowCopy": true,
 "copyrightText": "",
 "mensurationCapabilities": "Basic",
 "ownershipBasedAccessControlForRasters": null
}
