View In:
ArcGIS JavaScript
ArcGIS Online Map Viewer
ArcGIS Earth
Service Description: 2013Aerials/WIDOUG038055
Name: 2013Aerials/WIDOUG038055
Description:
Single Fused Map Cache: false
Extent:
XMin: 160939.02868652344
YMin: 194106.82388424335
XMax: 187703.69508554312
YMax: 252208.82330322266
Spatial Reference: 103415
(8182)
Initial Extent:
XMin: 160939.02868652344
YMin: 194106.82388424335
XMax: 187703.69508554312
YMax: 252208.82330322266
Spatial Reference: 103415
(8182)
Full Extent:
XMin: 160939.02868652344
YMin: 194106.82388424335
XMax: 187703.69508554312
YMax: 252208.82330322266
Spatial Reference: 103415
(8182)
Pixel Size X: 0.33333332999999604
Pixel Size Y: 0.33333332999999604
Band Count: 3
Pixel Type: U8
RasterFunction Infos: {"rasterFunctionInfos": [{
"help": "",
"name": "None",
"description": ""
}]}
Mensuration Capabilities: Basic
Inspection Capabilities:
Has Histograms: true
Has Colormap: false
Has Multi Dimensions : false
Rendering Rule:
Min Scale: 0
Max Scale: 0
Copyright Text:
Service Data Type: esriImageServiceDataTypeRGB
Min Values: 0, 0, 17
Max Values: 244, 218, 181
Mean Values: 128.61598837208999, 115.90348837209, 96.814534883720995
Standard Deviation Values: 30.566110777999, 24.574222870555001, 20.414609973375999
Object ID Field:
Fields:
None
Default Mosaic Method: Center
Allowed Mosaic Methods:
SortField:
SortValue: N/A
Mosaic Operator: First
Default Compression Quality: 75
Default Resampling Method: Bilinear
Max Record Count: null
Max Image Height: 4100
Max Image Width: 15000
Max Download Image Count: null
Max Mosaic Image Count: null
Allow Raster Function: true
Allow Copy: true
Allow Analysis: true
Allow Compute TiePoints: false
Supports Statistics: false
Supports Advanced Queries: false
Use StandardizedQueries: false
Raster Type Infos:
Name: Raster Dataset
Description: Supports all ArcGIS Raster Datasets
Help:
Has Raster Attribute Table: false
Edit Fields Info: N/A
Ownership Based AccessControl For Rasters: N/A
Child Resources:
Info
Histograms
Statistics
Key Properties
Legend
Raster Function Infos
Supported Operations:
Export Image
Identify
Measure
Compute Histograms
Compute Statistics Histograms
Get Samples
Compute Class Statistics
Query Boundary
Compute Pixel Location
Compute Angles
Validate
Project