{
 "extent": {
  "ymin": 194106.82388424335,
  "xmin": 160939.02868652344,
  "ymax": 252208.82330322266,
  "xmax": 187703.69508554312,
  "spatialReference": {
   "latestWkid": 8182,
   "wkid": 103415
  }
 },
 "blockWidth": 1024,
 "mosaicOperator": "First",
 "serviceSourceType": "esriImageServiceSourceTypeDataset",
 "hasMultidimensions": false,
 "maxImageWidth": 15000,
 "meanValues": [
  128.61598837208999,
  115.90348837209,
  96.814534883720995
 ],
 "hasColormap": false,
 "compressionType": "Wavelet (MG3)",
 "defaultCompressionQuality": 75,
 "maxValues": [
  244,
  218,
  181
 ],
 "hasHistograms": true,
 "datasetFormat": "MrSID",
 "maxImageHeight": 4100,
 "sortField": "",
 "bandNames": [
  "Band_1",
  "Band_2",
  "Band_3"
 ],
 "spatialReference": {
  "latestWkid": 8182,
  "wkid": 103415
 },
 "fullExtent": {
  "ymin": 194106.82388424335,
  "xmin": 160939.02868652344,
  "ymax": 252208.82330322266,
  "xmax": 187703.69508554312,
  "spatialReference": {
   "latestWkid": 8182,
   "wkid": 103415
  }
 },
 "bandCount": 3,
 "rasterFunctionInfos": [
  {
   "help": "",
   "name": "None",
   "description": ""
  }
 ],
 "supportsStatistics": false,
 "sortableFields": "",
 "minValues": [
  0,
  0,
  17
 ],
 "allowRasterFunction": true,
 "allowComputeTiePoints": false,
 "serviceDataType": "esriImageServiceDataTypeRGB",
 "supportsAdvancedQueries": false,
 "currentVersion": 12.1,
 "sortValue": null,
 "objectIdField": "",
 "blockHeight": 128,
 "initialExtent": {
  "ymin": 194106.82388424335,
  "xmin": 160939.02868652344,
  "ymax": 252208.82330322266,
  "xmax": 187703.69508554312,
  "spatialReference": {
   "latestWkid": 8182,
   "wkid": 103415
  }
 },
 "pixelSizeX": 0.33333332999999604,
 "pixelSizeY": 0.33333332999999604,
 "defaultMosaicMethod": "Center",
 "name": "2013Aerials/WIDOUG038055",
 "allowedMosaicMethods": "",
 "fields": [],
 "allowAnalysis": true,
 "hasRasterAttributeTable": false,
 "useStandardizedQueries": false,
 "description": "",
 "pixelType": "U8",
 "meanPixelSize": 0.10160020218440317,
 "exportTilesAllowed": false,
 "editFieldsInfo": null,
 "rasterTypeInfos": [
  {
   "help": "",
   "name": "Raster Dataset",
   "description": "Supports all ArcGIS Raster Datasets"
  }
 ],
 "defaultResamplingMethod": "Bilinear",
 "itemAccess": false,
 "minScale": 0,
 "serviceProperties": "Center<\/MosaicMethod>First<\/MosaicOperator>true<\/SortAscending><\/LockImageID><\/TileOrderField>0<\/TileOrderBase>0.000000<\/AvgImageSpacingX>0.000000<\/AvgImageSpacingY>0.0<\/ViewPointX>0.0<\/ViewPointY>0.0<\/ViewPointDefShiftX>0.0<\/ViewPointDefShiftY>None<\/CompressionMethod>75<\/CompressionQuality>0.010000<\/CompressionTolerance>Bilinear<\/SamplingMethod><\/ImageServiceProperties><\/ImageServer>",
 "advancedQueryCapabilities": {
  "supportsStatistics": false,
  "supportsSqlExpression": false,
  "supportsOrderBy": false,
  "useStandardizedQueries": false,
  "supportsPagination": false,
  "supportsDistinct": false
 },
 "serviceItemId": "16213eb3b144422596826bdb5791839d",
 "capabilities": "Image,Metadata,Mensuration",
 "maxScale": 0,
 "stdvValues": [
  30.566110777999,
  24.574222870555001,
  20.414609973375999
 ],
 "allowedFields": "",
 "minPixelSize": 0,
 "sortAscending": true,
 "inspectionCapabilities": "",
 "maxPixelSize": 0,
 "allowedCompressions": "None,JPEG,LZ77,LERC",
 "uncompressedSize": 41987177892,
 "serviceDescription": "2013Aerials/WIDOUG038055",
 "allowCopy": true,
 "copyrightText": "",
 "mensurationCapabilities": "Basic",
 "ownershipBasedAccessControlForRasters": null
}
