View In:
ArcGIS JavaScript
ArcGIS Online Map Viewer
ArcGIS Earth
Service Description: 2013Aerials/WIDOUG031043
Name: 2013Aerials/WIDOUG031043
Description:
Single Fused Map Cache: false
Extent:
XMin: 96902.63568115234
YMin: 225810.50515226234
XMax: 161087.96837263159
YMax: 289376.50451660156
Spatial Reference: 103415
(8182)
Initial Extent:
XMin: 96902.63568115234
YMin: 225810.50515226234
XMax: 161087.96837263159
YMax: 289376.50451660156
Spatial Reference: 103415
(8182)
Full Extent:
XMin: 96902.63568115234
YMin: 225810.50515226234
XMax: 161087.96837263159
YMax: 289376.50451660156
Spatial Reference: 103415
(8182)
Pixel Size X: 0.33333332999999604
Pixel Size Y: 0.33333332999999593
Band Count: 3
Pixel Type: U8
RasterFunction Infos: {"rasterFunctionInfos": [{
"help": "",
"name": "None",
"description": ""
}]}
Mensuration Capabilities: Basic
Inspection Capabilities:
Has Histograms: true
Has Colormap: false
Has Multi Dimensions : false
Rendering Rule:
Min Scale: 0
Max Scale: 0
Copyright Text:
Service Data Type: esriImageServiceDataTypeRGB
Min Values: 0, 0, 13
Max Values: 255, 255, 255
Mean Values: 132.16774916013, 119.14188129899, 104.70548712206001
Standard Deviation Values: 37.396885797966, 34.807307087677003, 34.406563072087003
Object ID Field:
Fields:
None
Default Mosaic Method: Center
Allowed Mosaic Methods:
SortField:
SortValue: N/A
Mosaic Operator: First
Default Compression Quality: 75
Default Resampling Method: Bilinear
Max Record Count: null
Max Image Height: 4100
Max Image Width: 15000
Max Download Image Count: null
Max Mosaic Image Count: null
Allow Raster Function: true
Allow Copy: true
Allow Analysis: true
Allow Compute TiePoints: false
Supports Statistics: false
Supports Advanced Queries: false
Use StandardizedQueries: false
Raster Type Infos:
Name: Raster Dataset
Description: Supports all ArcGIS Raster Datasets
Help:
Has Raster Attribute Table: false
Edit Fields Info: N/A
Ownership Based AccessControl For Rasters: N/A
Child Resources:
Info
Histograms
Statistics
Key Properties
Legend
Raster Function Infos
Supported Operations:
Export Image
Identify
Measure
Compute Histograms
Compute Statistics Histograms
Get Samples
Compute Class Statistics
Query Boundary
Compute Pixel Location
Compute Angles
Validate
Project