{
 "extent": {
  "ymin": 225810.50515226234,
  "xmin": 96902.635681152344,
  "ymax": 289376.50451660156,
  "xmax": 161087.96837263159,
  "spatialReference": {
   "latestWkid": 8182,
   "wkid": 103415
  }
 },
 "blockWidth": 1024,
 "mosaicOperator": "First",
 "serviceSourceType": "esriImageServiceSourceTypeDataset",
 "hasMultidimensions": false,
 "maxImageWidth": 15000,
 "meanValues": [
  132.16774916013,
  119.14188129899,
  104.70548712206001
 ],
 "hasColormap": false,
 "compressionType": "Wavelet (MG3)",
 "defaultCompressionQuality": 75,
 "maxValues": [
  255,
  255,
  255
 ],
 "hasHistograms": true,
 "datasetFormat": "MrSID",
 "maxImageHeight": 4100,
 "sortField": "",
 "bandNames": [
  "Band_1",
  "Band_2",
  "Band_3"
 ],
 "spatialReference": {
  "latestWkid": 8182,
  "wkid": 103415
 },
 "fullExtent": {
  "ymin": 225810.50515226234,
  "xmin": 96902.635681152344,
  "ymax": 289376.50451660156,
  "xmax": 161087.96837263159,
  "spatialReference": {
   "latestWkid": 8182,
   "wkid": 103415
  }
 },
 "bandCount": 3,
 "rasterFunctionInfos": [
  {
   "help": "",
   "name": "None",
   "description": ""
  }
 ],
 "supportsStatistics": false,
 "sortableFields": "",
 "minValues": [
  0,
  0,
  13
 ],
 "allowRasterFunction": true,
 "allowComputeTiePoints": false,
 "serviceDataType": "esriImageServiceDataTypeRGB",
 "supportsAdvancedQueries": false,
 "currentVersion": 12.1,
 "sortValue": null,
 "objectIdField": "",
 "blockHeight": 128,
 "initialExtent": {
  "ymin": 225810.50515226234,
  "xmin": 96902.635681152344,
  "ymax": 289376.50451660156,
  "xmax": 161087.96837263159,
  "spatialReference": {
   "latestWkid": 8182,
   "wkid": 103415
  }
 },
 "pixelSizeX": 0.33333332999999604,
 "pixelSizeY": 0.33333332999999593,
 "defaultMosaicMethod": "Center",
 "name": "2013Aerials/WIDOUG031043",
 "allowedMosaicMethods": "",
 "fields": [],
 "allowAnalysis": true,
 "hasRasterAttributeTable": false,
 "useStandardizedQueries": false,
 "description": "",
 "pixelType": "U8",
 "meanPixelSize": 0.10160020218440316,
 "exportTilesAllowed": false,
 "editFieldsInfo": null,
 "rasterTypeInfos": [
  {
   "help": "",
   "name": "Raster Dataset",
   "description": "Supports all ArcGIS Raster Datasets"
  }
 ],
 "defaultResamplingMethod": "Bilinear",
 "itemAccess": false,
 "minScale": 0,
 "serviceProperties": "Center<\/MosaicMethod>First<\/MosaicOperator>true<\/SortAscending><\/LockImageID><\/TileOrderField>0<\/TileOrderBase>0.000000<\/AvgImageSpacingX>0.000000<\/AvgImageSpacingY>0.0<\/ViewPointX>0.0<\/ViewPointY>0.0<\/ViewPointDefShiftX>0.0<\/ViewPointDefShiftY>None<\/CompressionMethod>75<\/CompressionQuality>0.010000<\/CompressionTolerance>Bilinear<\/SamplingMethod><\/ImageServiceProperties><\/ImageServer>",
 "advancedQueryCapabilities": {
  "supportsStatistics": false,
  "supportsSqlExpression": false,
  "supportsOrderBy": false,
  "useStandardizedQueries": false,
  "supportsPagination": false,
  "supportsDistinct": false
 },
 "serviceItemId": "0452e6bc6d734d6fac231f1ebb1d97a4",
 "capabilities": "Image,Metadata,Mensuration",
 "maxScale": 0,
 "stdvValues": [
  37.396885797966,
  34.807307087677003,
  34.406563072087003
 ],
 "allowedFields": "",
 "minPixelSize": 0,
 "sortAscending": true,
 "inspectionCapabilities": "",
 "maxPixelSize": 0,
 "allowedCompressions": "None,JPEG,LZ77,LERC",
 "uncompressedSize": 110160132264,
 "serviceDescription": "2013Aerials/WIDOUG031043",
 "allowCopy": true,
 "copyrightText": "",
 "mensurationCapabilities": "Basic",
 "ownershipBasedAccessControlForRasters": null
}
