View In:
ArcGIS JavaScript
ArcGIS Online Map Viewer
ArcGIS Earth
Service Description: rasters/dc_2011_wind
Name: rasters/dc_2011_wind
Description:
Single Fused Map Cache: false
Extent:
XMin: 116367.0
YMin: 93141.0
XMax: 249083.0
YMax: 183012.0
Spatial Reference: PROJCS["dc-4",GEOGCS["GCS_douglas_cnty_geographic_coord_system",DATUM["D_custom",SPHEROID["douglas_county",6378414.93,298.27021878]],PRIMEM["greenwich",0.0],UNIT["Degree",0.0174532925199433]],PROJECTION["Transverse_Mercator"],PARAMETER["False_Easting",194000.0],PARAMETER["False_Northing",0.0],PARAMETER["Central_Meridian",-91.91666667],PARAMETER["Scale_Factor",0.999994968],PARAMETER["Latitude_Of_Origin",45.88333333],UNIT["Foot_US",0.3048006096012192]]
Initial Extent:
XMin: 116367.0
YMin: 93141.0
XMax: 249083.0
YMax: 183012.0
Spatial Reference: PROJCS["dc-4",GEOGCS["GCS_douglas_cnty_geographic_coord_system",DATUM["D_custom",SPHEROID["douglas_county",6378414.93,298.27021878]],PRIMEM["greenwich",0.0],UNIT["Degree",0.0174532925199433]],PROJECTION["Transverse_Mercator"],PARAMETER["False_Easting",194000.0],PARAMETER["False_Northing",0.0],PARAMETER["Central_Meridian",-91.91666667],PARAMETER["Scale_Factor",0.999994968],PARAMETER["Latitude_Of_Origin",45.88333333],UNIT["Foot_US",0.3048006096012192]]
Full Extent:
XMin: 116367.0
YMin: 93141.0
XMax: 249083.0
YMax: 183012.0
Spatial Reference: PROJCS["dc-4",GEOGCS["GCS_douglas_cnty_geographic_coord_system",DATUM["D_custom",SPHEROID["douglas_county",6378414.93,298.27021878]],PRIMEM["greenwich",0.0],UNIT["Degree",0.0174532925199433]],PROJECTION["Transverse_Mercator"],PARAMETER["False_Easting",194000.0],PARAMETER["False_Northing",0.0],PARAMETER["Central_Meridian",-91.91666667],PARAMETER["Scale_Factor",0.999994968],PARAMETER["Latitude_Of_Origin",45.88333333],UNIT["Foot_US",0.3048006096012192]]
Pixel Size X: 1.0
Pixel Size Y: 1.0
Band Count: 3
Pixel Type: U8
RasterFunction Infos: {"rasterFunctionInfos": [{
"help": "",
"name": "None",
"description": ""
}]}
Mensuration Capabilities: Basic
Inspection Capabilities:
Has Histograms: true
Has Colormap: false
Has Multi Dimensions : false
Rendering Rule:
Min Scale: 0
Max Scale: 0
Copyright Text:
Service Data Type: esriImageServiceDataTypeRGB
Min Values: 7, 39, 52
Max Values: 255, 255, 255
Mean Values: 139.71363636364001, 163.64545454545001, 142.85244755245
Standard Deviation Values: 72.808015744881999, 57.873428601389001, 69.745926850185
Object ID Field:
Fields:
None
Default Mosaic Method: Center
Allowed Mosaic Methods:
SortField:
SortValue: N/A
Mosaic Operator: First
Default Compression Quality: 75
Default Resampling Method: Bilinear
Max Record Count: null
Max Image Height: 4100
Max Image Width: 15000
Max Download Image Count: null
Max Mosaic Image Count: null
Allow Raster Function: true
Allow Copy: true
Allow Analysis: true
Allow Compute TiePoints: false
Supports Statistics: false
Supports Advanced Queries: false
Use StandardizedQueries: false
Raster Type Infos:
Name: Raster Dataset
Description: Supports all ArcGIS Raster Datasets
Help:
Has Raster Attribute Table: false
Edit Fields Info: N/A
Ownership Based AccessControl For Rasters: N/A
Child Resources:
Info
Histograms
Statistics
Key Properties
Legend
Raster Function Infos
Supported Operations:
Export Image
Identify
Measure
Compute Histograms
Compute Statistics Histograms
Get Samples
Compute Class Statistics
Query Boundary
Compute Pixel Location
Compute Angles
Validate
Project