View In:
ArcGIS JavaScript
ArcGIS Online Map Viewer
ArcGIS Earth
Service Description: rasters/dc_2004_infrared
Name: rasters/dc_2004_infrared
Description:
Single Fused Map Cache: false
Extent:
XMin: 97253.500152
YMin: 93151.42248399998
XMax: 166274.660152
YMax: 290876.612484
Spatial Reference: 0
(0)
LatestVCSWkid(0)
Initial Extent:
XMin: 97253.500152
YMin: 93151.42248399998
XMax: 166274.660152
YMax: 290876.612484
Spatial Reference: 0
(0)
LatestVCSWkid(0)
Full Extent:
XMin: 97253.500152
YMin: 93151.42248399998
XMax: 166274.660152
YMax: 290876.612484
Spatial Reference: 0
(0)
LatestVCSWkid(0)
Pixel Size X: 3.77
Pixel Size Y: 3.77
Band Count: 3
Pixel Type: U8
RasterFunction Infos: {"rasterFunctionInfos": [{
"name": "None",
"description": "",
"help": ""
}]}
Mensuration Capabilities: Basic
Inspection Capabilities:
Has Histograms: true
Has Colormap: false
Has Multi Dimensions : false
Rendering Rule:
Min Scale: 0
Max Scale: 0
Copyright Text:
Service Data Type: esriImageServiceDataTypeRGB
Min Values: 77, 46, 63
Max Values: 255, 255, 255
Mean Values: 206.26537216828, 184.91127292341, 187.25997842503
Standard Deviation Values: 29.191934841887, 43.233491554755, 40.537680011992
Object ID Field:
Fields:
None
Default Mosaic Method: Center
Allowed Mosaic Methods:
SortField:
SortValue: null
Mosaic Operator: First
Default Compression Quality: 75
Default Resampling Method: Bilinear
Max Record Count: null
Max Image Height: 4100
Max Image Width: 15000
Max Download Image Count: null
Max Mosaic Image Count: null
Allow Raster Function: true
Allow Copy: true
Allow Analysis: true
Allow Compute TiePoints: false
Supports Statistics: false
Supports Advanced Queries: false
Use StandardizedQueries: true
Raster Type Infos:
Name: Raster Dataset
Description: Supports all ArcGIS Raster Datasets
Help:
Has Raster Attribute Table: false
Edit Fields Info: null
Ownership Based AccessControl For Rasters: null
Child Resources:
Info
Histograms
Statistics
Key Properties
Legend
Raster Function Infos
Supported Operations:
Export Image
Identify
Measure
Compute Histograms
Compute Statistics Histograms
Get Samples
Compute Class Statistics
Query Boundary
Compute Pixel Location
Compute Angles
Validate
Project