View In:
ArcGIS JavaScript
ArcGIS Online Map Viewer
ArcGIS Earth
Service Description: rasters/dc_2001_infrared
Name: rasters/dc_2001_infrared
Description:
Single Fused Map Cache: false
Extent:
XMin: 96340.30755222836
YMin: 95046.8601518813
XMax: 196325.90755222837
YMax: 231006.8601518813
Spatial Reference: 0
(0)
LatestVCSWkid(0)
Initial Extent:
XMin: 96340.30755222836
YMin: 95046.8601518813
XMax: 196325.90755222837
YMax: 231006.8601518813
Spatial Reference: 0
(0)
LatestVCSWkid(0)
Full Extent:
XMin: 96340.30755222836
YMin: 95046.8601518813
XMax: 196325.90755222837
YMax: 231006.8601518813
Spatial Reference: 0
(0)
LatestVCSWkid(0)
Pixel Size X: 4.4
Pixel Size Y: 4.4
Band Count: 3
Pixel Type: U8
RasterFunction Infos: {"rasterFunctionInfos": [{
"name": "None",
"description": "",
"help": ""
}]}
Mensuration Capabilities: Basic
Inspection Capabilities:
Has Histograms: true
Has Colormap: false
Has Multi Dimensions : false
Rendering Rule:
Min Scale: 0
Max Scale: 0
Copyright Text:
Service Data Type: esriImageServiceDataTypeRGB
Min Values: 84, 75, 84
Max Values: 255, 255, 255
Mean Values: 203.37850637523, 162.11803278689, 169.28342440801
Standard Deviation Values: 24.852774008371, 36.367862258284, 33.597301781518
Object ID Field:
Fields:
None
Default Mosaic Method: Center
Allowed Mosaic Methods:
SortField:
SortValue: null
Mosaic Operator: First
Default Compression Quality: 75
Default Resampling Method: Bilinear
Max Record Count: null
Max Image Height: 4100
Max Image Width: 15000
Max Download Image Count: null
Max Mosaic Image Count: null
Allow Raster Function: true
Allow Copy: true
Allow Analysis: true
Allow Compute TiePoints: false
Supports Statistics: false
Supports Advanced Queries: false
Use StandardizedQueries: true
Raster Type Infos:
Name: Raster Dataset
Description: Supports all ArcGIS Raster Datasets
Help:
Has Raster Attribute Table: false
Edit Fields Info: null
Ownership Based AccessControl For Rasters: null
Child Resources:
Info
Histograms
Statistics
Key Properties
Legend
Raster Function Infos
Supported Operations:
Export Image
Identify
Measure
Compute Histograms
Compute Statistics Histograms
Get Samples
Compute Class Statistics
Query Boundary
Compute Pixel Location
Compute Angles
Validate
Project