View In:
ArcGIS JavaScript
ArcGIS Online Map Viewer
ArcGIS Earth
Service Description: rasters/dc_1938
Name: rasters/dc_1938
Description:
Single Fused Map Cache: false
Extent:
XMin: 91523.82509976621
YMin: 92166.84526154524
XMax: 293251.4883027662
YMax: 322653.6999145452
Spatial Reference: 103909
(103909)
Initial Extent:
XMin: 91523.82509976621
YMin: 92166.84526154524
XMax: 293251.4883027662
YMax: 322653.6999145452
Spatial Reference: 103909
(103909)
Full Extent:
XMin: 91523.82509976621
YMin: 92166.84526154524
XMax: 293251.4883027662
YMax: 322653.6999145452
Spatial Reference: 103909
(103909)
Pixel Size X: 2.8903710000000005
Pixel Size Y: 2.890371
Band Count: 1
Pixel Type: U8
RasterFunction Infos: {"rasterFunctionInfos": [{
"help": "",
"name": "None",
"description": ""
}]}
Mensuration Capabilities: Basic
Inspection Capabilities:
Has Histograms: true
Has Colormap: false
Has Multi Dimensions : false
Rendering Rule:
Min Scale: 0
Max Scale: 0
Copyright Text:
Service Data Type: esriImageServiceDataTypeGeneric
Min Values: 0
Max Values: 255
Mean Values: 109.47454477889001
Standard Deviation Values: 42.732012591908997
Object ID Field:
Fields:
None
Default Mosaic Method: Center
Allowed Mosaic Methods:
SortField:
SortValue: N/A
Mosaic Operator: First
Default Compression Quality: 75
Default Resampling Method: Bilinear
Max Record Count: null
Max Image Height: 4100
Max Image Width: 15000
Max Download Image Count: null
Max Mosaic Image Count: null
Allow Raster Function: true
Allow Copy: true
Allow Analysis: true
Allow Compute TiePoints: false
Supports Statistics: false
Supports Advanced Queries: false
Use StandardizedQueries: false
Raster Type Infos:
Name: Raster Dataset
Description: Supports all ArcGIS Raster Datasets
Help:
Has Raster Attribute Table: false
Edit Fields Info: N/A
Ownership Based AccessControl For Rasters: N/A
Child Resources:
Info
Histograms
Statistics
Key Properties
Legend
Raster Function Infos
Supported Operations:
Export Image
Identify
Measure
Compute Histograms
Compute Statistics Histograms
Get Samples
Compute Class Statistics
Query Boundary
Compute Pixel Location
Compute Angles
Validate
Project