View In:
ArcGIS JavaScript
ArcGIS Online Map Viewer
ArcGIS Earth
Service Description: rasters/Superior_2019_3inch_orthos
Name: rasters/Superior_2019_3inch_orthos
Description:
Single Fused Map Cache: false
Extent:
XMin: 123815.0
YMin: 278575.75
XMax: 193039.0
YMax: 315599.75
Spatial Reference: 103415
(8182)
Initial Extent:
XMin: 123815.0
YMin: 278575.75
XMax: 193039.0
YMax: 315599.75
Spatial Reference: 103415
(8182)
Full Extent:
XMin: 123815.0
YMin: 278575.75
XMax: 193039.0
YMax: 315599.75
Spatial Reference: 103415
(8182)
Pixel Size X: 0.25
Pixel Size Y: 0.25
Band Count: 3
Pixel Type: U8
RasterFunction Infos: {"rasterFunctionInfos": [{
"help": "",
"name": "None",
"description": ""
}]}
Mensuration Capabilities: Basic
Inspection Capabilities:
Has Histograms: true
Has Colormap: false
Has Multi Dimensions : false
Rendering Rule:
Min Scale: 0
Max Scale: 0
Copyright Text:
Service Data Type: esriImageServiceDataTypeRGB
Min Values: 15, 13, 0
Max Values: 255, 255, 255
Mean Values: 182.25198728140001, 171.60373608903001, 152.63314785374001
Standard Deviation Values: 61.958805485029998, 69.265364715402001, 83.654492312426001
Object ID Field:
Fields:
None
Default Mosaic Method: Center
Allowed Mosaic Methods:
SortField:
SortValue: N/A
Mosaic Operator: First
Default Compression Quality: 75
Default Resampling Method: Bilinear
Max Record Count: null
Max Image Height: 4100
Max Image Width: 15000
Max Download Image Count: null
Max Mosaic Image Count: null
Allow Raster Function: true
Allow Copy: true
Allow Analysis: true
Allow Compute TiePoints: false
Supports Statistics: false
Supports Advanced Queries: false
Use StandardizedQueries: false
Raster Type Infos:
Name: Raster Dataset
Description: Supports all ArcGIS Raster Datasets
Help:
Has Raster Attribute Table: false
Edit Fields Info: N/A
Ownership Based AccessControl For Rasters: N/A
Child Resources:
Info
Histograms
Statistics
Key Properties
Legend
Raster Function Infos
Supported Operations:
Export Image
Identify
Measure
Compute Histograms
Compute Statistics Histograms
Get Samples
Compute Class Statistics
Query Boundary
Compute Pixel Location
Compute Angles
Validate
Project