View In:
ArcGIS JavaScript
ArcGIS Online Map Viewer
ArcGIS Earth
Service Description: WICSUP23_SID_2INCH_sid
Name: WICSUP23_SID_2INCH_sid
Description:
Single Fused Map Cache: false
Extent:
XMin: 120027.999999995
YMin: 283846.999313605
XMax: 183388.00126719498
YMax: 318167.000000005
Spatial Reference: PROJCS["dc_4",GEOGCS["GCS_douglas_cnty_geographic_coord_system",DATUM["D_custom",SPHEROID["douglas_county",6378414.93,298.27021878]],PRIMEM["greenwich",0.0],UNIT["Degree",0.0174532925199433]],PROJECTION["Transverse_Mercator"],PARAMETER["False_Easting",194000.0],PARAMETER["False_Northing",0.0],PARAMETER["Central_Meridian",-91.91666667],PARAMETER["Scale_Factor",0.999994968],PARAMETER["Latitude_Of_Origin",45.88333333],UNIT["Foot_US",0.3048006096012192]]
Initial Extent:
XMin: 120027.999999995
YMin: 283846.999313605
XMax: 183388.00126719498
YMax: 318167.000000005
Spatial Reference: PROJCS["dc_4",GEOGCS["GCS_douglas_cnty_geographic_coord_system",DATUM["D_custom",SPHEROID["douglas_county",6378414.93,298.27021878]],PRIMEM["greenwich",0.0],UNIT["Degree",0.0174532925199433]],PROJECTION["Transverse_Mercator"],PARAMETER["False_Easting",194000.0],PARAMETER["False_Northing",0.0],PARAMETER["Central_Meridian",-91.91666667],PARAMETER["Scale_Factor",0.999994968],PARAMETER["Latitude_Of_Origin",45.88333333],UNIT["Foot_US",0.3048006096012192]]
Full Extent:
XMin: 120027.999999995
YMin: 283846.999313605
XMax: 183388.00126719498
YMax: 318167.000000005
Spatial Reference: PROJCS["dc_4",GEOGCS["GCS_douglas_cnty_geographic_coord_system",DATUM["D_custom",SPHEROID["douglas_county",6378414.93,298.27021878]],PRIMEM["greenwich",0.0],UNIT["Degree",0.0174532925199433]],PROJECTION["Transverse_Mercator"],PARAMETER["False_Easting",194000.0],PARAMETER["False_Northing",0.0],PARAMETER["Central_Meridian",-91.91666667],PARAMETER["Scale_Factor",0.999994968],PARAMETER["Latitude_Of_Origin",45.88333333],UNIT["Foot_US",0.3048006096012192]]
Pixel Size X: 0.16666666999999996
Pixel Size Y: 0.16666666999999993
Band Count: 3
Pixel Type: U8
RasterFunction Infos: {"rasterFunctionInfos": [{
"help": "",
"name": "None",
"description": ""
}]}
Mensuration Capabilities: Basic
Inspection Capabilities:
Has Histograms: true
Has Colormap: false
Has Multi Dimensions : false
Rendering Rule:
Min Scale: 0
Max Scale: 0
Copyright Text:
Service Data Type: esriImageServiceDataTypeRGB
Min Values: 8, 0, 0
Max Values: 255, 255, 255
Mean Values: 165.81910183427999, 153.61458992198999, 135.19439173519001
Standard Deviation Values: 69.865418033655999, 77.324526029015999, 87.581734086796999
Object ID Field:
Fields:
None
Default Mosaic Method: Center
Allowed Mosaic Methods:
SortField:
SortValue: N/A
Mosaic Operator: First
Default Compression Quality: 75
Default Resampling Method: Bilinear
Max Record Count: null
Max Image Height: 4100
Max Image Width: 15000
Max Download Image Count: null
Max Mosaic Image Count: null
Allow Raster Function: true
Allow Copy: true
Allow Analysis: true
Allow Compute TiePoints: false
Supports Statistics: false
Supports Advanced Queries: false
Use StandardizedQueries: false
Raster Type Infos:
Name: Raster Dataset
Description: Supports all ArcGIS Raster Datasets
Help:
Has Raster Attribute Table: false
Edit Fields Info: N/A
Ownership Based AccessControl For Rasters: N/A
Child Resources:
Info
Histograms
Statistics
Key Properties
Legend
Raster Function Infos
Supported Operations:
Export Image
Identify
Measure
Compute Histograms
Compute Statistics Histograms
Get Samples
Compute Class Statistics
Query Boundary
Compute Pixel Location
Compute Angles
Validate
Project