View In:
ArcGIS JavaScript
ArcGIS Online Map Viewer
ArcGIS Earth
Service Description: ELEV_DC_LIDAR2016_DEM_5ft
Name: ELEV_DC_LIDAR2016_DEM_5ft
Description:
Single Fused Map Cache: false
Extent:
XMin: 98392.12572636397
YMin: 99794.68067165103
XMax: 286697.125726364
YMax: 319209.68067165103
Spatial Reference: 7602
(7602)
VCSWkid(5703)
LatestVCSWkid(5703)
Initial Extent:
XMin: 98392.12572636397
YMin: 99794.68067165103
XMax: 286697.125726364
YMax: 319209.68067165103
Spatial Reference: 7602
(7602)
VCSWkid(5703)
LatestVCSWkid(5703)
Full Extent:
XMin: 98392.12572636397
YMin: 99794.68067165103
XMax: 286697.125726364
YMax: 319209.68067165103
Spatial Reference: 7602
(7602)
VCSWkid(5703)
LatestVCSWkid(5703)
Pixel Size X: 5.0
Pixel Size Y: 5.0
Band Count: 1
Pixel Type: F32
RasterFunction Infos: {"rasterFunctionInfos": [{
"help": "",
"name": "None",
"description": ""
}]}
Mensuration Capabilities: Basic
Inspection Capabilities:
Has Histograms: true
Has Colormap: false
Has Multi Dimensions : false
Rendering Rule:
Min Scale: 0
Max Scale: 0
Copyright Text:
Service Data Type: esriImageServiceDataTypeGeneric
Min Values: 601.93194580078
Max Values: 1371.2973632813
Mean Values: 1061.9573317833001
Standard Deviation Values: 179.67889841636
Object ID Field:
Fields:
None
Default Mosaic Method: Center
Allowed Mosaic Methods:
SortField:
SortValue: N/A
Mosaic Operator: First
Default Compression Quality: 75
Default Resampling Method: Bilinear
Max Record Count: null
Max Image Height: 4100
Max Image Width: 15000
Max Download Image Count: null
Max Mosaic Image Count: null
Allow Raster Function: true
Allow Copy: true
Allow Analysis: true
Allow Compute TiePoints: false
Supports Statistics: false
Supports Advanced Queries: false
Use StandardizedQueries: false
Raster Type Infos:
Name: Raster Dataset
Description: Supports all ArcGIS Raster Datasets
Help:
Has Raster Attribute Table: false
Edit Fields Info: N/A
Ownership Based AccessControl For Rasters: N/A
Child Resources:
Info
Histograms
Statistics
Key Properties
Legend
Raster Function Infos
Supported Operations:
Export Image
Identify
Measure
Compute Histograms
Compute Statistics Histograms
Get Samples
Compute Class Statistics
Query Boundary
Compute Pixel Location
Compute Angles
Validate
Project