View In:
ArcGIS JavaScript
ArcGIS Online Map Viewer
ArcGIS Earth
Service Description: 2013Aerials/WIDOUG061055
Name: 2013Aerials/WIDOUG061055
Description:
Single Fused Map Cache: false
Extent:
XMin: 160781.9047241211
YMin: 99076.2073706321
XMax: 289773.9034341995
YMax: 130979.87371826172
Spatial Reference: 103415
(8182)
Initial Extent:
XMin: 160781.9047241211
YMin: 99076.2073706321
XMax: 289773.9034341995
YMax: 130979.87371826172
Spatial Reference: 103415
(8182)
Full Extent:
XMin: 160781.9047241211
YMin: 99076.2073706321
XMax: 289773.9034341995
YMax: 130979.87371826172
Spatial Reference: 103415
(8182)
Pixel Size X: 0.33333332999999593
Pixel Size Y: 0.33333332999999604
Band Count: 3
Pixel Type: U8
RasterFunction Infos: {"rasterFunctionInfos": [{
"help": "",
"name": "None",
"description": ""
}]}
Mensuration Capabilities: Basic
Inspection Capabilities:
Has Histograms: true
Has Colormap: false
Has Multi Dimensions : false
Rendering Rule:
Min Scale: 0
Max Scale: 0
Copyright Text:
Service Data Type: esriImageServiceDataTypeRGB
Min Values: 0, 0, 0
Max Values: 250, 226, 211
Mean Values: 126.76055386694, 114.63694697737, 97.748620961387005
Standard Deviation Values: 35.274255087012001, 27.027335852065999, 24.696244647198998
Object ID Field:
Fields:
None
Default Mosaic Method: Center
Allowed Mosaic Methods:
SortField:
SortValue: N/A
Mosaic Operator: First
Default Compression Quality: 75
Default Resampling Method: Bilinear
Max Record Count: null
Max Image Height: 4100
Max Image Width: 15000
Max Download Image Count: null
Max Mosaic Image Count: null
Allow Raster Function: true
Allow Copy: true
Allow Analysis: true
Allow Compute TiePoints: false
Supports Statistics: false
Supports Advanced Queries: false
Use StandardizedQueries: false
Raster Type Infos:
Name: Raster Dataset
Description: Supports all ArcGIS Raster Datasets
Help:
Has Raster Attribute Table: false
Edit Fields Info: N/A
Ownership Based AccessControl For Rasters: N/A
Child Resources:
Info
Histograms
Statistics
Key Properties
Legend
Raster Function Infos
Supported Operations:
Export Image
Identify
Measure
Compute Histograms
Compute Statistics Histograms
Get Samples
Compute Class Statistics
Query Boundary
Compute Pixel Location
Compute Angles
Validate
Project