View In:
ArcGIS JavaScript
ArcGIS Online Map Viewer
ArcGIS Earth
Service Description: 2013Aerials/WIDOUG055060
Name: 2013Aerials/WIDOUG055060
Description:
Single Fused Map Cache: false
Extent:
XMin: 187665.23211669922
YMin: 130752.0416805346
XMax: 289623.231097118
YMax: 162656.37469482422
Spatial Reference: 103415
(8182)
Initial Extent:
XMin: 187665.23211669922
YMin: 130752.0416805346
XMax: 289623.231097118
YMax: 162656.37469482422
Spatial Reference: 103415
(8182)
Full Extent:
XMin: 187665.23211669922
YMin: 130752.0416805346
XMax: 289623.231097118
YMax: 162656.37469482422
Spatial Reference: 103415
(8182)
Pixel Size X: 0.333333329999996
Pixel Size Y: 0.333333329999996
Band Count: 3
Pixel Type: U8
RasterFunction Infos: {"rasterFunctionInfos": [{
"help": "",
"name": "None",
"description": ""
}]}
Mensuration Capabilities: Basic
Inspection Capabilities:
Has Histograms: true
Has Colormap: false
Has Multi Dimensions : false
Rendering Rule:
Min Scale: 0
Max Scale: 0
Copyright Text:
Service Data Type: esriImageServiceDataTypeRGB
Min Values: 0, 0, 6
Max Values: 236, 222, 215
Mean Values: 120.58581560284, 112.82695035461001, 102.28836879433
Standard Deviation Values: 36.921220678513997, 27.585819358988999, 23.388391210992999
Object ID Field:
Fields:
None
Default Mosaic Method: Center
Allowed Mosaic Methods:
SortField:
SortValue: N/A
Mosaic Operator: First
Default Compression Quality: 75
Default Resampling Method: Bilinear
Max Record Count: null
Max Image Height: 4100
Max Image Width: 15000
Max Download Image Count: null
Max Mosaic Image Count: null
Allow Raster Function: true
Allow Copy: true
Allow Analysis: true
Allow Compute TiePoints: false
Supports Statistics: false
Supports Advanced Queries: false
Use StandardizedQueries: false
Raster Type Infos:
Name: Raster Dataset
Description: Supports all ArcGIS Raster Datasets
Help:
Has Raster Attribute Table: false
Edit Fields Info: N/A
Ownership Based AccessControl For Rasters: N/A
Child Resources:
Info
Histograms
Statistics
Key Properties
Legend
Raster Function Infos
Supported Operations:
Export Image
Identify
Measure
Compute Histograms
Compute Statistics Histograms
Get Samples
Compute Class Statistics
Query Boundary
Compute Pixel Location
Compute Angles
Validate
Project