View In:
ArcGIS JavaScript
ArcGIS Online Map Viewer
ArcGIS Earth
Service Description: 2013Aerials/WIDOUG049055
Name: 2013Aerials/WIDOUG049055
Description:
Single Fused Map Cache: false
Extent:
XMin: 160834.2026977539
YMin: 130753.05074366405
XMax: 187685.2024292436
YMax: 194133.05010986328
Spatial Reference: 103415
(8182)
Initial Extent:
XMin: 160834.2026977539
YMin: 130753.05074366405
XMax: 187685.2024292436
YMax: 194133.05010986328
Spatial Reference: 103415
(8182)
Full Extent:
XMin: 160834.2026977539
YMin: 130753.05074366405
XMax: 187685.2024292436
YMax: 194133.05010986328
Spatial Reference: 103415
(8182)
Pixel Size X: 0.33333332999999615
Pixel Size Y: 0.333333329999996
Band Count: 3
Pixel Type: U8
RasterFunction Infos: {"rasterFunctionInfos": [{
"help": "",
"name": "None",
"description": ""
}]}
Mensuration Capabilities: Basic
Inspection Capabilities:
Has Histograms: true
Has Colormap: false
Has Multi Dimensions : false
Rendering Rule:
Min Scale: 0
Max Scale: 0
Copyright Text:
Service Data Type: esriImageServiceDataTypeRGB
Min Values: 0, 9, 50
Max Values: 209, 187, 166
Mean Values: 123.68225806452, 113.8188172043, 111.33709677419
Standard Deviation Values: 27.645579616288, 20.483325783674001, 15.393139100139001
Object ID Field:
Fields:
None
Default Mosaic Method: Center
Allowed Mosaic Methods:
SortField:
SortValue: N/A
Mosaic Operator: First
Default Compression Quality: 75
Default Resampling Method: Bilinear
Max Record Count: null
Max Image Height: 4100
Max Image Width: 15000
Max Download Image Count: null
Max Mosaic Image Count: null
Allow Raster Function: true
Allow Copy: true
Allow Analysis: true
Allow Compute TiePoints: false
Supports Statistics: false
Supports Advanced Queries: false
Use StandardizedQueries: false
Raster Type Infos:
Name: Raster Dataset
Description: Supports all ArcGIS Raster Datasets
Help:
Has Raster Attribute Table: false
Edit Fields Info: N/A
Ownership Based AccessControl For Rasters: N/A
Child Resources:
Info
Histograms
Statistics
Key Properties
Legend
Raster Function Infos
Supported Operations:
Export Image
Identify
Measure
Compute Histograms
Compute Statistics Histograms
Get Samples
Compute Class Statistics
Query Boundary
Compute Pixel Location
Compute Angles
Validate
Project