View In:
ArcGIS JavaScript
ArcGIS Online Map Viewer
ArcGIS Earth
Service Description: 2013Aerials/WIDOUG043073
Name: 2013Aerials/WIDOUG043073
Description:
Single Fused Map Cache: false
Extent:
XMin: 257124.9799194336
YMin: 162528.82076421528
XMax: 289471.9795959632
YMax: 226010.82012939453
Spatial Reference: 103415
(8182)
Initial Extent:
XMin: 257124.9799194336
YMin: 162528.82076421528
XMax: 289471.9795959632
YMax: 226010.82012939453
Spatial Reference: 103415
(8182)
Full Extent:
XMin: 257124.9799194336
YMin: 162528.82076421528
XMax: 289471.9795959632
YMax: 226010.82012939453
Spatial Reference: 103415
(8182)
Pixel Size X: 0.333333329999996
Pixel Size Y: 0.33333332999999604
Band Count: 3
Pixel Type: U8
RasterFunction Infos: {"rasterFunctionInfos": [{
"help": "",
"name": "None",
"description": ""
}]}
Mensuration Capabilities: Basic
Inspection Capabilities:
Has Histograms: true
Has Colormap: false
Has Multi Dimensions : false
Rendering Rule:
Min Scale: 0
Max Scale: 0
Copyright Text:
Service Data Type: esriImageServiceDataTypeRGB
Min Values: 0, 0, 45
Max Values: 221, 197, 174
Mean Values: 108.91129032258, 107.31451612903, 103.35819892473
Standard Deviation Values: 35.094920158275002, 24.877632510306, 20.504732384528999
Object ID Field:
Fields:
None
Default Mosaic Method: Center
Allowed Mosaic Methods:
SortField:
SortValue: N/A
Mosaic Operator: First
Default Compression Quality: 75
Default Resampling Method: Bilinear
Max Record Count: null
Max Image Height: 4100
Max Image Width: 15000
Max Download Image Count: null
Max Mosaic Image Count: null
Allow Raster Function: true
Allow Copy: true
Allow Analysis: true
Allow Compute TiePoints: false
Supports Statistics: false
Supports Advanced Queries: false
Use StandardizedQueries: false
Raster Type Infos:
Name: Raster Dataset
Description: Supports all ArcGIS Raster Datasets
Help:
Has Raster Attribute Table: false
Edit Fields Info: N/A
Ownership Based AccessControl For Rasters: N/A
Child Resources:
Info
Histograms
Statistics
Key Properties
Legend
Raster Function Infos
Supported Operations:
Export Image
Identify
Measure
Compute Histograms
Compute Statistics Histograms
Get Samples
Compute Class Statistics
Query Boundary
Compute Pixel Location
Compute Angles
Validate
Project