View In:
ArcGIS JavaScript
ArcGIS Online Map Viewer
ArcGIS Earth
Service Description: 2013Aerials/WIDOUG043043
Name: 2013Aerials/WIDOUG043043
Description:
Single Fused Map Cache: false
Extent:
XMin: 96593.82568359375
YMin: 162456.13833095325
XMax: 160991.49170628298
YMax: 226020.1376953125
Spatial Reference: 103415
(8182)
Initial Extent:
XMin: 96593.82568359375
YMin: 162456.13833095325
XMax: 160991.49170628298
YMax: 226020.1376953125
Spatial Reference: 103415
(8182)
Full Extent:
XMin: 96593.82568359375
YMin: 162456.13833095325
XMax: 160991.49170628298
YMax: 226020.1376953125
Spatial Reference: 103415
(8182)
Pixel Size X: 0.333333329999996
Pixel Size Y: 0.33333332999999604
Band Count: 3
Pixel Type: U8
RasterFunction Infos: {"rasterFunctionInfos": [{
"help": "",
"name": "None",
"description": ""
}]}
Mensuration Capabilities: Basic
Inspection Capabilities:
Has Histograms: true
Has Colormap: false
Has Multi Dimensions : false
Rendering Rule:
Min Scale: 0
Max Scale: 0
Copyright Text:
Service Data Type: esriImageServiceDataTypeRGB
Min Values: 0, 0, 23
Max Values: 255, 255, 255
Mean Values: 123.58835386337999, 114.53381858903001, 107.70414333706999
Standard Deviation Values: 30.557757969036999, 24.344913968758998, 20.980885949310998
Object ID Field:
Fields:
None
Default Mosaic Method: Center
Allowed Mosaic Methods:
SortField:
SortValue: N/A
Mosaic Operator: First
Default Compression Quality: 75
Default Resampling Method: Bilinear
Max Record Count: null
Max Image Height: 4100
Max Image Width: 15000
Max Download Image Count: null
Max Mosaic Image Count: null
Allow Raster Function: true
Allow Copy: true
Allow Analysis: true
Allow Compute TiePoints: false
Supports Statistics: false
Supports Advanced Queries: false
Use StandardizedQueries: false
Raster Type Infos:
Name: Raster Dataset
Description: Supports all ArcGIS Raster Datasets
Help:
Has Raster Attribute Table: false
Edit Fields Info: N/A
Ownership Based AccessControl For Rasters: N/A
Child Resources:
Info
Histograms
Statistics
Key Properties
Legend
Raster Function Infos
Supported Operations:
Export Image
Identify
Measure
Compute Histograms
Compute Statistics Histograms
Get Samples
Compute Class Statistics
Query Boundary
Compute Pixel Location
Compute Angles
Validate
Project