View In:
ArcGIS JavaScript
ArcGIS Online Map Viewer
ArcGIS Earth
Service Description: 2013Aerials/WIDOUG040069
Name: 2013Aerials/WIDOUG040069
Description:
Single Fused Map Cache: false
Extent:
XMin: 235728.73651123047
YMin: 215267.9066162689
XMax: 257158.4029636002
YMax: 241722.2396850586
Spatial Reference: 103415
(8182)
Initial Extent:
XMin: 235728.73651123047
YMin: 215267.9066162689
XMax: 257158.4029636002
YMax: 241722.2396850586
Spatial Reference: 103415
(8182)
Full Extent:
XMin: 235728.73651123047
YMin: 215267.9066162689
XMax: 257158.4029636002
YMax: 241722.2396850586
Spatial Reference: 103415
(8182)
Pixel Size X: 0.33333332999999593
Pixel Size Y: 0.333333329999996
Band Count: 3
Pixel Type: U8
RasterFunction Infos: {"rasterFunctionInfos": [{
"help": "",
"name": "None",
"description": ""
}]}
Mensuration Capabilities: Basic
Inspection Capabilities:
Has Histograms: true
Has Colormap: false
Has Multi Dimensions : false
Rendering Rule:
Min Scale: 0
Max Scale: 0
Copyright Text:
Service Data Type: esriImageServiceDataTypeRGB
Min Values: 0, 0, 1
Max Values: 246, 223, 191
Mean Values: 126.38156288156, 114.25844525845, 94.126170126169995
Standard Deviation Values: 32.901449921218003, 27.265258801440002, 24.345104678338998
Object ID Field:
Fields:
None
Default Mosaic Method: Center
Allowed Mosaic Methods:
SortField:
SortValue: N/A
Mosaic Operator: First
Default Compression Quality: 75
Default Resampling Method: Bilinear
Max Record Count: null
Max Image Height: 4100
Max Image Width: 15000
Max Download Image Count: null
Max Mosaic Image Count: null
Allow Raster Function: true
Allow Copy: true
Allow Analysis: true
Allow Compute TiePoints: false
Supports Statistics: false
Supports Advanced Queries: false
Use StandardizedQueries: false
Raster Type Infos:
Name: Raster Dataset
Description: Supports all ArcGIS Raster Datasets
Help:
Has Raster Attribute Table: false
Edit Fields Info: N/A
Ownership Based AccessControl For Rasters: N/A
Child Resources:
Info
Histograms
Statistics
Key Properties
Legend
Raster Function Infos
Supported Operations:
Export Image
Identify
Measure
Compute Histograms
Compute Statistics Histograms
Get Samples
Compute Class Statistics
Query Boundary
Compute Pixel Location
Compute Angles
Validate
Project