View In:
ArcGIS JavaScript
ArcGIS Online Map Viewer
ArcGIS Earth
Service Description: 2013Aerials/WIDOUG032069
Name: 2013Aerials/WIDOUG032069
Description:
Single Fused Map Cache: false
Extent:
XMin: 235639.91107177734
YMin: 241665.9549517491
XMax: 257074.57752409708
YMax: 283959.9545288086
Spatial Reference: 103415
(8182)
Initial Extent:
XMin: 235639.91107177734
YMin: 241665.9549517491
XMax: 257074.57752409708
YMax: 283959.9545288086
Spatial Reference: 103415
(8182)
Full Extent:
XMin: 235639.91107177734
YMin: 241665.9549517491
XMax: 257074.57752409708
YMax: 283959.9545288086
Spatial Reference: 103415
(8182)
Pixel Size X: 0.33333332999999593
Pixel Size Y: 0.33333332999999604
Band Count: 3
Pixel Type: U8
RasterFunction Infos: {"rasterFunctionInfos": [{
"help": "",
"name": "None",
"description": ""
}]}
Mensuration Capabilities: Basic
Inspection Capabilities:
Has Histograms: true
Has Colormap: false
Has Multi Dimensions : false
Rendering Rule:
Min Scale: 0
Max Scale: 0
Copyright Text:
Service Data Type: esriImageServiceDataTypeRGB
Min Values: 36, 35, 23
Max Values: 246, 218, 183
Mean Values: 127.02252944188, 111.77457757296, 90.435611879160007
Standard Deviation Values: 31.756997920134001, 25.359605261016998, 20.475431473013
Object ID Field:
Fields:
None
Default Mosaic Method: Center
Allowed Mosaic Methods:
SortField:
SortValue: N/A
Mosaic Operator: First
Default Compression Quality: 75
Default Resampling Method: Bilinear
Max Record Count: null
Max Image Height: 4100
Max Image Width: 15000
Max Download Image Count: null
Max Mosaic Image Count: null
Allow Raster Function: true
Allow Copy: true
Allow Analysis: true
Allow Compute TiePoints: false
Supports Statistics: false
Supports Advanced Queries: false
Use StandardizedQueries: false
Raster Type Infos:
Name: Raster Dataset
Description: Supports all ArcGIS Raster Datasets
Help:
Has Raster Attribute Table: false
Edit Fields Info: N/A
Ownership Based AccessControl For Rasters: N/A
Child Resources:
Info
Histograms
Statistics
Key Properties
Legend
Raster Function Infos
Supported Operations:
Export Image
Identify
Measure
Compute Histograms
Compute Statistics Histograms
Get Samples
Compute Class Statistics
Query Boundary
Compute Pixel Location
Compute Angles
Validate
Project