View In:
ArcGIS JavaScript
ArcGIS Online Map Viewer
ArcGIS Earth
Service Description: 2013Aerials/WIDOUG032055
Name: 2013Aerials/WIDOUG032055
Description:
Single Fused Map Cache: false
Extent:
XMin: 161035.38830566406
YMin: 252182.53573778272
XMax: 187713.72137221374
YMax: 283887.20208740234
Spatial Reference: 103415
(8182)
Initial Extent:
XMin: 161035.38830566406
YMin: 252182.53573778272
XMax: 187713.72137221374
YMax: 283887.20208740234
Spatial Reference: 103415
(8182)
Full Extent:
XMin: 161035.38830566406
YMin: 252182.53573778272
XMax: 187713.72137221374
YMax: 283887.20208740234
Spatial Reference: 103415
(8182)
Pixel Size X: 0.33333332999999593
Pixel Size Y: 0.3333333299999961
Band Count: 3
Pixel Type: U8
RasterFunction Infos: {"rasterFunctionInfos": [{
"help": "",
"name": "None",
"description": ""
}]}
Mensuration Capabilities: Basic
Inspection Capabilities:
Has Histograms: true
Has Colormap: false
Has Multi Dimensions : false
Rendering Rule:
Min Scale: 0
Max Scale: 0
Copyright Text:
Service Data Type: esriImageServiceDataTypeRGB
Min Values: 25, 14, 6
Max Values: 241, 214, 177
Mean Values: 138.40111610181, 118.14699877501, 91.523751190962003
Standard Deviation Values: 27.681954097681, 23.972050672906999, 20.781003084759998
Object ID Field:
Fields:
None
Default Mosaic Method: Center
Allowed Mosaic Methods:
SortField:
SortValue: N/A
Mosaic Operator: First
Default Compression Quality: 75
Default Resampling Method: Bilinear
Max Record Count: null
Max Image Height: 4100
Max Image Width: 15000
Max Download Image Count: null
Max Mosaic Image Count: null
Allow Raster Function: true
Allow Copy: true
Allow Analysis: true
Allow Compute TiePoints: false
Supports Statistics: false
Supports Advanced Queries: false
Use StandardizedQueries: false
Raster Type Infos:
Name: Raster Dataset
Description: Supports all ArcGIS Raster Datasets
Help:
Has Raster Attribute Table: false
Edit Fields Info: N/A
Ownership Based AccessControl For Rasters: N/A
Child Resources:
Info
Histograms
Statistics
Key Properties
Legend
Raster Function Infos
Supported Operations:
Export Image
Identify
Measure
Compute Histograms
Compute Statistics Histograms
Get Samples
Compute Class Statistics
Query Boundary
Compute Pixel Location
Compute Angles
Validate
Project