View In:
ArcGIS JavaScript
ArcGIS Online Map Viewer
ArcGIS Earth
Service Description: 2013Aerials/WIDOUG028068
Name: 2013Aerials/WIDOUG028068
Description:
Single Fused Map Cache: false
Extent:
XMin: 187708.6870727539
YMin: 268020.50132624124
XMax: 235673.35325977334
YMax: 305022.8342895508
Spatial Reference: 103415
(8182)
Initial Extent:
XMin: 187708.6870727539
YMin: 268020.50132624124
XMax: 235673.35325977334
YMax: 305022.8342895508
Spatial Reference: 103415
(8182)
Full Extent:
XMin: 187708.6870727539
YMin: 268020.50132624124
XMax: 235673.35325977334
YMax: 305022.8342895508
Spatial Reference: 103415
(8182)
Pixel Size X: 0.3333333299999961
Pixel Size Y: 0.3333333299999959
Band Count: 3
Pixel Type: U8
RasterFunction Infos: {"rasterFunctionInfos": [{
"help": "",
"name": "None",
"description": ""
}]}
Mensuration Capabilities: Basic
Inspection Capabilities:
Has Histograms: true
Has Colormap: false
Has Multi Dimensions : false
Rendering Rule:
Min Scale: 0
Max Scale: 0
Copyright Text:
Service Data Type: esriImageServiceDataTypeRGB
Min Values: 2, 55, 32
Max Values: 255, 255, 255
Mean Values: 152.93879641485, 141.42048655569999, 124.55825864277
Standard Deviation Values: 56.173748140153997, 56.871190263309998, 63.048949534696
Object ID Field:
Fields:
None
Default Mosaic Method: Center
Allowed Mosaic Methods:
SortField:
SortValue: N/A
Mosaic Operator: First
Default Compression Quality: 75
Default Resampling Method: Bilinear
Max Record Count: null
Max Image Height: 4100
Max Image Width: 15000
Max Download Image Count: null
Max Mosaic Image Count: null
Allow Raster Function: true
Allow Copy: true
Allow Analysis: true
Allow Compute TiePoints: false
Supports Statistics: false
Supports Advanced Queries: false
Use StandardizedQueries: false
Raster Type Infos:
Name: Raster Dataset
Description: Supports all ArcGIS Raster Datasets
Help:
Has Raster Attribute Table: false
Edit Fields Info: N/A
Ownership Based AccessControl For Rasters: N/A
Child Resources:
Info
Histograms
Statistics
Key Properties
Legend
Raster Function Infos
Supported Operations:
Export Image
Identify
Measure
Compute Histograms
Compute Statistics Histograms
Get Samples
Compute Class Statistics
Query Boundary
Compute Pixel Location
Compute Angles
Validate
Project