View In:
ArcGIS JavaScript
ArcGIS Online Map Viewer
ArcGIS Earth
Service Description: 2013Aerials/WIDOUG026051
Name: 2013Aerials/WIDOUG026051
Description:
Single Fused Map Cache: false
Extent:
XMin: 123812.1400756836
YMin: 283860.96302503994
XMax: 187717.13943663283
YMax: 315612.96270751953
Spatial Reference: 103415
(8182)
Initial Extent:
XMin: 123812.1400756836
YMin: 283860.96302503994
XMax: 187717.13943663283
YMax: 315612.96270751953
Spatial Reference: 103415
(8182)
Full Extent:
XMin: 123812.1400756836
YMin: 283860.96302503994
XMax: 187717.13943663283
YMax: 315612.96270751953
Spatial Reference: 103415
(8182)
Pixel Size X: 0.33333332999999604
Pixel Size Y: 0.33333332999999576
Band Count: 3
Pixel Type: U8
RasterFunction Infos: {"rasterFunctionInfos": [{
"help": "",
"name": "None",
"description": ""
}]}
Mensuration Capabilities: Basic
Inspection Capabilities:
Has Histograms: true
Has Colormap: false
Has Multi Dimensions : false
Rendering Rule:
Min Scale: 0
Max Scale: 0
Copyright Text:
Service Data Type: esriImageServiceDataTypeRGB
Min Values: 1, 0, 0
Max Values: 255, 255, 255
Mean Values: 161.25260298777999, 147.98868266183999, 132.31462200090999
Standard Deviation Values: 63.852939232182997, 70.682669084777999, 78.974577275930002
Object ID Field:
Fields:
None
Default Mosaic Method: Center
Allowed Mosaic Methods:
SortField:
SortValue: N/A
Mosaic Operator: First
Default Compression Quality: 75
Default Resampling Method: Bilinear
Max Record Count: null
Max Image Height: 4100
Max Image Width: 15000
Max Download Image Count: null
Max Mosaic Image Count: null
Allow Raster Function: true
Allow Copy: true
Allow Analysis: true
Allow Compute TiePoints: false
Supports Statistics: false
Supports Advanced Queries: false
Use StandardizedQueries: false
Raster Type Infos:
Name: Raster Dataset
Description: Supports all ArcGIS Raster Datasets
Help:
Has Raster Attribute Table: false
Edit Fields Info: N/A
Ownership Based AccessControl For Rasters: N/A
Child Resources:
Info
Histograms
Statistics
Key Properties
Legend
Raster Function Infos
Supported Operations:
Export Image
Identify
Measure
Compute Histograms
Compute Statistics Histograms
Get Samples
Compute Class Statistics
Query Boundary
Compute Pixel Location
Compute Angles
Validate
Project