View In:
ArcGIS JavaScript
ArcGIS Online Map Viewer
ArcGIS Earth
Service Description: 2006Aerials/SuperiorESD2006
Name: 2006Aerials/SuperiorESD2006
Description:
Single Fused Map Cache: false
Extent:
XMin: 121150.0
YMin: 278690.0
XMax: 190340.0
YMax: 316160.0
Spatial Reference: PROJCS["dc-4",GEOGCS["douglas cnty geographic coord system",DATUM["",SPHEROID["douglas county",6378414.93,298.27021878]],PRIMEM["greenwich",0.0],UNIT["Degree",0.0174532925199433]],PROJECTION["Transverse_Mercator"],PARAMETER["False_Easting",194000.0],PARAMETER["False_Northing",0.0],PARAMETER["Central_Meridian",-91.91666667],PARAMETER["Scale_Factor",0.999994968],PARAMETER["Latitude_Of_Origin",45.88333333],UNIT["Foot_US",0.3048006096012192]]
Initial Extent:
XMin: 121150.0
YMin: 278690.0
XMax: 190340.0
YMax: 316160.0
Spatial Reference: PROJCS["dc-4",GEOGCS["douglas cnty geographic coord system",DATUM["",SPHEROID["douglas county",6378414.93,298.27021878]],PRIMEM["greenwich",0.0],UNIT["Degree",0.0174532925199433]],PROJECTION["Transverse_Mercator"],PARAMETER["False_Easting",194000.0],PARAMETER["False_Northing",0.0],PARAMETER["Central_Meridian",-91.91666667],PARAMETER["Scale_Factor",0.999994968],PARAMETER["Latitude_Of_Origin",45.88333333],UNIT["Foot_US",0.3048006096012192]]
Full Extent:
XMin: 121150.0
YMin: 278690.0
XMax: 190340.0
YMax: 316160.0
Spatial Reference: PROJCS["dc-4",GEOGCS["douglas cnty geographic coord system",DATUM["",SPHEROID["douglas county",6378414.93,298.27021878]],PRIMEM["greenwich",0.0],UNIT["Degree",0.0174532925199433]],PROJECTION["Transverse_Mercator"],PARAMETER["False_Easting",194000.0],PARAMETER["False_Northing",0.0],PARAMETER["Central_Meridian",-91.91666667],PARAMETER["Scale_Factor",0.999994968],PARAMETER["Latitude_Of_Origin",45.88333333],UNIT["Foot_US",0.3048006096012192]]
Pixel Size X: 0.5
Pixel Size Y: 0.5
Band Count: 3
Pixel Type: U8
RasterFunction Infos: {"rasterFunctionInfos": [{
"help": "",
"name": "None",
"description": ""
}]}
Mensuration Capabilities: Basic
Inspection Capabilities:
Has Histograms: true
Has Colormap: false
Has Multi Dimensions : false
Rendering Rule:
Min Scale: 0
Max Scale: 0
Copyright Text:
Service Data Type: esriImageServiceDataTypeRGB
Min Values: 0, 0, 0
Max Values: 151, 141, 133
Mean Values: 66.885135135135002, 65.449920508744, 62.911764705882
Standard Deviation Values: 47.178094250701001, 45.784205114761001, 43.499586149031003
Object ID Field:
Fields:
None
Default Mosaic Method: Center
Allowed Mosaic Methods:
SortField:
SortValue: N/A
Mosaic Operator: First
Default Compression Quality: 75
Default Resampling Method: Bilinear
Max Record Count: null
Max Image Height: 4100
Max Image Width: 15000
Max Download Image Count: null
Max Mosaic Image Count: null
Allow Raster Function: true
Allow Copy: true
Allow Analysis: true
Allow Compute TiePoints: false
Supports Statistics: false
Supports Advanced Queries: false
Use StandardizedQueries: false
Raster Type Infos:
Name: Raster Dataset
Description: Supports all ArcGIS Raster Datasets
Help:
Has Raster Attribute Table: false
Edit Fields Info: N/A
Ownership Based AccessControl For Rasters: N/A
Child Resources:
Info
Histograms
Statistics
Key Properties
Legend
Raster Function Infos
Supported Operations:
Export Image
Identify
Measure
Compute Histograms
Compute Statistics Histograms
Get Samples
Compute Class Statistics
Query Boundary
Compute Pixel Location
Compute Angles
Validate
Project