View In:
ArcGIS JavaScript
ArcGIS Online Map Viewer
ArcGIS Earth
Service Description: 2006Aerials/DOUGLAS_NE_DOUGLASCOUNTYPROJECTION
Name: 2006Aerials/DOUGLAS_NE_DOUGLASCOUNTYPROJECTION
Description:
Single Fused Map Cache: false
Extent:
XMin: 191599.0
YMin: 211649.0
XMax: 286031.0
YMax: 321411.0
Spatial Reference: PROJCS["dc-4",GEOGCS["douglas cnty geographic coord system",DATUM["",SPHEROID["douglas county",6378414.93,298.27021878]],PRIMEM["greenwich",0.0],UNIT["Degree",0.0174532925199433]],PROJECTION["Transverse_Mercator"],PARAMETER["False_Easting",194000.0],PARAMETER["False_Northing",0.0],PARAMETER["Central_Meridian",-91.91666667],PARAMETER["Scale_Factor",0.999994968],PARAMETER["Latitude_Of_Origin",45.88333333],UNIT["Foot_US",0.3048006096012192]]
Initial Extent:
XMin: 191599.0
YMin: 211649.0
XMax: 286031.0
YMax: 321411.0
Spatial Reference: PROJCS["dc-4",GEOGCS["douglas cnty geographic coord system",DATUM["",SPHEROID["douglas county",6378414.93,298.27021878]],PRIMEM["greenwich",0.0],UNIT["Degree",0.0174532925199433]],PROJECTION["Transverse_Mercator"],PARAMETER["False_Easting",194000.0],PARAMETER["False_Northing",0.0],PARAMETER["Central_Meridian",-91.91666667],PARAMETER["Scale_Factor",0.999994968],PARAMETER["Latitude_Of_Origin",45.88333333],UNIT["Foot_US",0.3048006096012192]]
Full Extent:
XMin: 191599.0
YMin: 211649.0
XMax: 286031.0
YMax: 321411.0
Spatial Reference: PROJCS["dc-4",GEOGCS["douglas cnty geographic coord system",DATUM["",SPHEROID["douglas county",6378414.93,298.27021878]],PRIMEM["greenwich",0.0],UNIT["Degree",0.0174532925199433]],PROJECTION["Transverse_Mercator"],PARAMETER["False_Easting",194000.0],PARAMETER["False_Northing",0.0],PARAMETER["Central_Meridian",-91.91666667],PARAMETER["Scale_Factor",0.999994968],PARAMETER["Latitude_Of_Origin",45.88333333],UNIT["Foot_US",0.3048006096012192]]
Pixel Size X: 1.0
Pixel Size Y: 1.0
Band Count: 3
Pixel Type: U8
RasterFunction Infos: {"rasterFunctionInfos": [{
"help": "",
"name": "None",
"description": ""
}]}
Mensuration Capabilities: Basic
Inspection Capabilities:
Has Histograms: true
Has Colormap: false
Has Multi Dimensions : false
Rendering Rule:
Min Scale: 0
Max Scale: 0
Copyright Text:
Service Data Type: esriImageServiceDataTypeRGB
Min Values: 0, 0, 0
Max Values: 201, 194, 179
Mean Values: 109.16903073285999, 107.51063829787, 100.01418439715999
Standard Deviation Values: 45.738311066523998, 44.07276119398, 40.788811494925
Object ID Field:
Fields:
None
Default Mosaic Method: Center
Allowed Mosaic Methods:
SortField:
SortValue: N/A
Mosaic Operator: First
Default Compression Quality: 75
Default Resampling Method: Bilinear
Max Record Count: null
Max Image Height: 4100
Max Image Width: 15000
Max Download Image Count: null
Max Mosaic Image Count: null
Allow Raster Function: true
Allow Copy: true
Allow Analysis: true
Allow Compute TiePoints: false
Supports Statistics: false
Supports Advanced Queries: false
Use StandardizedQueries: false
Raster Type Infos:
Name: Raster Dataset
Description: Supports all ArcGIS Raster Datasets
Help:
Has Raster Attribute Table: false
Edit Fields Info: N/A
Ownership Based AccessControl For Rasters: N/A
Child Resources:
Info
Histograms
Statistics
Key Properties
Legend
Raster Function Infos
Supported Operations:
Export Image
Identify
Measure
Compute Histograms
Compute Statistics Histograms
Get Samples
Compute Class Statistics
Query Boundary
Compute Pixel Location
Compute Angles
Validate
Project