{
 "currentVersion": 11.4,
 "serviceDescription": "rasters/dc_2007_infrared",
 "name": "rasters/dc_2007_infrared",
 "description": "",
 "extent": {
  "xmin": 93500.94,
  "ymin": 88447.34999999998,
  "xmax": 298575.94,
  "ymax": 316397.35,
  "spatialReference": {
   "wkt2": "PROJCRS[\"dc-4\",BASEGEOGCRS[\"GCS_douglas_cnty_geographic_coord_system\",DATUM[\"D_custom\",ELLIPSOID[\"douglas_county\",6378414.93,298.27021878,LENGTHUNIT[\"Meter\",1.0]]],PRIMEM[\"greenwich\",0.0,ANGLEUNIT[\"Degree\",0.0174532925199433]],CS[ellipsoidal,2],ANGLEUNIT[\"Degree\",0.0174532925199433]],CONVERSION[\"Transverse_Mercator\",METHOD[\"Transverse_Mercator\"],PARAMETER[\"False_Easting\",194000.0,LENGTHUNIT[\"Foot_US\",0.3048006096012192]],PARAMETER[\"False_Northing\",0.0,LENGTHUNIT[\"Foot_US\",0.3048006096012192]],PARAMETER[\"Central_Meridian\",-91.91666667,ANGLEUNIT[\"Degree\",0.0174532925199433]],PARAMETER[\"Scale_Factor\",0.999994968,SCALEUNIT[\"Unity\",1.0]],PARAMETER[\"Latitude_Of_Origin\",45.88333333,ANGLEUNIT[\"Degree\",0.0174532925199433]]],CS[Cartesian,2],AXIS[\"Easting (X)\",east,ORDER[1]],AXIS[\"Northing (Y)\",north,ORDER[2]],LENGTHUNIT[\"Foot_US\",0.3048006096012192]]",
   "wkt": "PROJCS[\"dc-4\",GEOGCS[\"GCS_douglas_cnty_geographic_coord_system\",DATUM[\"D_custom\",SPHEROID[\"douglas_county\",6378414.93,298.27021878]],PRIMEM[\"greenwich\",0.0],UNIT[\"Degree\",0.0174532925199433]],PROJECTION[\"Transverse_Mercator\"],PARAMETER[\"False_Easting\",194000.0],PARAMETER[\"False_Northing\",0.0],PARAMETER[\"Central_Meridian\",-91.91666667],PARAMETER[\"Scale_Factor\",0.999994968],PARAMETER[\"Latitude_Of_Origin\",45.88333333],UNIT[\"Foot_US\",0.3048006096012192]]"
  }
 },
 "initialExtent": {
  "xmin": 93500.94,
  "ymin": 88447.34999999998,
  "xmax": 298575.94,
  "ymax": 316397.35,
  "spatialReference": {
   "wkt2": "PROJCRS[\"dc-4\",BASEGEOGCRS[\"GCS_douglas_cnty_geographic_coord_system\",DATUM[\"D_custom\",ELLIPSOID[\"douglas_county\",6378414.93,298.27021878,LENGTHUNIT[\"Meter\",1.0]]],PRIMEM[\"greenwich\",0.0,ANGLEUNIT[\"Degree\",0.0174532925199433]],CS[ellipsoidal,2],ANGLEUNIT[\"Degree\",0.0174532925199433]],CONVERSION[\"Transverse_Mercator\",METHOD[\"Transverse_Mercator\"],PARAMETER[\"False_Easting\",194000.0,LENGTHUNIT[\"Foot_US\",0.3048006096012192]],PARAMETER[\"False_Northing\",0.0,LENGTHUNIT[\"Foot_US\",0.3048006096012192]],PARAMETER[\"Central_Meridian\",-91.91666667,ANGLEUNIT[\"Degree\",0.0174532925199433]],PARAMETER[\"Scale_Factor\",0.999994968,SCALEUNIT[\"Unity\",1.0]],PARAMETER[\"Latitude_Of_Origin\",45.88333333,ANGLEUNIT[\"Degree\",0.0174532925199433]]],CS[Cartesian,2],AXIS[\"Easting (X)\",east,ORDER[1]],AXIS[\"Northing (Y)\",north,ORDER[2]],LENGTHUNIT[\"Foot_US\",0.3048006096012192]]",
   "wkt": "PROJCS[\"dc-4\",GEOGCS[\"GCS_douglas_cnty_geographic_coord_system\",DATUM[\"D_custom\",SPHEROID[\"douglas_county\",6378414.93,298.27021878]],PRIMEM[\"greenwich\",0.0],UNIT[\"Degree\",0.0174532925199433]],PROJECTION[\"Transverse_Mercator\"],PARAMETER[\"False_Easting\",194000.0],PARAMETER[\"False_Northing\",0.0],PARAMETER[\"Central_Meridian\",-91.91666667],PARAMETER[\"Scale_Factor\",0.999994968],PARAMETER[\"Latitude_Of_Origin\",45.88333333],UNIT[\"Foot_US\",0.3048006096012192]]"
  }
 },
 "fullExtent": {
  "xmin": 93500.94,
  "ymin": 88447.34999999998,
  "xmax": 298575.94,
  "ymax": 316397.35,
  "spatialReference": {
   "wkt2": "PROJCRS[\"dc-4\",BASEGEOGCRS[\"GCS_douglas_cnty_geographic_coord_system\",DATUM[\"D_custom\",ELLIPSOID[\"douglas_county\",6378414.93,298.27021878,LENGTHUNIT[\"Meter\",1.0]]],PRIMEM[\"greenwich\",0.0,ANGLEUNIT[\"Degree\",0.0174532925199433]],CS[ellipsoidal,2],ANGLEUNIT[\"Degree\",0.0174532925199433]],CONVERSION[\"Transverse_Mercator\",METHOD[\"Transverse_Mercator\"],PARAMETER[\"False_Easting\",194000.0,LENGTHUNIT[\"Foot_US\",0.3048006096012192]],PARAMETER[\"False_Northing\",0.0,LENGTHUNIT[\"Foot_US\",0.3048006096012192]],PARAMETER[\"Central_Meridian\",-91.91666667,ANGLEUNIT[\"Degree\",0.0174532925199433]],PARAMETER[\"Scale_Factor\",0.999994968,SCALEUNIT[\"Unity\",1.0]],PARAMETER[\"Latitude_Of_Origin\",45.88333333,ANGLEUNIT[\"Degree\",0.0174532925199433]]],CS[Cartesian,2],AXIS[\"Easting (X)\",east,ORDER[1]],AXIS[\"Northing (Y)\",north,ORDER[2]],LENGTHUNIT[\"Foot_US\",0.3048006096012192]]",
   "wkt": "PROJCS[\"dc-4\",GEOGCS[\"GCS_douglas_cnty_geographic_coord_system\",DATUM[\"D_custom\",SPHEROID[\"douglas_county\",6378414.93,298.27021878]],PRIMEM[\"greenwich\",0.0],UNIT[\"Degree\",0.0174532925199433]],PROJECTION[\"Transverse_Mercator\"],PARAMETER[\"False_Easting\",194000.0],PARAMETER[\"False_Northing\",0.0],PARAMETER[\"Central_Meridian\",-91.91666667],PARAMETER[\"Scale_Factor\",0.999994968],PARAMETER[\"Latitude_Of_Origin\",45.88333333],UNIT[\"Foot_US\",0.3048006096012192]]"
  }
 },
 "sortableFields": "",
 "bandCount": 3,
 "pixelType": "U8",
 "minValues": [
  0,
  0,
  0
 ],
 "maxValues": [
  255,
  255,
  255
 ],
 "meanValues": [
  134.28676470588,
  92.501050420168,
  98.723739495798
 ],
 "stdvValues": [
  79.099439551946,
  77.71273773803,
  76.977499146255
 ],
 "hasMultidimensions": false,
 "pixelSizeX": 1,
 "pixelSizeY": 1,
 "meanPixelSize": 0.30480060960121924,
 "datasetFormat": "MrSID",
 "uncompressedSize": 140240538750,
 "blockWidth": 1024,
 "blockHeight": 128,
 "compressionType": "Wavelet (MG3)",
 "bandNames": [
  "Band_1",
  "Band_2",
  "Band_3"
 ],
 "allowCopy": true,
 "allowAnalysis": true,
 "itemAccess": false,
 "inspectionCapabilities": "",
 "minPixelSize": 0,
 "maxPixelSize": 0,
 "copyrightText": "",
 "serviceDataType": "esriImageServiceDataTypeRGB",
 "serviceSourceType": "esriImageServiceSourceTypeDataset",
 "objectIdField": "",
 "fields": [],
 "capabilities": "Image,Metadata,Mensuration",
 "defaultMosaicMethod": "Center",
 "allowedMosaicMethods": "",
 "sortField": "",
 "sortValue": null,
 "sortAscending": true,
 "mosaicOperator": "First",
 "defaultCompressionQuality": 75,
 "defaultResamplingMethod": "Bilinear",
 "maxImageHeight": 4100,
 "maxImageWidth": 15000,
 "allowRasterFunction": true,
 "rasterFunctionInfos": [
  {
   "name": "None",
   "description": "",
   "help": ""
  }
 ],
 "rasterTypeInfos": [
  {
   "name": "Raster Dataset",
   "description": "Supports all ArcGIS Raster Datasets",
   "help": ""
  }
 ],
 "mensurationCapabilities": "Basic",
 "hasHistograms": true,
 "hasColormap": false,
 "hasRasterAttributeTable": false,
 "minScale": 0,
 "maxScale": 0,
 "exportTilesAllowed": false,
 "supportsStatistics": false,
 "supportsAdvancedQueries": false,
 "editFieldsInfo": null,
 "ownershipBasedAccessControlForRasters": null,
 "allowComputeTiePoints": false,
 "useStandardizedQueries": true,
 "advancedQueryCapabilities": {
  "useStandardizedQueries": true,
  "supportsStatistics": false,
  "supportsOrderBy": false,
  "supportsDistinct": false,
  "supportsPagination": false
 },
 "spatialReference": {
  "wkt2": "PROJCRS[\"dc-4\",BASEGEOGCRS[\"GCS_douglas_cnty_geographic_coord_system\",DATUM[\"D_custom\",ELLIPSOID[\"douglas_county\",6378414.93,298.27021878,LENGTHUNIT[\"Meter\",1.0]]],PRIMEM[\"greenwich\",0.0,ANGLEUNIT[\"Degree\",0.0174532925199433]],CS[ellipsoidal,2],ANGLEUNIT[\"Degree\",0.0174532925199433]],CONVERSION[\"Transverse_Mercator\",METHOD[\"Transverse_Mercator\"],PARAMETER[\"False_Easting\",194000.0,LENGTHUNIT[\"Foot_US\",0.3048006096012192]],PARAMETER[\"False_Northing\",0.0,LENGTHUNIT[\"Foot_US\",0.3048006096012192]],PARAMETER[\"Central_Meridian\",-91.91666667,ANGLEUNIT[\"Degree\",0.0174532925199433]],PARAMETER[\"Scale_Factor\",0.999994968,SCALEUNIT[\"Unity\",1.0]],PARAMETER[\"Latitude_Of_Origin\",45.88333333,ANGLEUNIT[\"Degree\",0.0174532925199433]]],CS[Cartesian,2],AXIS[\"Easting (X)\",east,ORDER[1]],AXIS[\"Northing (Y)\",north,ORDER[2]],LENGTHUNIT[\"Foot_US\",0.3048006096012192]]",
  "wkt": "PROJCS[\"dc-4\",GEOGCS[\"GCS_douglas_cnty_geographic_coord_system\",DATUM[\"D_custom\",SPHEROID[\"douglas_county\",6378414.93,298.27021878]],PRIMEM[\"greenwich\",0.0],UNIT[\"Degree\",0.0174532925199433]],PROJECTION[\"Transverse_Mercator\"],PARAMETER[\"False_Easting\",194000.0],PARAMETER[\"False_Northing\",0.0],PARAMETER[\"Central_Meridian\",-91.91666667],PARAMETER[\"Scale_Factor\",0.999994968],PARAMETER[\"Latitude_Of_Origin\",45.88333333],UNIT[\"Foot_US\",0.3048006096012192]]"
 }
}
