<?xml version="1.0" encoding="UTF-8" standalone="no"?>
<metadata xml:lang="en">
<idinfo>
<citation>
<citeinfo>
<origin>Pro-West &amp; Associates, Inc.</origin>
<pubdate>05/19/2008</pubdate>
<pubtime>Unknown</pubtime>
<title Sync="TRUE">Douglas_County_1973.sid</title>
<edition>N/A</edition>
<geoform Sync="TRUE">raster digital data</geoform>
<serinfo>
</serinfo>
<pubinfo>
<pubplace>Pro-West &amp; Associates, Inc.</pubplace>
<publish>Pro-West &amp; Associates, Inc.</publish>
</pubinfo>
<onlink>withheld</onlink>
<ftname Sync="TRUE">Douglas_County_1973.sid</ftname>
</citeinfo>
</citation>
<descript>
<abstract>This data set contains imagery created by Pro-West &amp; Associates, Inc. (PWA). The original black and white IR aerial photos were provided by the Douglas County Forestry Department. These photos were scanned at 1200 PPI Grayscale (8-bit) and saved as JPEG images. These digital images where then geographically referenced to the NAIP (National Agricultural Imagery Program) 2005 Orthorectified Images for Douglas County, Wisconsin that had been projected from UTM NAD 83, Zone 15N to Douglas County, WI Coordinates and saved as TIFF images with a pixel resolution of 1.65 feet. From these rectified images, a MrSID (MG3) mosaic was created with a target encode ratio of 10:1 (Actual encode ratio: 10:1).</abstract>
<purpose>Provide Douglas County, Wisconsin with a digital archive of their 1973 and 1974 black and white IR aerial photos.</purpose>
<langdata Sync="TRUE">en</langdata>
</descript>
<timeperd>
<timeinfo>
<sngdate>
<caldate>05/19/2008</caldate>
</sngdate>
</timeinfo>
<current>publication date</current>
</timeperd>
<status>
<progress>Complete</progress>
<update>None planned</update>
</status>
<spdom>
<bounding>
<westbc Sync="TRUE">-92.313932</westbc>
<eastbc Sync="TRUE">-91.538289</eastbc>
<northbc Sync="TRUE">46.764852</northbc>
<southbc Sync="TRUE">46.143903</southbc>
</bounding>
<lboundng>
<leftbc Sync="TRUE">94432.369568</leftbc>
<rightbc Sync="TRUE">288833.719568</rightbc>
<topbc Sync="TRUE">321493.148687</topbc>
<bottombc Sync="TRUE">95271.548687</bottombc>
</lboundng>
</spdom>
<keywords>
<theme>
<themekt>None</themekt>
<themekey>Aerial Photography</themekey>
<themekey>MrSID</themekey>
<themekey>Georectified Image</themekey>
<themekey>Mosaic</themekey>
<themekey>1973</themekey>
<themekey>1974</themekey>
</theme>
<place>
<placekey>Douglas County</placekey>
<placekey>Wisconsin</placekey>
<placekey>USA</placekey>
</place>
</keywords>
<accconst>Client use only.</accconst>
<useconst>Client use only.</useconst>
<ptcontac>
<cntinfo>
<cntorgp>
<cntorg>Douglas County Forestry Department</cntorg>
<cntper>Jon Harris, Director</cntper>
</cntorgp>
<cntaddr>
<addrtype>mailing address</addrtype>
<address>P.O. Box 211</address>
<city>Solon Springs</city>
<state>Wisconsin</state>
<postal>54873</postal>
<country>USA</country>
</cntaddr>
<cntvoice>715-378-2219</cntvoice>
<cntfax>715-378-2807</cntfax>
<cntemail>forestry@douglascountywi.org</cntemail>
<hours>8:00 a.m. to 4:30 p.m., Monday through Friday</hours>
</cntinfo>
</ptcontac>
<browse>
<browsen>withheld</browsen>
<browsed>MrSID mosaic of 1973 and 1974 black and white IR aerial photos of Douglas County, Wisconsin</browsed>
<browset>SID</browset>
</browse>
<datacred>N/A</datacred>
<native Sync="FALSE">ESRI ArcCatalog 9.2.4.1420</native>
<natvform Sync="TRUE">Raster Dataset</natvform>
</idinfo>
<dataqual>
<logic>None</logic>
<complete>None</complete>
<posacc>
<horizpa>
<horizpar>Positioned to 2005 NAIP Orthophotography. Accuracy could not be measured. Color and tonal differences between individual frames were corrected.</horizpar>
</horizpa>
<vertacc>
<vertaccr>N/A 2d only</vertaccr>
</vertacc>
</posacc>
<lineage>
<srcinfo>
<srccite>
<citeinfo>
<origin>Pro-West &amp; Associates, Inc.</origin>
<pubdate>05/19/2008</pubdate>
<pubtime>Unknown</pubtime>
<title>Douglas County, Wisconsin 1973 and 1974 black and white IR aerial photo mosaic</title>
</citeinfo>
</srccite>
</srcinfo>
<procstep>
<procdesc>This data set contains imagery created by Pro-West &amp; Associates, Inc. (PWA). The original black and white IR aerial photos were provided by the Douglas County Forestry Department. Every other photo was scanned at 1200 PPI Grayscale (8-bit) and saved as a JPEG image. These digital images where then geographically referenced to the NAIP (National Agricultural Imagery Program) 2005 Orthorectified Images for Douglas County, Wisconsin that had been projected from UTM NAD 83, Zone 15N to Douglas County, WI Coordinates and saved as TIFF images with a pixel resolution of 1.65 feet. From these rectified images, a MrSID (MG3) mosaic was created with a target encode ratio of 10:1 (Actual encode ratio: 10:1). The insertion order of the individual rectified tiff images in the creation of the MrSID mosaic is as follows. 1973 (every other photo):
Line 01: 1973_l01_350.tif thru 1973_l01_400.tif
Line 02: 1973_l02_402.tif thru 1973_l02_450.tif
Line 03: 1973_l03_452.tif thru 1973_l03_502.tif
Line 04: 1973_l04_504.tif thru 1973_l04_564.tif
Line 05: 1973_l05_567.tif thru 1973_l05_677.tif
Line 06: 1973_l06_680.tif thru 1973_l06_690.tif, 1973_l06_691.tif thru 1973_l06_693.tif, 1973_l06_694.tif thru 1973_l06_718.tif
Line 07: 1973_l07_719.tif thru 1973_l07_775.tif, 1973_l07_776.tif
Line 08: 1973_l08_777.tif thru 1973_l08_799.tif, 1973_l08_800.tif thru 1973_l08_802.tif, 1973_l08_803.tif thru 1973_l08_833.tif
Line 09: 1973_l09_836.tif thru 1973_l09_866.tif, 1973_l09_867.tif thru 1973_l09_873.tif, 1973_l09_874.tif thru 1973_l09_890.tif
Line 10: 1973_l10_602.tif thru 1973_l10_624.tif, 1973_l10_625.tif, 1973_l10_626.tif thru 1973_l10_638.tif, 1973_l10_2208.tif thru 1973_l10_2226.tif
Line 11: 1973_l11_1688.tif thru 1973_l11_3288.tif
Line 12: 1973_l12_1730.tif thru 1973_l12_2254.tif
Line 13: 1973_l13_914.tif thru 1973_l13_960.tif
Line 14: 1973_l14_0963.tif thru 1973_l14_1015.tif
Line 15: 1973_l15_1017.tif thru 1973_l15_2039.tif
Line 16: 1973_l16_1045.tif thru 1973_l16_1065.tif, 1973_l16_1066.tif thru 1973_l16_1086.tif, 1973_l16_1087.tif thru 1973_l16_1097.tif
Line 17: 1973_l17_1098.tif thru 1973_l17_1132.tif, 1973_l17_1133.tif thru 1973_l17_1147.tif, 1973_l17_1148.tif
Line 18: 1973_l18_1151.tif thru 1973_l18_1201.tif
Line 19: 1973_l19_1205.tif thru 1973_l19_1257.tif
Line 20: 1973_l20_1258.tif thru 1973_l20_1314.tif
Line 21: 1973_l21_1315.tif thru 1973_l21_2133.tif
Line 22: 1973_l22_2042.tif thru 1973_l22_2102.tif
Line 23: 1973_l23_1343.tif thru 1973_l23_1399.tif
Line 24: 1973_l24_1401.tif thru 1973_l24_1447.tif, 1973_l24_1448, 1973_l24_1449.tif hru 1973_l24_1455.tif
1974 (every other photo):
Line 05: 1974_l05_3273.tif thru1974_l05_3279.tif</procdesc>
<procdate>05/19/2008</procdate>
<proccont>
<cntinfo>
<cntorgp>
<cntorg>Pro-West &amp; Associates, Inc.</cntorg>
<cntper>Lee Westfield</cntper>
</cntorgp>
<cntpos>Vice-President; Manager, Natural Resources and Remote Sensing Unit</cntpos>
<cntaddr>
<addrtype>mailing and physical address</addrtype>
<address>8239 State 371 NW</address>
<address>P.O. Box 812</address>
<city>Walker</city>
<state>Minnesota</state>
<postal>56484</postal>
<country>USA</country>
</cntaddr>
<cntvoice>218-547-3374, ext. 109</cntvoice>
<cntemail>lwest@prowestgis.com</cntemail>
<hours>Monday thru Friday, 8:00 a.m. thru 4:30 p.m. CST</hours>
</cntinfo>
</proccont>
<procsv>Microtec ScanWizard Pro ver. 7.02, ArcView GIS 3.2a with Image Analysis ver. 1.1, GeoExpress with MrSID ver. 6.1, Adobe Photoshop CS</procsv>
</procstep>
<procstep>
<procdesc Sync="TRUE">Metadata imported.</procdesc>
<srcused Sync="FALSE">withheld</srcused>
<date Sync="TRUE">20051101</date>
<time Sync="TRUE">10563400</time>
</procstep>
<procstep>
<procdesc Sync="TRUE">Metadata imported.</procdesc>
<srcused Sync="FALSE">withheld</srcused>
<date Sync="TRUE">20060713</date>
<time Sync="TRUE">14171000</time>
</procstep>
<procstep>
<procdesc Sync="TRUE">Metadata imported.</procdesc>
<srcused Sync="FALSE">withheld</srcused>
<date Sync="TRUE">20070307</date>
<time Sync="TRUE">09081800</time>
</procstep>
<procstep>
<procdesc Sync="TRUE">Metadata imported.</procdesc>
<srcused Sync="FALSE">withheld</srcused>
<date Sync="TRUE">20071109</date>
<time Sync="TRUE">10495100</time>
</procstep>
<procstep>
<procdesc Sync="TRUE">Metadata imported.</procdesc>
<srcused Sync="FALSE">withheld</srcused>
<date Sync="TRUE">20080312</date>
<time Sync="TRUE">10293500</time>
</procstep>
<procstep>
<procdesc Sync="TRUE">Metadata imported.</procdesc>
<srcused Sync="FALSE">withheld</srcused>
<date Sync="TRUE">20080417</date>
<time Sync="TRUE">10162600</time>
</procstep>
<procstep>
<procdesc Sync="TRUE">Metadata imported.</procdesc>
<srcused Sync="FALSE">withheld</srcused>
<date Sync="TRUE">20080519</date>
<time Sync="TRUE">14552600</time>
</procstep>
</lineage>
<cloud>unknown</cloud>
</dataqual>
<spdoinfo>
<direct Sync="TRUE">Raster</direct>
<rastinfo>
<rasttype Sync="TRUE">Pixel</rasttype>
<rowcount Sync="TRUE">137104</rowcount>
<colcount Sync="TRUE">117819</colcount>
<vrtcount Sync="TRUE">1</vrtcount>
<rastband Sync="TRUE">1</rastband>
<rastbpp Sync="TRUE">8</rastbpp>
<rastcmap Sync="TRUE">FALSE</rastcmap>
<rastcomp Sync="TRUE">Wavelet</rastcomp>
<rastdtyp Sync="TRUE">pixel codes</rastdtyp>
<rastifor Sync="TRUE">MrSID</rastifor>
<rastityp>MrSID Compressed Image</rastityp>
<rastnodt>0</rastnodt>
<rastorig Sync="TRUE">Upper Left</rastorig>
<rastplyr Sync="TRUE">TRUE</rastplyr>
<rastxsz Sync="TRUE">1.650000</rastxsz>
<rastxu>USFeet</rastxu>
<rastysz Sync="TRUE">1.650000</rastysz>
<rastyu>USFeet</rastyu>
</rastinfo>
</spdoinfo>
<spref>
<horizsys>
<planar>
<planci>
<plance Sync="TRUE">row and column</plance>
<coordrep>
<absres Sync="TRUE">1.650000</absres>
<ordres Sync="TRUE">1.650000</ordres>
</coordrep>
<plandu Sync="TRUE">survey feet</plandu>
</planci>
<mapproj>
<mapprojn Sync="TRUE">Transverse Mercator</mapprojn>
<transmer>
<sfctrmer Sync="TRUE">0.999995</sfctrmer>
<longcm Sync="TRUE">-91.916667</longcm>
<latprjo Sync="TRUE">45.883333</latprjo>
<feast Sync="TRUE">194000.000000</feast>
<fnorth Sync="TRUE">0.000000</fnorth>
</transmer>
</mapproj>
</planar>
<geodetic>
<horizdn Sync="TRUE">D_NAD_1983_HARN_Adj_WI_DG</horizdn>
<ellips Sync="TRUE">GRS_1980_Adj_WI_DG</ellips>
<semiaxis Sync="TRUE">6378414.930000</semiaxis>
<denflat Sync="TRUE">298.270219</denflat>
</geodetic>
<cordsysn>
<geogcsn Sync="TRUE">GCS_NAD_1983_HARN_Adj_WI_Douglas</geogcsn>
<projcsn Sync="TRUE">NAD_1983_HARN_Adj_WI_Douglas_Feet</projcsn>
</cordsysn>
</horizsys>
</spref>
<eainfo>
<detailed Name="Band_1">
<enttyp>
<enttypl Sync="TRUE">Band_1</enttypl>
<enttypc Sync="TRUE">256</enttypc>
<enttypt Sync="TRUE">Table</enttypt>
</enttyp>
<attr>
<attrlabl Sync="TRUE">ObjectID</attrlabl>
<attrdef Sync="TRUE">Internal feature number.</attrdef>
<attrdefs Sync="TRUE">ESRI</attrdefs>
<attrdomv>
<udom Sync="TRUE">Sequential unique whole numbers that are automatically generated.</udom>
</attrdomv>
<atprecis Sync="TRUE">0</atprecis>
<attalias Sync="TRUE">ObjectID</attalias>
<attrtype Sync="TRUE">OID</attrtype>
<attscale Sync="TRUE">0</attscale>
<attwidth Sync="TRUE">4</attwidth>
</attr>
<attr>
<attrlabl Sync="TRUE">Value</attrlabl>
<atprecis Sync="TRUE">0</atprecis>
<attalias Sync="TRUE">Value</attalias>
<attrtype Sync="TRUE">Integer</attrtype>
<attscale Sync="TRUE">0</attscale>
<attwidth Sync="TRUE">0</attwidth>
</attr>
<attr>
<attrlabl Sync="TRUE">Count</attrlabl>
<atprecis Sync="TRUE">0</atprecis>
<attalias Sync="TRUE">Count</attalias>
<attrtype Sync="TRUE">Integer</attrtype>
<attscale Sync="TRUE">0</attscale>
<attwidth Sync="TRUE">0</attwidth>
</attr>
</detailed>
<detailed Name="Band_2">
<enttyp>
<enttypl Sync="TRUE">Band_2</enttypl>
<enttypc Sync="TRUE">256</enttypc>
<enttypt Sync="TRUE">Table</enttypt>
</enttyp>
<attr>
<attrlabl Sync="TRUE">ObjectID</attrlabl>
<attrdef Sync="TRUE">Internal feature number.</attrdef>
<attrdefs Sync="TRUE">ESRI</attrdefs>
<attrdomv>
<udom Sync="TRUE">Sequential unique whole numbers that are automatically generated.</udom>
</attrdomv>
<atprecis Sync="TRUE">0</atprecis>
<attalias Sync="TRUE">ObjectID</attalias>
<attrtype Sync="TRUE">OID</attrtype>
<attscale Sync="TRUE">0</attscale>
<attwidth Sync="TRUE">4</attwidth>
</attr>
<attr>
<attrlabl Sync="TRUE">Value</attrlabl>
<atprecis Sync="TRUE">0</atprecis>
<attalias Sync="TRUE">Value</attalias>
<attrtype Sync="TRUE">Integer</attrtype>
<attscale Sync="TRUE">0</attscale>
<attwidth Sync="TRUE">0</attwidth>
</attr>
<attr>
<attrlabl Sync="TRUE">Count</attrlabl>
<atprecis Sync="TRUE">0</atprecis>
<attalias Sync="TRUE">Count</attalias>
<attrtype Sync="TRUE">Integer</attrtype>
<attscale Sync="TRUE">0</attscale>
<attwidth Sync="TRUE">0</attwidth>
</attr>
</detailed>
<detailed Name="Band_3">
<enttyp>
<enttypl Sync="TRUE">Band_3</enttypl>
<enttypc Sync="TRUE">256</enttypc>
<enttypt Sync="TRUE">Table</enttypt>
</enttyp>
<attr>
<attrlabl Sync="TRUE">ObjectID</attrlabl>
<attrdef Sync="TRUE">Internal feature number.</attrdef>
<attrdefs Sync="TRUE">ESRI</attrdefs>
<attrdomv>
<udom Sync="TRUE">Sequential unique whole numbers that are automatically generated.</udom>
</attrdomv>
<atprecis Sync="TRUE">0</atprecis>
<attalias Sync="TRUE">ObjectID</attalias>
<attrtype Sync="TRUE">OID</attrtype>
<attscale Sync="TRUE">0</attscale>
<attwidth Sync="TRUE">4</attwidth>
</attr>
<attr>
<attrlabl Sync="TRUE">Value</attrlabl>
<atprecis Sync="TRUE">0</atprecis>
<attalias Sync="TRUE">Value</attalias>
<attrtype Sync="TRUE">Integer</attrtype>
<attscale Sync="TRUE">0</attscale>
<attwidth Sync="TRUE">0</attwidth>
</attr>
<attr>
<attrlabl Sync="TRUE">Count</attrlabl>
<atprecis Sync="TRUE">0</atprecis>
<attalias Sync="TRUE">Count</attalias>
<attrtype Sync="TRUE">Integer</attrtype>
<attscale Sync="TRUE">0</attscale>
<attwidth Sync="TRUE">0</attwidth>
</attr>
</detailed>
<overview>
<eaover>24-bit pixels, 3 band color (RGB) represent brightness values 0-255</eaover>
<eadetcit>None</eadetcit>
</overview>
</eainfo>
<distinfo>
<distrib>
<cntinfo>
<cntorgp>
<cntorg>Douglas County Forestry Department</cntorg>
<cntper>Jon Harris, Director</cntper>
</cntorgp>
<cntaddr>
<addrtype>mailing address</addrtype>
<address>P.O. Box 211</address>
<city>Solon Springs</city>
<state>Wisconsin</state>
<postal>54873</postal>
<country>USA</country>
</cntaddr>
<cntvoice>715-378-2219</cntvoice>
<cntfax>715-378-2807</cntfax>
<cntemail>forestry@douglascountywi.org</cntemail>
<hours>8:00 a.m. to 4:30 p.m., Monday through Friday</hours>
</cntinfo>
</distrib>
<resdesc Sync="TRUE">Downloadable Data</resdesc>
<stdorder>
<digform>
<digtinfo>
<transize Sync="TRUE">206.761</transize>
<dssize Sync="TRUE">206.761</dssize>
</digtinfo>
</digform>
<ordering>Available only through Douglas County Forestry Department.</ordering>
</stdorder>
</distinfo>
<metainfo>
<metd Sync="TRUE">20080519</metd>
<metc>
<cntinfo>
<cntorgp>
<cntorg>Pro-West &amp; Associates, Inc.</cntorg>
<cntper>Lee Westfield</cntper>
</cntorgp>
<cntpos>Vice-President; Manager, Natural Resources and Remote Sensing Unit</cntpos>
<cntaddr>
<addrtype>mailing and physical address</addrtype>
<address>8239 State 371 NW</address>
<address>P.O. Box 812</address>
<city>Walker</city>
<state>Minnesota</state>
<postal>56484</postal>
<country>USA</country>
</cntaddr>
<cntvoice>218-547-3374, ext. 109</cntvoice>
<cntemail>lwest@prowestgis.com</cntemail>
<hours>Monday thru Friday, 8:00 a.m. thru 4:30 p.m. CST</hours>
</cntinfo>
</metc>
<metstdn Sync="TRUE">FGDC Content Standards for Digital Geospatial Metadata</metstdn>
<metstdv Sync="TRUE">FGDC-STD-001-1998</metstdv>
<mettc Sync="TRUE">local time</mettc>
<langmeta Sync="TRUE">en</langmeta>
<metextns>
<onlink Sync="TRUE">http://www.esri.com/metadata/esriprof80.html</onlink>
<metprof Sync="TRUE">ESRI Metadata Profile</metprof>
</metextns>
</metainfo>
<dataIdInfo>
<envirDesc Sync="FALSE">ESRI ArcCatalog 9.2.4.1420</envirDesc>
<dataLang>
<languageCode Sync="TRUE" value="en">
</languageCode>
</dataLang>
<idCitation>
<resTitle Sync="TRUE">dc_1973</resTitle>
<presForm>
<PresFormCd Sync="TRUE" value="005">
</PresFormCd>
</presForm>
</idCitation>
<spatRpType>
<SpatRepTypCd Sync="TRUE" value="002">
</SpatRepTypCd>
</spatRpType>
<dataExt>
<geoEle>
<GeoBndBox esriExtentType="native">
<westBL Sync="TRUE">94432.369568</westBL>
<northBL Sync="TRUE">321493.148687</northBL>
<southBL Sync="TRUE">95271.548687</southBL>
<eastBL Sync="TRUE">288833.719568</eastBL>
<exTypeCode Sync="TRUE">1</exTypeCode>
</GeoBndBox>
</geoEle>
</dataExt>
<geoBox esriExtentType="decdegrees">
<westBL Sync="TRUE">-92.313932</westBL>
<eastBL Sync="TRUE">-91.538289</eastBL>
<northBL Sync="TRUE">46.764852</northBL>
<southBL Sync="TRUE">46.143903</southBL>
<exTypeCode Sync="TRUE">1</exTypeCode>
</geoBox>
<idAbs/>
<searchKeys>
<keyword>dc_1973</keyword>
<keyword>1973</keyword>
<keyword>imagery</keyword>
</searchKeys>
<idPurp>dc_1973</idPurp>
<idCredit/>
<resConst>
<Consts>
<useLimit/>
</Consts>
</resConst>
</dataIdInfo>
<distInfo>
<distributor>
<distorTran>
<onLineSrc>
<orDesc Sync="TRUE">002</orDesc>
<protocol Sync="TRUE">Local Area Network</protocol>
<linkage Sync="FALSE">withheld</linkage>
</onLineSrc>
<transSize Sync="TRUE">206.761</transSize>
</distorTran>
<distorFormat>
<formatName Sync="TRUE">Raster Dataset</formatName>
</distorFormat>
</distributor>
</distInfo>
<Esri>
<ModDate>20080519</ModDate>
<ModTime>15471400</ModTime>
<SyncDate>20080519</SyncDate>
<SyncOnce>FALSE</SyncOnce>
<SyncTime>15471400</SyncTime>
<CreaDate>20080519</CreaDate>
<CreaTime>14552600</CreaTime>
<MetaID>{5D6790FD-0B89-43B8-9DB4-14E1C2F584AB}</MetaID>
</Esri>
<mdChar>
<CharSetCd Sync="TRUE" value="004">
</CharSetCd>
</mdChar>
<mdDateSt Sync="TRUE">20080519</mdDateSt>
<mdHrLv>
<ScopeCd Sync="TRUE" value="005">
</ScopeCd>
</mdHrLv>
<mdHrLvName Sync="TRUE">dataset</mdHrLvName>
<mdLang>
<languageCode Sync="TRUE" value="en">
</languageCode>
</mdLang>
<mdStanName Sync="TRUE">ISO 19115 Geographic Information - Metadata</mdStanName>
<mdStanVer Sync="TRUE">DIS_ESRI1.0</mdStanVer>
<spatRepInfo>
<GridSpatRep>
<numDims Sync="TRUE">2</numDims>
<tranParaAv Sync="TRUE">1</tranParaAv>
<cellGeo>
<CellGeoCd Sync="TRUE" value="002">
</CellGeoCd>
</cellGeo>
<axDimProps>
<Dimen>
<dimName>
<DimNameTypCd Sync="TRUE" value="002">
</DimNameTypCd>
</dimName>
<dimSize Sync="TRUE">25898</dimSize>
<dimResol>
<value Sync="TRUE">1.64</value>
<uom>
<UomLength>
<uomName Sync="TRUE">unknown</uomName>
</UomLength>
</uom>
</dimResol>
</Dimen>
<Dimen>
<dimName>
<DimNameTypCd Sync="TRUE" value="001">
</DimNameTypCd>
</dimName>
<dimSize Sync="TRUE">27905</dimSize>
<dimResol>
<value Sync="TRUE">1.64</value>
<uom>
<UomLength>
<uomName Sync="TRUE">unknown</uomName>
</UomLength>
</uom>
</dimResol>
</Dimen>
</axDimProps>
</GridSpatRep>
</spatRepInfo>
<refSysInfo>
<RefSystem>
<refSysID>
<identCode Sync="TRUE">NAD_1983_HARN_Adj_WI_Douglas_Feet</identCode>
</refSysID>
</RefSystem>
</refSysInfo>
</metadata>
