<?xml version="1.0" encoding="UTF-8" standalone="no"?>
<metadata xml:lang="en">
<idinfo>
<citation>
<citeinfo>
<origin>Pro-West &amp; Associates, Inc.</origin>
<pubdate>09/08/2008</pubdate>
<pubtime>Unknown</pubtime>
<title Sync="TRUE">Douglas_County_1962.sid</title>
<edition>N/A</edition>
<geoform Sync="TRUE">raster digital data</geoform>
<serinfo>
</serinfo>
<pubinfo>
<pubplace>Pro-West &amp; Associates, Inc.</pubplace>
<publish>Pro-West &amp; Associates, Inc.</publish>
</pubinfo>
<onlink>withheld</onlink>
<ftname Sync="TRUE">Douglas_County_1962.sid</ftname>
</citeinfo>
</citation>
<descript>
<abstract>This data set contains imagery created by Pro-West &amp; Associates, Inc. (PWA). The original black and white IR aerial photos were provided by the Douglas County Forestry Department. These photos were scanned at 1200 PPI Grayscale (8-bit) and saved as JPEG images. These digital images where then geographically referenced to the NAIP (National Agricultural Imagery Program) 2005 Orthorectified Images for Douglas County, Wisconsin that had been projected from UTM NAD 83, Zone 15N to Douglas County, WI Coordinates and saved as TIFF images with a pixel resolution of 1.65 feet. From these rectified images, a MrSID (MG3) mosaic was created with a target encode ratio of 10:1 (Actual encode ratio: 10:1).</abstract>
<purpose>Provide Douglas County, Wisconsin with a digital archive of their 1962 and 1963 black and white IR aerial photos.</purpose>
<langdata Sync="TRUE">en</langdata>
</descript>
<timeperd>
<timeinfo>
<sngdate>
<caldate>09/08/2008</caldate>
</sngdate>
</timeinfo>
<current>publication date</current>
</timeperd>
<status>
<progress>Complete</progress>
<update>None planned</update>
</status>
<spdom>
<bounding>
<westbc Sync="TRUE">-92.308503</westbc>
<eastbc Sync="TRUE">-91.543468</eastbc>
<northbc Sync="TRUE">46.780380</northbc>
<southbc Sync="TRUE">46.121280</southbc>
</bounding>
<lboundng>
<leftbc Sync="TRUE">95821.475150</leftbc>
<rightbc Sync="TRUE">287508.575150</rightbc>
<topbc Sync="TRUE">327156.725598</topbc>
<bottombc Sync="TRUE">87014.075598</bottombc>
</lboundng>
</spdom>
<keywords>
<theme>
<themekt>None</themekt>
<themekey>Aerial Photography</themekey>
<themekey>MrSID</themekey>
<themekey>Georectified Image</themekey>
<themekey>Mosaic</themekey>
<themekey>1962</themekey>
<themekey>1963</themekey>
</theme>
<place>
<placekey>Douglas County</placekey>
<placekey>Wisconsin</placekey>
<placekey>USA</placekey>
</place>
</keywords>
<accconst>Client use only.</accconst>
<useconst>Client use only.</useconst>
<ptcontac>
<cntinfo>
<cntorgp>
<cntorg>Douglas County Forestry Department</cntorg>
<cntper>Jon Harris, Director</cntper>
</cntorgp>
<cntaddr>
<addrtype>mailing address</addrtype>
<address>P.O. Box 211</address>
<city>Solon Springs</city>
<state>Wisconsin</state>
<postal>54873</postal>
<country>USA</country>
</cntaddr>
<cntvoice>715-378-2219</cntvoice>
<cntfax>715-378-2807</cntfax>
<cntemail>forestry@douglascountywi.org</cntemail>
<hours>8:00 a.m. to 4:30 p.m., Monday through Friday</hours>
</cntinfo>
</ptcontac>
<browse>
<browsen>withheld</browsen>
<browsed>MrSID mosaic of 1962 and 1963 black and white IR aerial photos of Douglas County, Wisconsin</browsed>
<browset>SID</browset>
</browse>
<datacred>N/A</datacred>
<native Sync="FALSE">ESRI ArcCatalog 9.2.4.1420</native>
<natvform Sync="TRUE">Raster Dataset</natvform>
</idinfo>
<dataqual>
<logic>None</logic>
<complete>None</complete>
<posacc>
<horizpa>
<horizpar>Positioned to 2005 NAIP Orthophotography. Accuracy could not be measured. Color and tonal differences between individual frames were corrected.</horizpar>
</horizpa>
<vertacc>
<vertaccr>N/A 2d only</vertaccr>
</vertacc>
</posacc>
<lineage>
<srcinfo>
<srccite>
<citeinfo>
<origin>Pro-West &amp; Associates, Inc.</origin>
<pubdate>09/08/2008</pubdate>
<pubtime>Unknown</pubtime>
<title>Douglas County, Wisconsin 1962 and 1963 black and white IR aerial photo mosaic</title>
</citeinfo>
</srccite>
</srcinfo>
<procstep>
<procdesc>This data set contains imagery created by Pro-West &amp; Associates, Inc. (PWA). The original black and white IR aerial photos were provided by the Douglas County Forestry Department. Every other photo was scanned at 1200 PPI Grayscale (8-bit) and saved as a JPEG image. These digital images where then geographically referenced to the NAIP (National Agricultural Imagery Program) 2005 Orthorectified Images for Douglas County, Wisconsin that had been projected from UTM NAD 83, Zone 15N to Douglas County, WI Coordinates and saved as TIFF images with a pixel resolution of 1.65 feet. From these rectified images, a MrSID (MG3) mosaic was created with a target encode ratio of 10:1 (Actual encode ratio: 10:1). The 1962 images were inserted first, then overlayed with the 1963 images.</procdesc>
<procdate>09/08/2008</procdate>
<proccont>
<cntinfo>
<cntorgp>
<cntorg>Pro-West &amp; Associates, Inc.</cntorg>
<cntper>Lee Westfield</cntper>
</cntorgp>
<cntpos>Vice-President; Manager, Natural Resources and Remote Sensing Unit</cntpos>
<cntaddr>
<addrtype>mailing and physical address</addrtype>
<address>8239 State 371 NW</address>
<address>P.O. Box 812</address>
<city>Walker</city>
<state>Minnesota</state>
<postal>56484</postal>
<country>USA</country>
</cntaddr>
<cntvoice>218-547-3374, ext. 109</cntvoice>
<cntemail>lwest@prowestgis.com</cntemail>
<hours>Monday thru Friday, 8:00 a.m. thru 4:30 p.m. CST</hours>
</cntinfo>
</proccont>
<procsv>Microtec ScanWizard Pro ver. 7.02, ArcView GIS 3.3 with Image Analysis ver. 1.1, GeoExpress with MrSID ver. 7.0, Adobe Photoshop</procsv>
</procstep>
<procstep>
<procdesc Sync="TRUE">Metadata imported.</procdesc>
<srcused Sync="FALSE">withheld</srcused>
<date Sync="TRUE">20051101</date>
<time Sync="TRUE">10563400</time>
</procstep>
<procstep>
<procdesc Sync="TRUE">Metadata imported.</procdesc>
<srcused Sync="FALSE">withheld</srcused>
<date Sync="TRUE">20060713</date>
<time Sync="TRUE">14171000</time>
</procstep>
<procstep>
<procdesc Sync="TRUE">Metadata imported.</procdesc>
<srcused Sync="FALSE">withheld</srcused>
<date Sync="TRUE">20070307</date>
<time Sync="TRUE">09081800</time>
</procstep>
<procstep>
<procdesc Sync="TRUE">Metadata imported.</procdesc>
<srcused Sync="FALSE">withheld</srcused>
<date Sync="TRUE">20071109</date>
<time Sync="TRUE">10495100</time>
</procstep>
<procstep>
<procdesc Sync="TRUE">Metadata imported.</procdesc>
<srcused Sync="FALSE">withheld</srcused>
<date Sync="TRUE">20080312</date>
<time Sync="TRUE">10293500</time>
</procstep>
<procstep>
<procdesc Sync="TRUE">Metadata imported.</procdesc>
<srcused Sync="FALSE">withheld</srcused>
<date Sync="TRUE">20080417</date>
<time Sync="TRUE">10162600</time>
</procstep>
<procstep>
<procdesc Sync="TRUE">Metadata imported.</procdesc>
<srcused Sync="FALSE">withheld</srcused>
<date Sync="TRUE">20080519</date>
<time Sync="TRUE">14552600</time>
</procstep>
<procstep>
<procdesc Sync="TRUE">Metadata imported.</procdesc>
<srcused Sync="FALSE">withheld</srcused>
<date Sync="TRUE">20080908</date>
<time Sync="TRUE">14323700</time>
</procstep>
</lineage>
<cloud>unknown</cloud>
</dataqual>
<spdoinfo>
<direct Sync="TRUE">Raster</direct>
<rastinfo>
<rasttype Sync="TRUE">Pixel</rasttype>
<rowcount Sync="TRUE">145541</rowcount>
<colcount Sync="TRUE">116174</colcount>
<vrtcount Sync="TRUE">1</vrtcount>
<rastband Sync="TRUE">1</rastband>
<rastbpp Sync="TRUE">8</rastbpp>
<rastcmap Sync="TRUE">FALSE</rastcmap>
<rastcomp Sync="TRUE">Wavelet</rastcomp>
<rastdtyp Sync="TRUE">pixel codes</rastdtyp>
<rastifor Sync="TRUE">MrSID</rastifor>
<rastityp>MrSID Compressed Image</rastityp>
<rastnodt>0</rastnodt>
<rastorig Sync="TRUE">Upper Left</rastorig>
<rastplyr Sync="TRUE">TRUE</rastplyr>
<rastxsz Sync="TRUE">1.650000</rastxsz>
<rastxu>USFeet</rastxu>
<rastysz Sync="TRUE">1.650000</rastysz>
<rastyu>USFeet</rastyu>
</rastinfo>
</spdoinfo>
<spref>
<horizsys>
<planar>
<planci>
<plance Sync="TRUE">row and column</plance>
<coordrep>
<absres Sync="TRUE">1.650000</absres>
<ordres Sync="TRUE">1.650000</ordres>
</coordrep>
<plandu Sync="TRUE">survey feet</plandu>
</planci>
<mapproj>
<mapprojn Sync="TRUE">Transverse Mercator</mapprojn>
<transmer>
<sfctrmer Sync="TRUE">0.999995</sfctrmer>
<longcm Sync="TRUE">-91.916667</longcm>
<latprjo Sync="TRUE">45.883333</latprjo>
<feast Sync="TRUE">194000.000000</feast>
<fnorth Sync="TRUE">0.000000</fnorth>
</transmer>
</mapproj>
</planar>
<geodetic>
<horizdn Sync="TRUE">D_NAD_1983_HARN_Adj_WI_DG</horizdn>
<ellips Sync="TRUE">GRS_1980_Adj_WI_DG</ellips>
<semiaxis Sync="TRUE">6378414.930000</semiaxis>
<denflat Sync="TRUE">298.270219</denflat>
</geodetic>
<cordsysn>
<geogcsn Sync="TRUE">GCS_NAD_1983_HARN_Adj_WI_Douglas</geogcsn>
<projcsn Sync="TRUE">NAD_1983_HARN_Adj_WI_Douglas_Feet</projcsn>
</cordsysn>
</horizsys>
</spref>
<eainfo>
<detailed Name="Band_1">
<enttyp>
<enttypl Sync="TRUE">Band_1</enttypl>
<enttypc Sync="TRUE">256</enttypc>
<enttypt Sync="TRUE">Table</enttypt>
</enttyp>
<attr>
<attrlabl Sync="TRUE">ObjectID</attrlabl>
<attrdef Sync="TRUE">Internal feature number.</attrdef>
<attrdefs Sync="TRUE">ESRI</attrdefs>
<attrdomv>
<udom Sync="TRUE">Sequential unique whole numbers that are automatically generated.</udom>
</attrdomv>
<atprecis Sync="TRUE">0</atprecis>
<attalias Sync="TRUE">ObjectID</attalias>
<attrtype Sync="TRUE">OID</attrtype>
<attscale Sync="TRUE">0</attscale>
<attwidth Sync="TRUE">4</attwidth>
</attr>
<attr>
<attrlabl Sync="TRUE">Value</attrlabl>
<atprecis Sync="TRUE">0</atprecis>
<attalias Sync="TRUE">Value</attalias>
<attrtype Sync="TRUE">Integer</attrtype>
<attscale Sync="TRUE">0</attscale>
<attwidth Sync="TRUE">0</attwidth>
</attr>
<attr>
<attrlabl Sync="TRUE">Count</attrlabl>
<atprecis Sync="TRUE">0</atprecis>
<attalias Sync="TRUE">Count</attalias>
<attrtype Sync="TRUE">Integer</attrtype>
<attscale Sync="TRUE">0</attscale>
<attwidth Sync="TRUE">0</attwidth>
</attr>
</detailed>
<detailed Name="Band_2">
<enttyp>
<enttypl Sync="TRUE">Band_2</enttypl>
<enttypc Sync="TRUE">256</enttypc>
<enttypt Sync="TRUE">Table</enttypt>
</enttyp>
<attr>
<attrlabl Sync="TRUE">ObjectID</attrlabl>
<attrdef Sync="TRUE">Internal feature number.</attrdef>
<attrdefs Sync="TRUE">ESRI</attrdefs>
<attrdomv>
<udom Sync="TRUE">Sequential unique whole numbers that are automatically generated.</udom>
</attrdomv>
<atprecis Sync="TRUE">0</atprecis>
<attalias Sync="TRUE">ObjectID</attalias>
<attrtype Sync="TRUE">OID</attrtype>
<attscale Sync="TRUE">0</attscale>
<attwidth Sync="TRUE">4</attwidth>
</attr>
<attr>
<attrlabl Sync="TRUE">Value</attrlabl>
<atprecis Sync="TRUE">0</atprecis>
<attalias Sync="TRUE">Value</attalias>
<attrtype Sync="TRUE">Integer</attrtype>
<attscale Sync="TRUE">0</attscale>
<attwidth Sync="TRUE">0</attwidth>
</attr>
<attr>
<attrlabl Sync="TRUE">Count</attrlabl>
<atprecis Sync="TRUE">0</atprecis>
<attalias Sync="TRUE">Count</attalias>
<attrtype Sync="TRUE">Integer</attrtype>
<attscale Sync="TRUE">0</attscale>
<attwidth Sync="TRUE">0</attwidth>
</attr>
</detailed>
<detailed Name="Band_3">
<enttyp>
<enttypl Sync="TRUE">Band_3</enttypl>
<enttypc Sync="TRUE">256</enttypc>
<enttypt Sync="TRUE">Table</enttypt>
</enttyp>
<attr>
<attrlabl Sync="TRUE">ObjectID</attrlabl>
<attrdef Sync="TRUE">Internal feature number.</attrdef>
<attrdefs Sync="TRUE">ESRI</attrdefs>
<attrdomv>
<udom Sync="TRUE">Sequential unique whole numbers that are automatically generated.</udom>
</attrdomv>
<atprecis Sync="TRUE">0</atprecis>
<attalias Sync="TRUE">ObjectID</attalias>
<attrtype Sync="TRUE">OID</attrtype>
<attscale Sync="TRUE">0</attscale>
<attwidth Sync="TRUE">4</attwidth>
</attr>
<attr>
<attrlabl Sync="TRUE">Value</attrlabl>
<atprecis Sync="TRUE">0</atprecis>
<attalias Sync="TRUE">Value</attalias>
<attrtype Sync="TRUE">Integer</attrtype>
<attscale Sync="TRUE">0</attscale>
<attwidth Sync="TRUE">0</attwidth>
</attr>
<attr>
<attrlabl Sync="TRUE">Count</attrlabl>
<atprecis Sync="TRUE">0</atprecis>
<attalias Sync="TRUE">Count</attalias>
<attrtype Sync="TRUE">Integer</attrtype>
<attscale Sync="TRUE">0</attscale>
<attwidth Sync="TRUE">0</attwidth>
</attr>
</detailed>
<overview>
<eaover>24-bit pixels, 3 band color (RGB) represent brightness values 0-255</eaover>
<eadetcit>None</eadetcit>
</overview>
</eainfo>
<distinfo>
<distrib>
<cntinfo>
<cntorgp>
<cntorg>Douglas County Forestry Department</cntorg>
<cntper>Jon Harris, Director</cntper>
</cntorgp>
<cntaddr>
<addrtype>mailing address</addrtype>
<address>P.O. Box 211</address>
<city>Solon Springs</city>
<state>Wisconsin</state>
<postal>54873</postal>
<country>USA</country>
</cntaddr>
<cntvoice>715-378-2219</cntvoice>
<cntfax>715-378-2807</cntfax>
<cntemail>forestry@douglascountywi.org</cntemail>
<hours>8:00 a.m. to 4:30 p.m., Monday through Friday</hours>
</cntinfo>
</distrib>
<resdesc Sync="TRUE">Downloadable Data</resdesc>
<stdorder>
<digform>
<digtinfo>
<transize Sync="TRUE">206.761</transize>
<dssize Sync="TRUE">206.761</dssize>
</digtinfo>
</digform>
<ordering>Available only through Douglas County Forestry Department.</ordering>
</stdorder>
</distinfo>
<metainfo>
<metd Sync="TRUE">20080908</metd>
<metc>
<cntinfo>
<cntorgp>
<cntorg>Pro-West &amp; Associates, Inc.</cntorg>
<cntper>Lee Westfield</cntper>
</cntorgp>
<cntpos>Vice-President; Manager, Natural Resources and Remote Sensing Unit</cntpos>
<cntaddr>
<addrtype>mailing and physical address</addrtype>
<address>8239 State 371 NW</address>
<address>P.O. Box 812</address>
<city>Walker</city>
<state>Minnesota</state>
<postal>56484</postal>
<country>USA</country>
</cntaddr>
<cntvoice>218-547-3374, ext. 109</cntvoice>
<cntemail>lwest@prowestgis.com</cntemail>
<hours>Monday thru Friday, 8:00 a.m. thru 4:30 p.m. CST</hours>
</cntinfo>
</metc>
<metstdn Sync="TRUE">FGDC Content Standards for Digital Geospatial Metadata</metstdn>
<metstdv Sync="TRUE">FGDC-STD-001-1998</metstdv>
<mettc Sync="TRUE">local time</mettc>
<langmeta Sync="TRUE">en</langmeta>
<metextns>
<onlink Sync="TRUE">http://www.esri.com/metadata/esriprof80.html</onlink>
<metprof Sync="TRUE">ESRI Metadata Profile</metprof>
</metextns>
</metainfo>
<dataIdInfo>
<envirDesc Sync="FALSE">ESRI ArcCatalog 9.2.4.1420</envirDesc>
<dataLang>
<languageCode Sync="TRUE" value="en">
</languageCode>
</dataLang>
<idCitation>
<resTitle Sync="TRUE">dc_1962</resTitle>
<presForm>
<PresFormCd Sync="TRUE" value="005">
</PresFormCd>
</presForm>
</idCitation>
<spatRpType>
<SpatRepTypCd Sync="TRUE" value="002">
</SpatRepTypCd>
</spatRpType>
<dataExt>
<geoEle>
<GeoBndBox esriExtentType="native">
<westBL Sync="TRUE">95821.47515</westBL>
<northBL Sync="TRUE">327156.725598</northBL>
<southBL Sync="TRUE">87014.075598</southBL>
<eastBL Sync="TRUE">287508.57515</eastBL>
<exTypeCode Sync="TRUE">1</exTypeCode>
</GeoBndBox>
</geoEle>
</dataExt>
<geoBox esriExtentType="decdegrees">
<westBL Sync="TRUE">-92.308503</westBL>
<eastBL Sync="TRUE">-91.543468</eastBL>
<northBL Sync="TRUE">46.78038</northBL>
<southBL Sync="TRUE">46.12128</southBL>
<exTypeCode Sync="TRUE">1</exTypeCode>
</geoBox>
<idAbs/>
<searchKeys>
<keyword>dc_1962</keyword>
<keyword>imagery</keyword>
<keyword>1962</keyword>
</searchKeys>
<idPurp>dc_1962</idPurp>
<idCredit/>
<resConst>
<Consts>
<useLimit/>
</Consts>
</resConst>
</dataIdInfo>
<distInfo>
<distributor>
<distorTran>
<onLineSrc>
<orDesc Sync="TRUE">002</orDesc>
<protocol Sync="TRUE">Local Area Network</protocol>
<linkage Sync="FALSE">withheld</linkage>
</onLineSrc>
<transSize Sync="TRUE">206.761</transSize>
</distorTran>
<distorFormat>
<formatName Sync="TRUE">Raster Dataset</formatName>
</distorFormat>
</distributor>
</distInfo>
<Esri>
<ModDate>20080908</ModDate>
<ModTime>14404700</ModTime>
<SyncDate>20080908</SyncDate>
<SyncOnce>FALSE</SyncOnce>
<SyncTime>14404700</SyncTime>
<CreaDate>20080908</CreaDate>
<CreaTime>14323700</CreaTime>
<MetaID>{07ABCA1F-9FD1-4446-81C4-51D3242D4705}</MetaID>
</Esri>
<mdChar>
<CharSetCd Sync="TRUE" value="004">
</CharSetCd>
</mdChar>
<mdDateSt Sync="TRUE">20080908</mdDateSt>
<mdHrLv>
<ScopeCd Sync="TRUE" value="005">
</ScopeCd>
</mdHrLv>
<mdHrLvName Sync="TRUE">dataset</mdHrLvName>
<mdLang>
<languageCode Sync="TRUE" value="en">
</languageCode>
</mdLang>
<mdStanName Sync="TRUE">ISO 19115 Geographic Information - Metadata</mdStanName>
<mdStanVer Sync="TRUE">DIS_ESRI1.0</mdStanVer>
<spatRepInfo>
<GridSpatRep>
<numDims Sync="TRUE">2</numDims>
<tranParaAv Sync="TRUE">1</tranParaAv>
<cellGeo>
<CellGeoCd Sync="TRUE" value="002">
</CellGeoCd>
</cellGeo>
<axDimProps>
<Dimen>
<dimName>
<DimNameTypCd Sync="TRUE" value="002">
</DimNameTypCd>
</dimName>
<dimSize Sync="TRUE">25898</dimSize>
<dimResol>
<value Sync="TRUE">1.64</value>
<uom>
<UomLength>
<uomName Sync="TRUE">unknown</uomName>
</UomLength>
</uom>
</dimResol>
</Dimen>
<Dimen>
<dimName>
<DimNameTypCd Sync="TRUE" value="001">
</DimNameTypCd>
</dimName>
<dimSize Sync="TRUE">27905</dimSize>
<dimResol>
<value Sync="TRUE">1.64</value>
<uom>
<UomLength>
<uomName Sync="TRUE">unknown</uomName>
</UomLength>
</uom>
</dimResol>
</Dimen>
</axDimProps>
</GridSpatRep>
</spatRepInfo>
<refSysInfo>
<RefSystem>
<refSysID>
<identCode Sync="TRUE">NAD_1983_HARN_Adj_WI_Douglas_Feet</identCode>
</refSysID>
</RefSystem>
</refSysInfo>
</metadata>
