{
 "extent": {
  "ymin": 95293.625620000035,
  "xmin": 94410.951686999993,
  "ymax": 321521.82562000002,
  "xmax": 289419.50168699998,
  "spatialReference": {
   "latestWkid": 103909,
   "wkid": 103909
  }
 },
 "blockWidth": 1024,
 "mosaicOperator": "First",
 "serviceSourceType": "esriImageServiceSourceTypeDataset",
 "hasMultidimensions": false,
 "maxImageWidth": 15000,
 "meanValues": [
  133.08311888832
 ],
 "hasColormap": false,
 "compressionType": "Wavelet (MG3)",
 "defaultCompressionQuality": 75,
 "maxValues": [
  238
 ],
 "hasHistograms": true,
 "datasetFormat": "MrSID",
 "maxImageHeight": 4100,
 "sortField": "",
 "bandNames": [
  "Band_1"
 ],
 "spatialReference": {
  "latestWkid": 103909,
  "wkid": 103909
 },
 "fullExtent": {
  "ymin": 95293.625620000035,
  "xmin": 94410.951686999993,
  "ymax": 321521.82562000002,
  "xmax": 289419.50168699998,
  "spatialReference": {
   "latestWkid": 103909,
   "wkid": 103909
  }
 },
 "bandCount": 1,
 "rasterFunctionInfos": [
  {
   "help": "",
   "name": "None",
   "description": ""
  }
 ],
 "supportsStatistics": false,
 "sortableFields": "",
 "minValues": [
  0
 ],
 "allowRasterFunction": true,
 "allowComputeTiePoints": false,
 "serviceDataType": "esriImageServiceDataTypeGeneric",
 "supportsAdvancedQueries": false,
 "currentVersion": 12.1,
 "sortValue": null,
 "objectIdField": "",
 "blockHeight": 128,
 "initialExtent": {
  "ymin": 95293.625620000035,
  "xmin": 94410.951686999993,
  "ymax": 321521.82562000002,
  "xmax": 289419.50168699998,
  "spatialReference": {
   "latestWkid": 103909,
   "wkid": 103909
  }
 },
 "pixelSizeX": 1.6499999999999999,
 "pixelSizeY": 1.6499999999999999,
 "defaultMosaicMethod": "Center",
 "name": "rasters/dc_1948",
 "allowedMosaicMethods": "",
 "fields": [],
 "allowAnalysis": true,
 "hasRasterAttributeTable": false,
 "useStandardizedQueries": false,
 "description": "",
 "pixelType": "U8",
 "meanPixelSize": 0.50292100584201171,
 "exportTilesAllowed": false,
 "editFieldsInfo": null,
 "rasterTypeInfos": [
  {
   "help": "",
   "name": "Raster Dataset",
   "description": "Supports all ArcGIS Raster Datasets"
  }
 ],
 "defaultResamplingMethod": "Bilinear",
 "itemAccess": false,
 "minScale": 0,
 "serviceProperties": "Center<\/MosaicMethod>First<\/MosaicOperator>true<\/SortAscending><\/LockImageID><\/TileOrderField>0<\/TileOrderBase>0.000000<\/AvgImageSpacingX>0.000000<\/AvgImageSpacingY>0.0<\/ViewPointX>0.0<\/ViewPointY>0.0<\/ViewPointDefShiftX>0.0<\/ViewPointDefShiftY>None<\/CompressionMethod>75<\/CompressionQuality>0.010000<\/CompressionTolerance>Bilinear<\/SamplingMethod><\/ImageServiceProperties><\/ImageServer>",
 "advancedQueryCapabilities": {
  "supportsStatistics": false,
  "supportsSqlExpression": false,
  "supportsOrderBy": false,
  "useStandardizedQueries": false,
  "supportsPagination": false,
  "supportsDistinct": false
 },
 "serviceItemId": "90f9b2208cf74bbb88a0d29761ae04a8",
 "capabilities": "Image,Metadata,Mensuration",
 "maxScale": 0,
 "stdvValues": [
  46.716483034166998
 ],
 "allowedFields": "",
 "minPixelSize": 0,
 "sortAscending": true,
 "inspectionCapabilities": "",
 "maxPixelSize": 0,
 "allowedCompressions": "None,JPEG,LZ77,LERC",
 "uncompressedSize": 16204383196,
 "serviceDescription": "rasters/dc_1948",
 "allowCopy": true,
 "copyrightText": "",
 "mensurationCapabilities": "Basic",
 "ownershipBasedAccessControlForRasters": null
}
