<?xml version="1.0" encoding="UTF-8" standalone="no"?>
<metadata xml:lang="en">
<idinfo>
<citation>
<citeinfo>
<origin>Pro-West &amp; Associates, Inc.</origin>
<pubdate>04/17/2008</pubdate>
<pubtime>Unknown</pubtime>
<title Sync="TRUE">Douglas_County_1948.sid</title>
<edition>N/A</edition>
<geoform Sync="TRUE">raster digital data</geoform>
<serinfo>
</serinfo>
<pubinfo>
<pubplace>Pro-West &amp; Associates, Inc.</pubplace>
<publish>Pro-West &amp; Associates, Inc.</publish>
</pubinfo>
<onlink>withheld</onlink>
<ftname Sync="TRUE">Douglas_County_1948.sid</ftname>
</citeinfo>
</citation>
<descript>
<abstract>This data set contains imagery created by Pro-West &amp; Associates, Inc. (PWA). The original black and white IR aerial photos were provided by the Douglas County Forestry Department. These photos were scanned at 1200 PPI Grayscale (8-bit) and saved as JPEG images. These digital images where then geographically referenced to the NAIP (National Agricultural Imagery Program) 2005 Orthorectified Images for Douglas County, Wisconsin that had been projected from UTM NAD 83, Zone 15N to Douglas County, WI Coordinates and saved as TIFF images with a pixel resolution of 1.65 feet. From these rectified images, a MrSID (MG3) mosaic was created with a target encode ratio of 10:1 (Actual encode ratio: 10:1).</abstract>
<purpose>Provide Douglas County, Wisconsin with a digital archive of their 1948 and 1950 black and white IR aerial photos.</purpose>
<langdata Sync="TRUE">en</langdata>
</descript>
<timeperd>
<timeinfo>
<sngdate>
<caldate>04/17/2008</caldate>
</sngdate>
</timeinfo>
<current>publication date</current>
</timeperd>
<status>
<progress>Complete</progress>
<update>None planned</update>
</status>
<spdom>
<bounding>
<westbc Sync="TRUE">-92.314018</westbc>
<eastbc Sync="TRUE">-91.535951</eastbc>
<northbc Sync="TRUE">46.764930</northbc>
<southbc Sync="TRUE">46.143963</southbc>
</bounding>
<lboundng>
<leftbc Sync="TRUE">94410.951687</leftbc>
<rightbc Sync="TRUE">289419.501687</rightbc>
<topbc Sync="TRUE">321521.825620</topbc>
<bottombc Sync="TRUE">95293.625620</bottombc>
</lboundng>
</spdom>
<keywords>
<theme>
<themekt>None</themekt>
<themekey>Aerial Photography</themekey>
<themekey>MrSID</themekey>
<themekey>Georectified Image</themekey>
<themekey>Mosaic</themekey>
<themekey>1948</themekey>
<themekey>1950</themekey>
</theme>
<place>
<placekey>Douglas County</placekey>
<placekey>Wisconsin</placekey>
<placekey>USA</placekey>
</place>
</keywords>
<accconst>Client use only.</accconst>
<useconst>Client use only.</useconst>
<ptcontac>
<cntinfo>
<cntorgp>
<cntorg>Douglas County Forestry Department</cntorg>
<cntper>Jon Harris, Director</cntper>
</cntorgp>
<cntaddr>
<addrtype>mailing address</addrtype>
<address>P.O. Box 211</address>
<city>Solon Springs</city>
<state>Wisconsin</state>
<postal>54873</postal>
<country>USA</country>
</cntaddr>
<cntvoice>715-378-2219</cntvoice>
<cntfax>715-378-2807</cntfax>
<cntemail>forestry@douglascountywi.org</cntemail>
<hours>8:00 a.m. to 4:30 p.m., Monday through Friday</hours>
</cntinfo>
</ptcontac>
<browse>
<browsen>withheld</browsen>
<browsed>MrSID mosaic of 1948 and 1950 black and white IR aerial photos of Douglas County, Wisconsin</browsed>
<browset>SID</browset>
</browse>
<datacred>N/A</datacred>
<native Sync="FALSE">ESRI ArcCatalog 9.2.2.1350</native>
<natvform Sync="TRUE">Raster Dataset</natvform>
</idinfo>
<dataqual>
<logic>None</logic>
<complete>None</complete>
<posacc>
<horizpa>
<horizpar>Positioned to 2005 NAIP Orthophotography. Accuracy could not be measured. Color and tonal differences between individual frames were corrected.</horizpar>
</horizpa>
<vertacc>
<vertaccr>N/A 2d only</vertaccr>
</vertacc>
</posacc>
<lineage>
<srcinfo>
<srccite>
<citeinfo>
<origin>Pro-West &amp; Associates, Inc.</origin>
<pubdate>04/17/2008</pubdate>
<pubtime>Unknown</pubtime>
<title>Douglas County, Wisconsin 1948 and 1950 black and white IR aerial photo mosaic</title>
</citeinfo>
</srccite>
</srcinfo>
<procstep>
<procdesc>This data set contains imagery created by Pro-West &amp; Associates, Inc. (PWA). The original black and white IR aerial photos were provided by the Douglas County Forestry Department. Every other photo was scanned at 1200 PPI Grayscale (8-bit) and saved as a JPEG image. These digital images where then geographically referenced to the NAIP (National Agricultural Imagery Program) 2005 Orthorectified Images for Douglas County, Wisconsin that had been projected from UTM NAD 83, Zone 15N to Douglas County, WI Coordinates and saved as TIFF images with a pixel resolution of 1.65 feet. From these rectified images, a MrSID (MG3) mosaic was created with a target encode ratio of 10:1 (Actual encode ratio: 10:1). The insertion order of the individual rectified tiff images in the creation of the MrSID mosaic is as follows. The 1948 images were allowed to overlap the 1950 images. 1950 (every other photo):
Line 01: 1950_l01_01g_001.tif thru 1950_l01_01g_016.tif
Line 02: 1950_l02_01g_021.tif thru 1950_l02_01g_035.tif, 1950_l02_01g_036.tif
Line 03: 1950_l03_01g_037.tif thru 1950_l03_01g_057.tif
Line 04: 1950_l04_01g_061.tif thru 1950_l04_01g_079.tif, 1950_l04_01g_080.tif
Line 05: 1950_l05_01g_081.tif thru 1950_l05_01g_103.tif
Line 06: 1950_l06_01g_108.tif thru 1950_l06_01g_130.tif
Line 07: 1950_l07_01g_133.tif thru 1950_l07_01g_155.tif
Line 08: 1950_l08_01g_156.tif thru 1950_l08_01g_176.tif
Line 09: 1950_l09_01g_178.tif thru 1950_l09_01g_198.tif, 1950_l09_01g_199.tif
Line 10: 1950_l10_01g_200.tif thru 1950_l10_01g_218.tif
Line 11: 1950_l11_01g_219.tif thru 1950_l11_01g_235.tif, 1950_l11_01g_236.tif
Line 12: 1950_l12_01g_237.tif thru 1950_l12_01g_253.tif
Line 13: 1950_l13_02g_219.tif thru 1950_l13_02g_235.tif
Line 14: 1950_l14_02g_200.tif thru 1950_l14_02g_218.tif
Line 15: 1950_l15_02g_156.tif thru 1950_l15_02g_174.tif
Line 16: 1950_l16_02g_136.tif thru 1950_l16_02g_154.tif, 1950_l16_02g_155.tif
Line 17: 1950_l17_02g_116.tif thru 1950_l17_02g_134.tif
Line 18: 1950_l18_02g_095.tif thru 1950_l18_02g_115.tif
Line 19: 1950_l19_02g_073.tif thru 1950_l19_02g_093.tif
Line 20: 1950_l20_02g_176.tif thru 1950_l20_02g_190.tif, 1950_l20_02g_191.tif thru 1950_l20_02g_197.tif, 1950_l20_02g_198.tif
Line 21: 1950_l21_02g_051.tif thru 1950_l21_02g_071.tif, 1950_l21_02g_072.tif
Line 22: 1950_l22_02g_027.tif thru 1950_l22_02g_047.tif, 1950_l22_02g_048.tif
Line 23: 1950_l23_02g_002.tif thru 1950_l23_02g_026.tif
1948 (every other photo):
Line 01: 1948_l01_06_066.tif thru 1948_l01_06_078.tif, 1948_l01_09_021.tif thru 1948_l01_09_037.tif
Line 02: 1948_l02_06_048.tif thru 1948_l02_06_058.tif, 1948_l02_09_048.tif thru 1948_l02_09_062.tif, 1948_l02_09_063.tif
Line 03: 1948_l03_06_016.tif thru 1948_l03_06_064.tif
Line 04: 1948_l04_10_001.tif thru 1948_l04_10_035.tif, 1948_l04_10_036.tif
Line 05: 1948_l05_08_093.tif thru 1948_l05_08_129.tif
Line 06: 1948_l06_08_055.tif thru 1948_l06_08_057.tif, 1948_l06_08_061.tif thru 1948_l06_08_091.tif
Line 07: 1948_l07_08_020.tif thru 1948_l07_08_050.tif (Photo 1948_l07_08_050.tif had a hole cut out of it. Black pixels were used to fill this area.)
Line 06: 1948_l06_08_059.tif
Line:07: 1948_l07_08_052.tif thru 1948_l07_08_054.tif
Line 08: 1948_l08_07_196.tif thru 1948_l08_07_218.tif, 1948_l08_08_008.tif thru 1948_l08_08_018.tif, 1948_l08_08_019.tif
Line 09: 1948_l09_07_159.tif, 1948_l09_07_161.tif, 1948_l09_07_162.tif thru 1948_l09_07_194.tif
Line 10: 1948_l10_07_122.tif thru 1948_l10_07_156.tif, 1948_l10_07_157.tif
Line 11: 1948_l11_07_090.tif thru 1948_l11_07_098.tif, 1948_l11_07_099.tif thru 1948_l11_07_121.tif
Line 12: 1948_l12_07_058.tif thru 1948_l12_07_066.tif, 1948_l12_07_067.tif thru 1948_l12_07_085.tif, 1948_l12_07_086.tif, 1948_l12_07_088.tif
Line 13: 1948_l13_07_030.tif thru 1948_l13_07_056.tif, 1948_l13_07_057.tif
Line 14: 1948_l14_04_129.tif thru 1948_l14_04_145.tif, 1948_l14_04_146.tif thru 1948_l14_04_162.tif
Line 15: 1948_l15_03_190.tif thru 1948_l15_03_210.tif, 1948_l15_07_006.tif thru 1948_l15_07_014.tif
Line 16: 1948_l16_03_152.tif thru 1948_l16_03_182.tif
Line 17: 1948_l17_03_095.tif thru 1948_l17_03_125.tif, 1948_l17_03_126.tif
Line 18: 1948_l18_03_061.tif thru 1948_l18_03_091.tif, 1948_l18_03_092.tif
Line 19: 1948_l19_02_172.tif thru 1948_l19_02_200.tif, 1948_l19_02_201.tif
Line 20: 1948_l20_02_135.tif thru 1948_l20_02_149.tif, 1948_l20_02_150.tif thru 1948_l20_02_164.tif, 1948_l20_02_165.tif
Line 21: 1948_l21_02_048.tif thru 1948_l21_02_074.tif, 1948_l21_02_075.tif
Line 22: 1948_l22_02_015.tif, 1948_l22_02_016.tif thru 1948_l22_02_038.tif, 1948_l22_02_039.tif thru 1948_l22_02_043.tif, 1948_l22_02_044.tif
Line 23: 1948_l23_01_163.tif thru 1948_l23_01_169.tif, 1948_l23_11_006.tif thru 1948_l23_11_032.tif
Line 24: 1948_l24_01_088.tif thru 1948_l24_01_120.tif
Line 25: 1948_l25_01_001.tif thru 1948_l25_01_009.tif, 1948_l25_01_010.tif thru 1948_l25_01_032.tif, 1948_l25_01_033.tif</procdesc>
<procdate>04/17/2008</procdate>
<proccont>
<cntinfo>
<cntorgp>
<cntorg>Pro-West &amp; Associates, Inc.</cntorg>
<cntper>Lee Westfield</cntper>
</cntorgp>
<cntpos>Vice-President; Manager, Natural Resources and Remote Sensing Unit</cntpos>
<cntaddr>
<addrtype>mailing and physical address</addrtype>
<address>8239 State 371 NW</address>
<address>P.O. Box 812</address>
<city>Walker</city>
<state>Minnesota</state>
<postal>56484</postal>
<country>USA</country>
</cntaddr>
<cntvoice>218-547-3374, ext. 109</cntvoice>
<cntemail>lwest@prowestgis.com</cntemail>
<hours>Monday thru Friday, 8:00 a.m. thru 4:30 p.m. CST</hours>
</cntinfo>
</proccont>
<procsv>Microtec ScanWizard Pro ver. 7.02, ArcView GIS 3.2a with Image Analysis ver. 1.1, GeoExpress with MrSID ver. 6.1, Adobe Photoshop CS</procsv>
</procstep>
<procstep>
<procdesc Sync="TRUE">Metadata imported.</procdesc>
<srcused Sync="FALSE">withheld</srcused>
<date Sync="TRUE">20051101</date>
<time Sync="TRUE">10563400</time>
</procstep>
<procstep>
<procdesc Sync="TRUE">Metadata imported.</procdesc>
<srcused Sync="FALSE">withheld</srcused>
<date Sync="TRUE">20060713</date>
<time Sync="TRUE">14171000</time>
</procstep>
<procstep>
<procdesc Sync="TRUE">Metadata imported.</procdesc>
<srcused Sync="FALSE">withheld</srcused>
<date Sync="TRUE">20070307</date>
<time Sync="TRUE">09081800</time>
</procstep>
<procstep>
<procdesc Sync="TRUE">Metadata imported.</procdesc>
<srcused Sync="FALSE">withheld</srcused>
<date Sync="TRUE">20071109</date>
<time Sync="TRUE">10495100</time>
</procstep>
<procstep>
<procdesc Sync="TRUE">Metadata imported.</procdesc>
<srcused Sync="FALSE">withheld</srcused>
<date Sync="TRUE">20080312</date>
<time Sync="TRUE">10293500</time>
</procstep>
<procstep>
<procdesc Sync="TRUE">Metadata imported.</procdesc>
<srcused Sync="FALSE">withheld</srcused>
<date Sync="TRUE">20080417</date>
<time Sync="TRUE">10162600</time>
</procstep>
</lineage>
<cloud>unknown</cloud>
</dataqual>
<spdoinfo>
<direct Sync="TRUE">Raster</direct>
<rastinfo>
<rasttype Sync="TRUE">Pixel</rasttype>
<rowcount Sync="TRUE">137108</rowcount>
<colcount Sync="TRUE">118187</colcount>
<vrtcount Sync="TRUE">1</vrtcount>
<rastband Sync="TRUE">1</rastband>
<rastbpp Sync="TRUE">8</rastbpp>
<rastcmap Sync="TRUE">FALSE</rastcmap>
<rastcomp Sync="TRUE">Wavelet</rastcomp>
<rastdtyp Sync="TRUE">pixel codes</rastdtyp>
<rastifor Sync="TRUE">MrSID</rastifor>
<rastityp>MrSID Compressed Image</rastityp>
<rastnodt>0</rastnodt>
<rastorig Sync="TRUE">Upper Left</rastorig>
<rastplyr Sync="TRUE">TRUE</rastplyr>
<rastxsz Sync="TRUE">1.650000</rastxsz>
<rastxu>USFeet</rastxu>
<rastysz Sync="TRUE">1.650000</rastysz>
<rastyu>USFeet</rastyu>
</rastinfo>
</spdoinfo>
<spref>
<horizsys>
<planar>
<planci>
<plance Sync="TRUE">row and column</plance>
<coordrep>
<absres Sync="TRUE">1.650000</absres>
<ordres Sync="TRUE">1.650000</ordres>
</coordrep>
<plandu Sync="TRUE">survey feet</plandu>
</planci>
<mapproj>
<mapprojn Sync="TRUE">Transverse Mercator</mapprojn>
<transmer>
<sfctrmer Sync="TRUE">0.999995</sfctrmer>
<longcm Sync="TRUE">-91.916667</longcm>
<latprjo Sync="TRUE">45.883333</latprjo>
<feast Sync="TRUE">194000.000000</feast>
<fnorth Sync="TRUE">0.000000</fnorth>
</transmer>
</mapproj>
</planar>
<geodetic>
<horizdn Sync="TRUE">D_NAD_1983_HARN_Adj_WI_DG</horizdn>
<ellips Sync="TRUE">GRS_1980_Adj_WI_DG</ellips>
<semiaxis Sync="TRUE">6378414.930000</semiaxis>
<denflat Sync="TRUE">298.270219</denflat>
</geodetic>
<cordsysn>
<geogcsn Sync="TRUE">GCS_NAD_1983_HARN_Adj_WI_Douglas</geogcsn>
<projcsn Sync="TRUE">NAD_1983_HARN_Adj_WI_Douglas_Feet</projcsn>
</cordsysn>
</horizsys>
</spref>
<eainfo>
<detailed Name="Band_1">
<enttyp>
<enttypl Sync="TRUE">Band_1</enttypl>
<enttypc Sync="TRUE">256</enttypc>
<enttypt Sync="TRUE">Table</enttypt>
</enttyp>
<attr>
<attrlabl Sync="TRUE">ObjectID</attrlabl>
<attrdef Sync="TRUE">Internal feature number.</attrdef>
<attrdefs Sync="TRUE">ESRI</attrdefs>
<attrdomv>
<udom Sync="TRUE">Sequential unique whole numbers that are automatically generated.</udom>
</attrdomv>
<atprecis Sync="TRUE">0</atprecis>
<attalias Sync="TRUE">ObjectID</attalias>
<attrtype Sync="TRUE">OID</attrtype>
<attscale Sync="TRUE">0</attscale>
<attwidth Sync="TRUE">4</attwidth>
</attr>
<attr>
<attrlabl Sync="TRUE">Value</attrlabl>
<atprecis Sync="TRUE">0</atprecis>
<attalias Sync="TRUE">Value</attalias>
<attrtype Sync="TRUE">Integer</attrtype>
<attscale Sync="TRUE">0</attscale>
<attwidth Sync="TRUE">0</attwidth>
</attr>
<attr>
<attrlabl Sync="TRUE">Count</attrlabl>
<atprecis Sync="TRUE">0</atprecis>
<attalias Sync="TRUE">Count</attalias>
<attrtype Sync="TRUE">Integer</attrtype>
<attscale Sync="TRUE">0</attscale>
<attwidth Sync="TRUE">0</attwidth>
</attr>
</detailed>
<detailed Name="Band_2">
<enttyp>
<enttypl Sync="TRUE">Band_2</enttypl>
<enttypc Sync="TRUE">256</enttypc>
<enttypt Sync="TRUE">Table</enttypt>
</enttyp>
<attr>
<attrlabl Sync="TRUE">ObjectID</attrlabl>
<attrdef Sync="TRUE">Internal feature number.</attrdef>
<attrdefs Sync="TRUE">ESRI</attrdefs>
<attrdomv>
<udom Sync="TRUE">Sequential unique whole numbers that are automatically generated.</udom>
</attrdomv>
<atprecis Sync="TRUE">0</atprecis>
<attalias Sync="TRUE">ObjectID</attalias>
<attrtype Sync="TRUE">OID</attrtype>
<attscale Sync="TRUE">0</attscale>
<attwidth Sync="TRUE">4</attwidth>
</attr>
<attr>
<attrlabl Sync="TRUE">Value</attrlabl>
<atprecis Sync="TRUE">0</atprecis>
<attalias Sync="TRUE">Value</attalias>
<attrtype Sync="TRUE">Integer</attrtype>
<attscale Sync="TRUE">0</attscale>
<attwidth Sync="TRUE">0</attwidth>
</attr>
<attr>
<attrlabl Sync="TRUE">Count</attrlabl>
<atprecis Sync="TRUE">0</atprecis>
<attalias Sync="TRUE">Count</attalias>
<attrtype Sync="TRUE">Integer</attrtype>
<attscale Sync="TRUE">0</attscale>
<attwidth Sync="TRUE">0</attwidth>
</attr>
</detailed>
<detailed Name="Band_3">
<enttyp>
<enttypl Sync="TRUE">Band_3</enttypl>
<enttypc Sync="TRUE">256</enttypc>
<enttypt Sync="TRUE">Table</enttypt>
</enttyp>
<attr>
<attrlabl Sync="TRUE">ObjectID</attrlabl>
<attrdef Sync="TRUE">Internal feature number.</attrdef>
<attrdefs Sync="TRUE">ESRI</attrdefs>
<attrdomv>
<udom Sync="TRUE">Sequential unique whole numbers that are automatically generated.</udom>
</attrdomv>
<atprecis Sync="TRUE">0</atprecis>
<attalias Sync="TRUE">ObjectID</attalias>
<attrtype Sync="TRUE">OID</attrtype>
<attscale Sync="TRUE">0</attscale>
<attwidth Sync="TRUE">4</attwidth>
</attr>
<attr>
<attrlabl Sync="TRUE">Value</attrlabl>
<atprecis Sync="TRUE">0</atprecis>
<attalias Sync="TRUE">Value</attalias>
<attrtype Sync="TRUE">Integer</attrtype>
<attscale Sync="TRUE">0</attscale>
<attwidth Sync="TRUE">0</attwidth>
</attr>
<attr>
<attrlabl Sync="TRUE">Count</attrlabl>
<atprecis Sync="TRUE">0</atprecis>
<attalias Sync="TRUE">Count</attalias>
<attrtype Sync="TRUE">Integer</attrtype>
<attscale Sync="TRUE">0</attscale>
<attwidth Sync="TRUE">0</attwidth>
</attr>
</detailed>
<overview>
<eaover>24-bit pixels, 3 band color (RGB) represent brightness values 0-255</eaover>
<eadetcit>None</eadetcit>
</overview>
</eainfo>
<distinfo>
<distrib>
<cntinfo>
<cntorgp>
<cntorg>Douglas County Forestry Department</cntorg>
<cntper>Jon Harris, Director</cntper>
</cntorgp>
<cntaddr>
<addrtype>mailing address</addrtype>
<address>P.O. Box 211</address>
<city>Solon Springs</city>
<state>Wisconsin</state>
<postal>54873</postal>
<country>USA</country>
</cntaddr>
<cntvoice>715-378-2219</cntvoice>
<cntfax>715-378-2807</cntfax>
<cntemail>forestry@douglascountywi.org</cntemail>
<hours>8:00 a.m. to 4:30 p.m., Monday through Friday</hours>
</cntinfo>
</distrib>
<resdesc Sync="TRUE">Downloadable Data</resdesc>
<stdorder>
<digform>
<digtinfo>
<transize Sync="TRUE">206.761</transize>
<dssize Sync="TRUE">206.761</dssize>
</digtinfo>
</digform>
<ordering>Available only through Douglas County Forestry Department.</ordering>
</stdorder>
</distinfo>
<metainfo>
<metd Sync="TRUE">20080417</metd>
<metc>
<cntinfo>
<cntorgp>
<cntorg>Pro-West &amp; Associates, Inc.</cntorg>
<cntper>Lee Westfield</cntper>
</cntorgp>
<cntpos>Vice-President; Manager, Natural Resources and Remote Sensing Unit</cntpos>
<cntaddr>
<addrtype>mailing and physical address</addrtype>
<address>8239 State 371 NW</address>
<address>P.O. Box 812</address>
<city>Walker</city>
<state>Minnesota</state>
<postal>56484</postal>
<country>USA</country>
</cntaddr>
<cntvoice>218-547-3374, ext. 109</cntvoice>
<cntemail>lwest@prowestgis.com</cntemail>
<hours>Monday thru Friday, 8:00 a.m. thru 4:30 p.m. CST</hours>
</cntinfo>
</metc>
<metstdn Sync="TRUE">FGDC Content Standards for Digital Geospatial Metadata</metstdn>
<metstdv Sync="TRUE">FGDC-STD-001-1998</metstdv>
<mettc Sync="TRUE">local time</mettc>
<langmeta Sync="TRUE">en</langmeta>
<metextns>
<onlink Sync="TRUE">http://www.esri.com/metadata/esriprof80.html</onlink>
<metprof Sync="TRUE">ESRI Metadata Profile</metprof>
</metextns>
</metainfo>
<dataIdInfo>
<envirDesc Sync="FALSE">ESRI ArcCatalog 9.2.2.1350</envirDesc>
<dataLang>
<languageCode Sync="TRUE" value="en">
</languageCode>
</dataLang>
<idCitation>
<resTitle Sync="TRUE">dc_1948</resTitle>
<presForm>
<PresFormCd Sync="TRUE" value="005">
</PresFormCd>
</presForm>
</idCitation>
<spatRpType>
<SpatRepTypCd Sync="TRUE" value="002">
</SpatRepTypCd>
</spatRpType>
<dataExt>
<geoEle>
<GeoBndBox esriExtentType="native">
<westBL Sync="TRUE">94410.951687</westBL>
<northBL Sync="TRUE">321521.82562</northBL>
<southBL Sync="TRUE">95293.62562</southBL>
<eastBL Sync="TRUE">289419.501687</eastBL>
<exTypeCode Sync="TRUE">1</exTypeCode>
</GeoBndBox>
</geoEle>
</dataExt>
<geoBox esriExtentType="decdegrees">
<westBL Sync="TRUE">-92.314018</westBL>
<eastBL Sync="TRUE">-91.535951</eastBL>
<northBL Sync="TRUE">46.76493</northBL>
<southBL Sync="TRUE">46.143963</southBL>
<exTypeCode Sync="TRUE">1</exTypeCode>
</geoBox>
<idAbs/>
<searchKeys>
<keyword>dc_1948</keyword>
<keyword>1948</keyword>
<keyword>imagery</keyword>
</searchKeys>
<idPurp>dc_1948</idPurp>
<idCredit/>
<resConst>
<Consts>
<useLimit/>
</Consts>
</resConst>
</dataIdInfo>
<distInfo>
<distributor>
<distorTran>
<onLineSrc>
<orDesc Sync="TRUE">002</orDesc>
<protocol Sync="TRUE">Local Area Network</protocol>
<linkage Sync="FALSE">withheld</linkage>
</onLineSrc>
<transSize Sync="TRUE">206.761</transSize>
</distorTran>
<distorFormat>
<formatName Sync="TRUE">Raster Dataset</formatName>
</distorFormat>
</distributor>
</distInfo>
<Esri>
<ModDate>20080417</ModDate>
<ModTime>13293700</ModTime>
<SyncDate>20080417</SyncDate>
<SyncOnce>FALSE</SyncOnce>
<SyncTime>13293700</SyncTime>
<CreaDate>20080417</CreaDate>
<CreaTime>10162600</CreaTime>
<MetaID>{4ADB8D56-A0C5-41F2-8B5E-C9B4A61E4E65}</MetaID>
</Esri>
<mdChar>
<CharSetCd Sync="TRUE" value="004">
</CharSetCd>
</mdChar>
<mdDateSt Sync="TRUE">20080417</mdDateSt>
<mdHrLv>
<ScopeCd Sync="TRUE" value="005">
</ScopeCd>
</mdHrLv>
<mdHrLvName Sync="TRUE">dataset</mdHrLvName>
<mdLang>
<languageCode Sync="TRUE" value="en">
</languageCode>
</mdLang>
<mdStanName Sync="TRUE">ISO 19115 Geographic Information - Metadata</mdStanName>
<mdStanVer Sync="TRUE">DIS_ESRI1.0</mdStanVer>
<spatRepInfo>
<GridSpatRep>
<numDims Sync="TRUE">2</numDims>
<tranParaAv Sync="TRUE">1</tranParaAv>
<cellGeo>
<CellGeoCd Sync="TRUE" value="002">
</CellGeoCd>
</cellGeo>
<axDimProps>
<Dimen>
<dimName>
<DimNameTypCd Sync="TRUE" value="002">
</DimNameTypCd>
</dimName>
<dimSize Sync="TRUE">25898</dimSize>
<dimResol>
<value Sync="TRUE">1.64</value>
<uom>
<UomLength>
<uomName Sync="TRUE">unknown</uomName>
</UomLength>
</uom>
</dimResol>
</Dimen>
<Dimen>
<dimName>
<DimNameTypCd Sync="TRUE" value="001">
</DimNameTypCd>
</dimName>
<dimSize Sync="TRUE">27905</dimSize>
<dimResol>
<value Sync="TRUE">1.64</value>
<uom>
<UomLength>
<uomName Sync="TRUE">unknown</uomName>
</UomLength>
</uom>
</dimResol>
</Dimen>
</axDimProps>
</GridSpatRep>
</spatRepInfo>
<refSysInfo>
<RefSystem>
<refSysID>
<identCode Sync="TRUE">NAD_1983_HARN_Adj_WI_Douglas_Feet</identCode>
</refSysID>
</RefSystem>
</refSysInfo>
</metadata>
