{
 "extent": {
  "ymin": 99794.680671651033,
  "xmin": 98392.125726363971,
  "ymax": 319209.68067165103,
  "xmax": 286697.12572636397,
  "spatialReference": {
   "latestVcsWkid": 5703,
   "latestWkid": 7602,
   "wkid": 7602,
   "vcsWkid": 5703
  }
 },
 "blockWidth": 128,
 "mosaicOperator": "First",
 "serviceSourceType": "esriImageServiceSourceTypeDataset",
 "hasMultidimensions": false,
 "maxImageWidth": 15000,
 "meanValues": [
  1053.3899284213001
 ],
 "hasColormap": false,
 "compressionType": "None",
 "defaultCompressionQuality": 75,
 "maxValues": [
  1371.2973632813
 ],
 "hasHistograms": true,
 "datasetFormat": "TIFF",
 "maxImageHeight": 4100,
 "sortField": "",
 "bandNames": [
  "Band_1"
 ],
 "spatialReference": {
  "latestVcsWkid": 5703,
  "latestWkid": 7602,
  "wkid": 7602,
  "vcsWkid": 5703
 },
 "fullExtent": {
  "ymin": 99794.680671651033,
  "xmin": 98392.125726363971,
  "ymax": 319209.68067165103,
  "xmax": 286697.12572636397,
  "spatialReference": {
   "latestVcsWkid": 5703,
   "latestWkid": 7602,
   "wkid": 7602,
   "vcsWkid": 5703
  }
 },
 "bandCount": 1,
 "rasterFunctionInfos": [
  {
   "help": "",
   "name": "None",
   "description": ""
  }
 ],
 "supportsStatistics": false,
 "sortableFields": "",
 "minValues": [
  579.82000732422
 ],
 "allowRasterFunction": true,
 "allowComputeTiePoints": false,
 "serviceDataType": "esriImageServiceDataTypeGeneric",
 "supportsAdvancedQueries": false,
 "currentVersion": 12.1,
 "heightModelInfo": {
  "vertCRS": "NAVD_1988",
  "heightModel": "gravity_related_height",
  "heightUnit": "meter"
 },
 "sortValue": null,
 "objectIdField": "",
 "blockHeight": 128,
 "initialExtent": {
  "ymin": 99794.680671651033,
  "xmin": 98392.125726363971,
  "ymax": 319209.68067165103,
  "xmax": 286697.12572636397,
  "spatialReference": {
   "latestVcsWkid": 5703,
   "latestWkid": 7602,
   "wkid": 7602,
   "vcsWkid": 5703
  }
 },
 "pixelSizeX": 5,
 "pixelSizeY": 5,
 "defaultMosaicMethod": "Center",
 "name": "ELEV_Duluth_Superior_DEM",
 "allowedMosaicMethods": "",
 "fields": [],
 "allowAnalysis": true,
 "hasRasterAttributeTable": false,
 "useStandardizedQueries": false,
 "description": "",
 "pixelType": "F32",
 "meanPixelSize": 1.5240030480060962,
 "exportTilesAllowed": false,
 "editFieldsInfo": null,
 "rasterTypeInfos": [
  {
   "help": "",
   "name": "Raster Dataset",
   "description": "Supports all ArcGIS Raster Datasets"
  }
 ],
 "defaultResamplingMethod": "Bilinear",
 "itemAccess": false,
 "minScale": 0,
 "serviceProperties": "Center<\/MosaicMethod>First<\/MosaicOperator>true<\/SortAscending><\/LockImageID><\/TileOrderField>0<\/TileOrderBase>0.000000<\/AvgImageSpacingX>0.000000<\/AvgImageSpacingY>0.0<\/ViewPointX>0.0<\/ViewPointY>0.0<\/ViewPointDefShiftX>0.0<\/ViewPointDefShiftY>None<\/CompressionMethod>75<\/CompressionQuality>0.010000<\/CompressionTolerance>Bilinear<\/SamplingMethod><\/ImageServiceProperties><\/ImageServer>",
 "advancedQueryCapabilities": {
  "supportsStatistics": false,
  "supportsSqlExpression": false,
  "supportsOrderBy": false,
  "useStandardizedQueries": false,
  "supportsPagination": false,
  "supportsDistinct": false
 },
 "serviceItemId": "d753e7620b38424da541a334a22c8f83",
 "capabilities": "Image,Metadata,Mensuration",
 "maxScale": 0,
 "stdvValues": [
  187.57845858939001
 ],
 "allowedFields": "",
 "minPixelSize": 0,
 "noDataValues": [
  -3.4028230607370965E+38
 ],
 "sortAscending": true,
 "inspectionCapabilities": "",
 "maxPixelSize": 0,
 "noDataValue": -3.4028230607370965E+38,
 "allowedCompressions": "None,JPEG,LZ77,LERC",
 "uncompressedSize": 6610710652,
 "serviceDescription": "ELEV_Duluth_Superior_DEM",
 "allowCopy": true,
 "copyrightText": "",
 "mensurationCapabilities": "Basic",
 "ownershipBasedAccessControlForRasters": null
}
