<?xml version="1.0" encoding="UTF-8" standalone="no"?>
<metadata xml:lang="en">
<Esri>
<CreaDate>20190701</CreaDate>
<CreaTime>15282200</CreaTime>
<ArcGISFormat>1.0</ArcGISFormat>
<ArcGISstyle>FGDC CSDGM Metadata</ArcGISstyle>
<SyncOnce>FALSE</SyncOnce>
<DataProperties>
<lineage>
<Process Date="20190701" Name="Contour" Time="152822" ToolSource="c:\program files (x86)\arcgis\desktop10.5\ArcToolbox\Toolboxes\3D Analyst Tools.tbx\Contour">Contour E:\Projects\WICSUP19\WICSUP19_TerrainProducts.gdb\DEM3ft E:\Projects\WICSUP19\Contours\ContoursBuffered.gdb\Tile15 1 0 1</Process>
<Process Date="20190701" Name="Select" Time="152825" ToolSource="c:\program files (x86)\arcgis\desktop10.5\ArcToolbox\Toolboxes\Analysis Tools.tbx\Select">Select E:\Projects\WICSUP19\Contours\ContoursBuffered.gdb\Tile15 E:\Projects\WICSUP19\Contours\ContoursSelect.gdb\Tile15 ""Shape_Length" &gt; 18"</Process>
<Process Date="20190701" Name="Add Field" Time="152826" ToolSource="c:\program files (x86)\arcgis\desktop10.5\ArcToolbox\Toolboxes\Data Management Tools.tbx\AddField">AddField E:\Projects\WICSUP19\Contours\ContoursSelect.gdb\Tile15 ELEVATION SHORT # # # # NULLABLE NON_REQUIRED #</Process>
<Process Date="20190701" Name="Calculate Field" Time="152827" ToolSource="c:\program files (x86)\arcgis\desktop10.5\ArcToolbox\Toolboxes\Data Management Tools.tbx\CalculateField">CalculateField E:\Projects\WICSUP19\Contours\ContoursSelect.gdb\Tile15 ELEVATION [Contour] VB #</Process>
<Process Date="20190701" Name="Add Field (2)" Time="152828" ToolSource="c:\program files (x86)\arcgis\desktop10.5\ArcToolbox\Toolboxes\Data Management Tools.tbx\AddField">AddField E:\Projects\WICSUP19\Contours\ContoursSelect.gdb\Tile15 Index10ft SHORT # # # # NULLABLE NON_REQUIRED #</Process>
<Process Date="20190701" Name="Calculate Field (2)" Time="152830" ToolSource="c:\program files (x86)\arcgis\desktop10.5\ArcToolbox\Toolboxes\Data Management Tools.tbx\CalculateField">CalculateField E:\Projects\WICSUP19\Contours\ContoursSelect.gdb\Tile15 Index10ft x VB "x = 0\nif [ELEVATION] mod 10 = 0 Then\nx = 1\nend if"</Process>
<Process Date="20190701" Name="Add Field (3)" Time="152830" ToolSource="c:\program files (x86)\arcgis\desktop10.5\ArcToolbox\Toolboxes\Data Management Tools.tbx\AddField">AddField E:\Projects\WICSUP19\Contours\ContoursSelect.gdb\Tile15 Index20ft SHORT # # # # NULLABLE NON_REQUIRED #</Process>
<Process Date="20190701" Name="Calculate Field (3)" Time="152832" ToolSource="c:\program files (x86)\arcgis\desktop10.5\ArcToolbox\Toolboxes\Data Management Tools.tbx\CalculateField">CalculateField E:\Projects\WICSUP19\Contours\ContoursSelect.gdb\Tile15 Index20ft x VB "x = 0\nif [ELEVATION] mod 20 = 0 Then\nx = 1\nend if"</Process>
<Process Date="20190701" Name="Add Field (4)" Time="152832" ToolSource="c:\program files (x86)\arcgis\desktop10.5\ArcToolbox\Toolboxes\Data Management Tools.tbx\AddField">AddField E:\Projects\WICSUP19\Contours\ContoursSelect.gdb\Tile15 Index50ft SHORT # # # # NULLABLE NON_REQUIRED #</Process>
<Process Date="20190701" Name="Calculate Field (4)" Time="152834" ToolSource="c:\program files (x86)\arcgis\desktop10.5\ArcToolbox\Toolboxes\Data Management Tools.tbx\CalculateField">CalculateField E:\Projects\WICSUP19\Contours\ContoursSelect.gdb\Tile15 Index50ft x VB "x = 0\nif [ELEVATION] mod 50 = 0 Then\nx = 1\nend if"</Process>
<Process Date="20190701" Name="Delete Field" Time="152835" ToolSource="c:\program files (x86)\arcgis\desktop10.5\ArcToolbox\Toolboxes\Data Management Tools.tbx\DeleteField">DeleteField E:\Projects\WICSUP19\Contours\ContoursSelect.gdb\Tile15 Contour</Process>
<Process Date="20190701" Name="Smooth Line" Time="153602" ToolSource="c:\program files (x86)\arcgis\desktop10.5\ArcToolbox\Toolboxes\Cartography Tools.tbx\SmoothLine">SmoothLine E:\Projects\WICSUP19\Contours\ContoursSelect.gdb\Tile15 E:\Projects\WICSUP19\Contours\ContoursSmoothed.gdb\Tile15 PAEK "3 Meters" NO_FIXED NO_CHECK</Process>
<Process Date="20190701" Name="Clip" Time="153612" ToolSource="c:\program files (x86)\arcgis\desktop10.5\ArcToolbox\Toolboxes\Analysis Tools.tbx\Clip">Clip E:\Projects\WICSUP19\Contours\ContoursSmoothed.gdb\Tile15 E:\Projects\WICSUP19\Contours\Tiles.gdb\Tile15 E:\Projects\WICSUP19\Contours\ContoursClipped.gdb\Tile15 "0.00001 Feet"</Process>
<Process Date="20190702" Time="080129" ToolSource="c:\program files (x86)\arcgis\desktop10.5\ArcToolbox\Toolboxes\Editing Tools.tbx\Snap">Snap E:\Projects\WICSUP19\Contours\ContoursClipped.gdb\Tile15 "E:\Projects\WICSUP19\Contours02\ContoursClipped.gdb\Tile16 END '0.1 Feet'"</Process>
<Process Date="20190703" Time="071946" ToolSource="c:\program files (x86)\arcgis\desktop10.5\ArcToolbox\Toolboxes\Data Management Tools.tbx\CopyFeatures">CopyFeatures E:\Projects\WICSUP19\Contours\ContoursSplit.gdb\Contour1ft_122760E297000N E:\Projects\WICSUP19\Contours\TopologyCheck.gdb\topo\Contour1ft_122760E297000N # 0 0 0</Process>
<Process Date="20190703" Time="085158" ToolSource="c:\program files (x86)\arcgis\desktop10.5\ArcToolbox\Toolboxes\Data Management Tools.tbx\CopyFeatures">CopyFeatures E:\Projects\WICSUP19\Contours\TopologyCheck.gdb\topo\Contour1ft_122760E297000N E:\Projects\WICSUP19\WICSUP19_TerrainProducts.gdb\Contour1ft_122760E297000N # 0 0 0</Process>
</lineage>
<itemProps>
<itemName Sync="TRUE">DEM3ft.tif</itemName>
<itemLocation>
<linkage Sync="TRUE">file://F:\LIDAR2019\2019Lidar\DEM3ft.tif</linkage>
<protocol Sync="TRUE">Local Area Network</protocol>
</itemLocation>
<nativeExtBox>
<westBL Sync="TRUE">121356.291948</westBL>
<eastBL Sync="TRUE">190254.291948</eastBL>
<southBL Sync="TRUE">278722.901971</southBL>
<northBL Sync="TRUE">315988.901971</northBL>
<exTypeCode Sync="TRUE">1</exTypeCode>
</nativeExtBox>
<imsContentType Sync="TRUE">002</imsContentType>
</itemProps>
<coordRef>
<type Sync="TRUE">Projected</type>
<geogcsn Sync="TRUE">GCS_North_American_1983_HARN</geogcsn>
<csUnits Sync="TRUE">Linear Unit: Foot_US (0.304801)</csUnits>
<projcsn Sync="TRUE">NAD_1983_HARN_WISCRS_Douglas_County_Feet</projcsn>
<peXml Sync="TRUE">&lt;ProjectedCoordinateSystem xsi:type='typens:ProjectedCoordinateSystem' xmlns:xsi='http://www.w3.org/2001/XMLSchema-instance' xmlns:xs='http://www.w3.org/2001/XMLSchema' xmlns:typens='http://www.esri.com/schemas/ArcGIS/10.6'&gt;&lt;WKT&gt;PROJCS[&amp;quot;NAD_1983_HARN_WISCRS_Douglas_County_Feet&amp;quot;,GEOGCS[&amp;quot;GCS_North_American_1983_HARN&amp;quot;,DATUM[&amp;quot;D_North_American_1983_HARN&amp;quot;,SPHEROID[&amp;quot;GRS_1980&amp;quot;,6378137.0,298.257222101]],PRIMEM[&amp;quot;Greenwich&amp;quot;,0.0],UNIT[&amp;quot;Degree&amp;quot;,0.0174532925199433]],PROJECTION[&amp;quot;Transverse_Mercator&amp;quot;],PARAMETER[&amp;quot;False_Easting&amp;quot;,194000.0],PARAMETER[&amp;quot;False_Northing&amp;quot;,0.013],PARAMETER[&amp;quot;Central_Meridian&amp;quot;,-91.91666666666667],PARAMETER[&amp;quot;Scale_Factor&amp;quot;,1.0000385418],PARAMETER[&amp;quot;Latitude_Of_Origin&amp;quot;,45.88333333333333],UNIT[&amp;quot;Foot_US&amp;quot;,0.3048006096012192]],VERTCS[&amp;quot;NAVD88_height_(ftUS)&amp;quot;,VDATUM[&amp;quot;North_American_Vertical_Datum_1988&amp;quot;],PARAMETER[&amp;quot;Vertical_Shift&amp;quot;,0.0],PARAMETER[&amp;quot;Direction&amp;quot;,1.0],UNIT[&amp;quot;Foot_US&amp;quot;,0.3048006096012192]]&lt;/WKT&gt;&lt;XOrigin&gt;-18255300&lt;/XOrigin&gt;&lt;YOrigin&gt;-49493900&lt;/YOrigin&gt;&lt;XYScale&gt;137236248.56384292&lt;/XYScale&gt;&lt;ZOrigin&gt;-100000&lt;/ZOrigin&gt;&lt;ZScale&gt;10000&lt;/ZScale&gt;&lt;MOrigin&gt;-100000&lt;/MOrigin&gt;&lt;MScale&gt;10000&lt;/MScale&gt;&lt;XYTolerance&gt;0.0032808333333333331&lt;/XYTolerance&gt;&lt;ZTolerance&gt;0.001&lt;/ZTolerance&gt;&lt;MTolerance&gt;0.001&lt;/MTolerance&gt;&lt;HighPrecision&gt;true&lt;/HighPrecision&gt;&lt;WKID&gt;103415&lt;/WKID&gt;&lt;LatestWKID&gt;103415&lt;/LatestWKID&gt;&lt;VCSWKID&gt;105703&lt;/VCSWKID&gt;&lt;LatestVCSWKID&gt;6360&lt;/LatestVCSWKID&gt;&lt;/ProjectedCoordinateSystem&gt;</peXml>
</coordRef>
<RasterProperties>
<General>
<PixelDepth Sync="TRUE">32</PixelDepth>
<HasColormap Sync="TRUE">FALSE</HasColormap>
<CompressionType Sync="TRUE">LZW</CompressionType>
<NumBands Sync="TRUE">1</NumBands>
<Format Sync="TRUE">TIFF</Format>
<HasPyramids Sync="TRUE">TRUE</HasPyramids>
<SourceType Sync="TRUE">continuous</SourceType>
<PixelType Sync="TRUE">floating point</PixelType>
<NoDataValue Sync="TRUE">-3.4028231e+38</NoDataValue>
</General>
</RasterProperties>
</DataProperties>
<SyncDate>20190731</SyncDate>
<SyncTime>14355000</SyncTime>
<ModDate>20190731</ModDate>
<ModTime>14355000</ModTime>
</Esri>
<eainfo>
<detailed Name="Contour1ft_122760E297000N">
<enttyp>
<enttypl Sync="TRUE">Contour1ft_122760E297000N</enttypl>
<enttypt Sync="TRUE">Feature Class</enttypt>
<enttypc Sync="TRUE">198</enttypc>
</enttyp>
<attr>
<attrlabl Sync="TRUE">OBJECTID</attrlabl>
<attalias Sync="TRUE">OBJECTID</attalias>
<attrtype Sync="TRUE">OID</attrtype>
<attwidth Sync="TRUE">4</attwidth>
<atprecis Sync="TRUE">0</atprecis>
<attscale Sync="TRUE">0</attscale>
<attrdef Sync="TRUE">Internal feature number.</attrdef>
<attrdefs Sync="TRUE">Esri</attrdefs>
<attrdomv>
<udom Sync="TRUE">Sequential unique whole numbers that are automatically generated.</udom>
</attrdomv>
</attr>
<attr>
<attrlabl Sync="TRUE">Shape</attrlabl>
<attalias Sync="TRUE">Shape</attalias>
<attrtype Sync="TRUE">Geometry</attrtype>
<attwidth Sync="TRUE">0</attwidth>
<atprecis Sync="TRUE">0</atprecis>
<attscale Sync="TRUE">0</attscale>
<attrdef Sync="TRUE">Feature geometry.</attrdef>
<attrdefs Sync="TRUE">Esri</attrdefs>
<attrdomv>
<udom Sync="TRUE">Coordinates defining the features.</udom>
</attrdomv>
</attr>
<attr>
<attrlabl Sync="TRUE">Id</attrlabl>
<attalias Sync="TRUE">Id</attalias>
<attrtype Sync="TRUE">Integer</attrtype>
<attwidth Sync="TRUE">4</attwidth>
<atprecis Sync="TRUE">0</atprecis>
<attscale Sync="TRUE">0</attscale>
</attr>
<attr>
<attrlabl Sync="TRUE">ELEVATION</attrlabl>
<attalias Sync="TRUE">ELEVATION</attalias>
<attrtype Sync="TRUE">SmallInteger</attrtype>
<attwidth Sync="TRUE">2</attwidth>
<atprecis Sync="TRUE">0</atprecis>
<attscale Sync="TRUE">0</attscale>
</attr>
<attr>
<attrlabl Sync="TRUE">Index10ft</attrlabl>
<attalias Sync="TRUE">Index10ft</attalias>
<attrtype Sync="TRUE">SmallInteger</attrtype>
<attwidth Sync="TRUE">2</attwidth>
<atprecis Sync="TRUE">0</atprecis>
<attscale Sync="TRUE">0</attscale>
</attr>
<attr>
<attrlabl Sync="TRUE">Index20ft</attrlabl>
<attalias Sync="TRUE">Index20ft</attalias>
<attrtype Sync="TRUE">SmallInteger</attrtype>
<attwidth Sync="TRUE">2</attwidth>
<atprecis Sync="TRUE">0</atprecis>
<attscale Sync="TRUE">0</attscale>
</attr>
<attr>
<attrlabl Sync="TRUE">Index50ft</attrlabl>
<attalias Sync="TRUE">Index50ft</attalias>
<attrtype Sync="TRUE">SmallInteger</attrtype>
<attwidth Sync="TRUE">2</attwidth>
<atprecis Sync="TRUE">0</atprecis>
<attscale Sync="TRUE">0</attscale>
</attr>
<attr>
<attrlabl Sync="TRUE">Shape_Length</attrlabl>
<attalias Sync="TRUE">Shape_Length</attalias>
<attrtype Sync="TRUE">Double</attrtype>
<attwidth Sync="TRUE">8</attwidth>
<atprecis Sync="TRUE">0</atprecis>
<attscale Sync="TRUE">0</attscale>
<attrdef Sync="TRUE">Length of feature in internal units.</attrdef>
<attrdefs Sync="TRUE">Esri</attrdefs>
<attrdomv>
<udom Sync="TRUE">Positive real numbers that are automatically generated.</udom>
</attrdomv>
</attr>
</detailed>
</eainfo>
<mdLang>
<languageCode value="eng"/>
<countryCode Sync="TRUE" value="USA"/>
</mdLang>
<mdChar>
<CharSetCd value="004"/>
</mdChar>
<mdHrLv>
<ScopeCd value="005"/>
</mdHrLv>
<mdContact>
<rpIndName>Karen Kwsanowski</rpIndName>
<rpOrgName>GroundPoint Technologies LLC</rpOrgName>
<rpPosName>Chief Technical Officer</rpPosName>
<rpCntInfo>
<cntPhone>
<voiceNum>315-459-1515</voiceNum>
</cntPhone>
<cntAddress>
<delPoint>17 Highland Dr</delPoint>
<city>Marcellus</city>
<adminArea>NY</adminArea>
<postCode>13108</postCode>
<country>US</country>
</cntAddress>
</rpCntInfo>
<role>
<RoleCd value="007"/>
</role>
</mdContact>
<mdDateSt Sync="TRUE">20190731</mdDateSt>
<mdStanName>ArcGIS Metadata</mdStanName>
<mdStanVer>1.0</mdStanVer>
<distInfo>
<distributor>
<distorCont>
<rpOrgName>Superior, WI</rpOrgName>
<rpCntInfo>
<cntPhone>
<voiceNum>999-999-9999</voiceNum>
</cntPhone>
<cntAddress>
<delPoint>Not available</delPoint>
<city>Not available</city>
<adminArea>PA</adminArea>
<postCode>99999</postCode>
<country>US</country>
</cntAddress>
</rpCntInfo>
<role>
<RoleCd value="005"/>
</role>
</distorCont>
</distributor>
<distTranOps>
<onLineSrc>
<linkage>WICSUP18_TerrainProducts.gdb</linkage>
</onLineSrc>
</distTranOps>
<distFormat>
<formatName Sync="TRUE">Raster Dataset</formatName>
</distFormat>
</distInfo>
<dataIdInfo>
<idCitation>
<resTitle Sync="TRUE">DEM3ft</resTitle>
<date>
<pubDate>2019-07-05</pubDate>
</date>
<citRespParty>
<rpOrgName>Karen Kwasnowski</rpOrgName>
<role>
<RoleCd value="006"/>
</role>
</citRespParty>
<presForm>
<PresFormCd value="002"/>
</presForm>
<presForm>
<fgdcGeoform>document</fgdcGeoform>
</presForm>
</idCitation>
<idAbs>Lidar Data Products for the Superior, WI collection area includes a 3ft DEM and 1ft Contour tiles.</idAbs>
<idPurp>The lidar dataset was collected to be utilized for the creation of a digital elevation model (DEM), and contours. Other uses expected.</idPurp>
<idStatus>
<ProgCd value="001"/>
</idStatus>
<idPoC>
<rpIndName>Thom S. Salter</rpIndName>
<rpOrgName>Pictometry International Corp.</rpOrgName>
<rpPosName>Manager, Photogrammetric Production</rpPosName>
<rpCntInfo>
<cntPhone>
<voiceNum>585-486-0093</voiceNum>
<faxNum>585-486-0098</faxNum>
</cntPhone>
<cntAddress>
<delPoint>100 Town Centre Drive, Suite A</delPoint>
<city>Rochester</city>
<adminArea>NY</adminArea>
<postCode>14623</postCode>
<country>US</country>
</cntAddress>
<cntHours>0900-1700</cntHours>
</rpCntInfo>
<role>
<RoleCd value="007"/>
</role>
</idPoC>
<resMaint>
<maintFreq>
<MaintFreqCd value="012"/>
</maintFreq>
</resMaint>
<placeKeys>
<keyword>Wisconsin</keyword>
</placeKeys>
<placeKeys>
<keyword>Douglas County</keyword>
<thesaName>
<resTitle>Geographic Names Index Service</resTitle>
</thesaName>
</placeKeys>
<themeKeys>
<keyword>LiDAR</keyword>
<thesaName>
<resTitle>EDI Thesaurus</resTitle>
</thesaName>
</themeKeys>
<searchKeys>
<keyword>LiDAR</keyword>
<keyword>Douglas County</keyword>
<keyword>Wisconsin</keyword>
</searchKeys>
<resConst>
<LegConsts>
<useLimit>See access and use constraints information.</useLimit>
<othConsts>Access to this data is constrained by the license agreements between Pictometry International and Superior, WI.</othConsts>
</LegConsts>
</resConst>
<resConst>
<Consts>
<useLimit>Access to this data is constrained by the license agreements between Pictometry International and Superior, WI.</useLimit>
</Consts>
</resConst>
<dataLang>
<languageCode value="eng"/>
<countryCode Sync="TRUE" value="USA"/>
</dataLang>
<envirDesc Sync="TRUE">Microsoft Windows 7 Version 6.1 (Build 7601) Service Pack 1; Esri ArcGIS 10.6.1.9270</envirDesc>
<dataExt>
<exDesc>Publication Date</exDesc>
<tempEle>
<TempExtent>
<exTemp>
<TM_Instant>
<tmPosition>2019-01-01</tmPosition>
</TM_Instant>
</exTemp>
</TempExtent>
</tempEle>
<geoEle/>
</dataExt>
<dataExt>
<geoEle>
<GeoBndBox>
<westBL>-112.125088</westBL>
<eastBL>-111.678816</eastBL>
<southBL>43.623514</southBL>
<northBL>43.78476</northBL>
</GeoBndBox>
</geoEle>
</dataExt>
<spatRpType>
<SpatRepTypCd Sync="TRUE" value="002"/>
</spatRpType>
<dataExt>
<geoEle>
<GeoBndBox esriExtentType="search">
<exTypeCode Sync="TRUE">1</exTypeCode>
<westBL Sync="TRUE">-92.206429</westBL>
<eastBL Sync="TRUE">-91.931580</eastBL>
<northBL Sync="TRUE">46.749760</northBL>
<southBL Sync="TRUE">46.647220</southBL>
</GeoBndBox>
</geoEle>
</dataExt>
<idCredit/>
</dataIdInfo>
<mdConst>
<Consts>
<useLimit>Access to this data is constrained by the license agreements between Pictometry International and Superior, WI.</useLimit>
</Consts>
</mdConst>
<dqInfo>
<dqScope>
<scpLvl>
<ScopeCd value="005"/>
</scpLvl>
</dqScope>
<report type="DQConcConsis">
<measDesc>Visual checks were used to make sure all features and feature classes are complete.</measDesc>
</report>
<report type="DQCompOm">
<measDesc>Visual checks were used to make sure all features and feature classes are complete.</measDesc>
</report>
<dataLineage>
<prcStep>
<stepDesc>Breaklines for hydrographic features are digitized using the intensity values of the lidar data. The hydrographic features, include water bodies (&gt; 1 Acre) and wide rivers (&gt; 25ft wide). Elevation values from the lidar data are conflated to the “z-values” of the features at 3ft intervals using QCoherent’s LP360 software. Elevation values are conflated to a wideriver centerline at 3ft intervals with a downstream constraint algorithm. These elevation values are copied to the vertices of the wideriver polygon to flatten the wide river from stream bank to stream bank. Elevation values for the water body polygons are added to the vertices and as an attribute to the feature class based on the minimum lidar elevation value along the shoreline of the water body. The lidar ground points within a 2 ft buffer of waterbody and wideriver polygons are removed from the terrain surface. Breaklines are also created to eliminate bridge saddles. The remaining lidar ground points and breakline feature classes are used to create a DEM with 3ft cell resolution. The contours are created from the DEM. The contours are edited in the following manner: Lines shorter than 18ft (2 raster cells) are deleted. The contour lines are smoothed using a PAEK algorithm with a 3m smoothing tolerance. Attributes are added for 10ft, 20ft, and 50ft Index contours. The following topology rules are checked and edited: Lines Must Not Overlap, Lines Must Not Have Dangles, and Lines Must Not Self Intersect. A hillshade is created of the DEM using default ESRI illumination parameters. And a terrain dataset is created of the lidar groundpoints and breakline features classes as well.</stepDesc>
<stepDateTm>2019-07-05</stepDateTm>
</prcStep>
</dataLineage>
</dqInfo>
<mdHrLvName Sync="TRUE">dataset</mdHrLvName>
<refSysInfo>
<RefSystem>
<refSysID>
<identCode Sync="TRUE" code="103415"/>
<idCodeSpace Sync="TRUE">Esri</idCodeSpace>
<idVersion Sync="TRUE">9.2.0</idVersion>
</refSysID>
</RefSystem>
</refSysInfo>
<spatRepInfo>
<VectSpatRep>
<geometObjs Name="Contour1ft_122760E297000N">
<geoObjTyp>
<GeoObjTypCd Sync="TRUE" value="002"/>
</geoObjTyp>
<geoObjCnt Sync="TRUE">198</geoObjCnt>
</geometObjs>
<topLvl>
<TopoLevCd Sync="TRUE" value="001"/>
</topLvl>
</VectSpatRep>
<Georect>
<cellGeo>
<CellGeoCd Sync="TRUE" value="002"/>
</cellGeo>
<numDims Sync="TRUE">2</numDims>
<tranParaAv Sync="TRUE">1</tranParaAv>
<chkPtAv Sync="TRUE">0</chkPtAv>
<cornerPts>
<pos Sync="TRUE">121356.291948 278722.901971</pos>
</cornerPts>
<cornerPts>
<pos Sync="TRUE">121356.291948 315988.901971</pos>
</cornerPts>
<cornerPts>
<pos Sync="TRUE">190254.291948 315988.901971</pos>
</cornerPts>
<cornerPts>
<pos Sync="TRUE">190254.291948 278722.901971</pos>
</cornerPts>
<centerPt>
<pos Sync="TRUE">155805.291948 297355.901971</pos>
</centerPt>
<axisDimension type="002">
<dimSize Sync="TRUE">22966</dimSize>
<dimResol>
<value Sync="TRUE" uom="ftUS">3.000000</value>
</dimResol>
</axisDimension>
<axisDimension type="001">
<dimSize Sync="TRUE">12422</dimSize>
<dimResol>
<value Sync="TRUE" uom="ftUS">3.000000</value>
</dimResol>
</axisDimension>
<ptInPixel>
<PixOrientCd Sync="TRUE" value="001"/>
</ptInPixel>
</Georect>
</spatRepInfo>
<spdoinfo>
<ptvctinf>
<esriterm Name="Contour1ft_122760E297000N">
<efeatyp Sync="TRUE">Simple</efeatyp>
<efeageom Sync="TRUE" code="3"/>
<esritopo Sync="TRUE">FALSE</esritopo>
<efeacnt Sync="TRUE">198</efeacnt>
<spindex Sync="TRUE">TRUE</spindex>
<linrefer Sync="TRUE">FALSE</linrefer>
</esriterm>
</ptvctinf>
</spdoinfo>
<contInfo>
<ImgDesc>
<contentTyp>
<ContentTypCd Sync="TRUE" value="001"/>
</contentTyp>
<covDim>
<Band>
<dimDescrp Sync="TRUE">Band_1</dimDescrp>
<maxVal Sync="TRUE">772.239746</maxVal>
<minVal Sync="TRUE">579.583496</minVal>
<bitsPerVal Sync="TRUE">32</bitsPerVal>
<valUnit>
<UOM type="length"/>
</valUnit>
</Band>
</covDim>
</ImgDesc>
</contInfo>
</metadata>
