{
 "extent": {
  "ymin": 278722.90197139978,
  "xmin": 121356.2919482924,
  "ymax": 315988.90197139978,
  "xmax": 190254.2919482924,
  "spatialReference": {
   "latestVcsWkid": 6360,
   "latestWkid": 8182,
   "wkid": 103415,
   "vcsWkid": 105703
  }
 },
 "blockWidth": 128,
 "mosaicOperator": "First",
 "serviceSourceType": "esriImageServiceSourceTypeDataset",
 "hasMultidimensions": false,
 "maxImageWidth": 15000,
 "meanValues": [
  179.22815061841999
 ],
 "hasColormap": false,
 "compressionType": "LZW",
 "defaultCompressionQuality": 75,
 "maxValues": [
  254
 ],
 "hasHistograms": true,
 "datasetFormat": "TIFF",
 "maxImageHeight": 4100,
 "sortField": "",
 "bandNames": [
  "Band_1"
 ],
 "spatialReference": {
  "latestVcsWkid": 6360,
  "latestWkid": 8182,
  "wkid": 103415,
  "vcsWkid": 105703
 },
 "fullExtent": {
  "ymin": 278722.90197139978,
  "xmin": 121356.2919482924,
  "ymax": 315988.90197139978,
  "xmax": 190254.2919482924,
  "spatialReference": {
   "latestVcsWkid": 6360,
   "latestWkid": 8182,
   "wkid": 103415,
   "vcsWkid": 105703
  }
 },
 "bandCount": 1,
 "rasterFunctionInfos": [
  {
   "help": "",
   "name": "None",
   "description": ""
  }
 ],
 "supportsStatistics": false,
 "sortableFields": "",
 "minValues": [
  0
 ],
 "allowRasterFunction": true,
 "allowComputeTiePoints": false,
 "serviceDataType": "esriImageServiceDataTypeThematic",
 "supportsAdvancedQueries": false,
 "currentVersion": 12.1,
 "heightModelInfo": {
  "vertCRS": "NAVD88_height_(ftUS)",
  "heightModel": "gravity_related_height",
  "heightUnit": "us-foot"
 },
 "sortValue": null,
 "objectIdField": "",
 "blockHeight": 128,
 "initialExtent": {
  "ymin": 278722.90197139978,
  "xmin": 121356.2919482924,
  "ymax": 315988.90197139978,
  "xmax": 190254.2919482924,
  "spatialReference": {
   "latestVcsWkid": 6360,
   "latestWkid": 8182,
   "wkid": 103415,
   "vcsWkid": 105703
  }
 },
 "pixelSizeX": 3,
 "pixelSizeY": 3,
 "defaultMosaicMethod": "Center",
 "name": "COS_Hillshade_2019",
 "allowedMosaicMethods": "",
 "fields": [],
 "allowAnalysis": true,
 "hasRasterAttributeTable": true,
 "useStandardizedQueries": false,
 "description": "",
 "pixelType": "U8",
 "meanPixelSize": 0.91440182880365772,
 "exportTilesAllowed": false,
 "editFieldsInfo": null,
 "rasterTypeInfos": [
  {
   "help": "",
   "name": "Raster Dataset",
   "description": "Supports all ArcGIS Raster Datasets"
  }
 ],
 "defaultResamplingMethod": "Bilinear",
 "itemAccess": false,
 "minScale": 0,
 "serviceProperties": "Center<\/MosaicMethod>First<\/MosaicOperator>true<\/SortAscending><\/LockImageID><\/TileOrderField>0<\/TileOrderBase>0.000000<\/AvgImageSpacingX>0.000000<\/AvgImageSpacingY>0.0<\/ViewPointX>0.0<\/ViewPointY>0.0<\/ViewPointDefShiftX>0.0<\/ViewPointDefShiftY>None<\/CompressionMethod>75<\/CompressionQuality>0.010000<\/CompressionTolerance>Bilinear<\/SamplingMethod><\/ImageServiceProperties><\/ImageServer>",
 "advancedQueryCapabilities": {
  "supportsStatistics": false,
  "supportsSqlExpression": false,
  "supportsOrderBy": false,
  "useStandardizedQueries": false,
  "supportsPagination": false,
  "supportsDistinct": false
 },
 "serviceItemId": "9f3d7f07047c4e5da88d31952c5520dd",
 "capabilities": "Image,Metadata,Mensuration",
 "maxScale": 0,
 "stdvValues": [
  13.478868518818
 ],
 "allowedFields": "",
 "minPixelSize": 0,
 "noDataValues": [
  255
 ],
 "sortAscending": true,
 "inspectionCapabilities": "",
 "maxPixelSize": 0,
 "noDataValue": 255,
 "allowedCompressions": "None,JPEG,LZ77,LERC",
 "uncompressedSize": 285283652,
 "serviceDescription": "COS_Hillshade_2019",
 "allowCopy": true,
 "copyrightText": "",
 "mensurationCapabilities": "Basic",
 "ownershipBasedAccessControlForRasters": null
}
