<?xml version="1.0" encoding="UTF-8" standalone="no"?>
<metadata xml:lang="en">
<Esri>
<CreaDate>20150430</CreaDate>
<CreaTime>06145400</CreaTime>
<ArcGISFormat>1.0</ArcGISFormat>
<SyncOnce>FALSE</SyncOnce>
<DataProperties>
<itemProps>
<itemName Sync="TRUE">WIDOUG025075.sid</itemName>
<itemLocation>
<linkage Sync="TRUE">file://Q:\Pictometry\WIDOUG13-LIB\Area Wide Mosaics\WIDOUG13-SID-COMBINED-4INCH\WIDOUG025075.sid</linkage>
<protocol Sync="TRUE">Local Area Network</protocol>
</itemLocation>
<imsContentType Sync="TRUE">002</imsContentType>
<nativeExtBox>
<westBL Sync="TRUE">235595.434326</westBL>
<eastBL Sync="TRUE">288891.100460</eastBL>
<southBL Sync="TRUE">283903.763718</southBL>
<northBL Sync="TRUE">321046.096680</northBL>
<exTypeCode Sync="TRUE">1</exTypeCode>
</nativeExtBox>
</itemProps>
<coordRef>
<type Sync="TRUE">Projected</type>
<geogcsn Sync="TRUE">GCS_douglas_cnty_geographic_coord_system</geogcsn>
<csUnits Sync="TRUE">Linear Unit: Foot_US (0.304801)</csUnits>
<projcsn Sync="TRUE">dc_4</projcsn>
<peXml Sync="TRUE">&lt;ProjectedCoordinateSystem xsi:type='typens:ProjectedCoordinateSystem' xmlns:xsi='http://www.w3.org/2001/XMLSchema-instance' xmlns:xs='http://www.w3.org/2001/XMLSchema' xmlns:typens='http://www.esri.com/schemas/ArcGIS/10.3'&gt;&lt;WKT&gt;PROJCS[&amp;quot;dc_4&amp;quot;,GEOGCS[&amp;quot;GCS_douglas_cnty_geographic_coord_system&amp;quot;,DATUM[&amp;quot;D_custom&amp;quot;,SPHEROID[&amp;quot;douglas_county&amp;quot;,6378414.93,298.27021878]],PRIMEM[&amp;quot;greenwich&amp;quot;,0.0],UNIT[&amp;quot;Degree&amp;quot;,0.0174532925199433]],PROJECTION[&amp;quot;Transverse_Mercator&amp;quot;],PARAMETER[&amp;quot;False_Easting&amp;quot;,194000.0],PARAMETER[&amp;quot;False_Northing&amp;quot;,0.0],PARAMETER[&amp;quot;Central_Meridian&amp;quot;,-91.91666667],PARAMETER[&amp;quot;Scale_Factor&amp;quot;,0.999994968],PARAMETER[&amp;quot;Latitude_Of_Origin&amp;quot;,45.88333333],UNIT[&amp;quot;Foot_US&amp;quot;,0.3048006096012192]]&lt;/WKT&gt;&lt;XOrigin&gt;-18255300&lt;/XOrigin&gt;&lt;YOrigin&gt;-49493900&lt;/YOrigin&gt;&lt;XYScale&gt;137236248.56384292&lt;/XYScale&gt;&lt;ZOrigin&gt;-100000&lt;/ZOrigin&gt;&lt;ZScale&gt;10000&lt;/ZScale&gt;&lt;MOrigin&gt;-100000&lt;/MOrigin&gt;&lt;MScale&gt;10000&lt;/MScale&gt;&lt;XYTolerance&gt;0.0032808333333333331&lt;/XYTolerance&gt;&lt;ZTolerance&gt;0.001&lt;/ZTolerance&gt;&lt;MTolerance&gt;0.001&lt;/MTolerance&gt;&lt;HighPrecision&gt;true&lt;/HighPrecision&gt;&lt;/ProjectedCoordinateSystem&gt;</peXml>
</coordRef>
<RasterProperties>
<General>
<PixelDepth Sync="TRUE">8</PixelDepth>
<HasColormap Sync="TRUE">FALSE</HasColormap>
<CompressionType Sync="TRUE">Wavelet (MG3)</CompressionType>
<NumBands Sync="TRUE">3</NumBands>
<Format Sync="TRUE">MrSID</Format>
<HasPyramids Sync="TRUE">TRUE</HasPyramids>
<SourceType Sync="TRUE">continuous</SourceType>
<PixelType Sync="TRUE">unsigned integer</PixelType>
<NoDataValue Sync="TRUE"/>
</General>
</RasterProperties>
</DataProperties>
<SyncDate>20150430</SyncDate>
<SyncTime>06145500</SyncTime>
<ModDate>20150430</ModDate>
<ModTime>06145500</ModTime>
</Esri>
<dataIdInfo>
<envirDesc Sync="TRUE"> Version 6.2 (Build 9200) ; Esri ArcGIS 10.3.0.4322</envirDesc>
<dataLang>
<languageCode Sync="TRUE" value="eng"/>
<countryCode Sync="TRUE" value="USA"/>
</dataLang>
<idCitation>
<resTitle Sync="TRUE">WIDOUG025075</resTitle>
<presForm>
<PresFormCd Sync="TRUE" value="005"/>
</presForm>
</idCitation>
<spatRpType>
<SpatRepTypCd Sync="TRUE" value="002"/>
</spatRpType>
<dataExt>
<geoEle>
<GeoBndBox esriExtentType="search">
<exTypeCode Sync="TRUE">1</exTypeCode>
<westBL Sync="TRUE">-91.751019</westBL>
<eastBL Sync="TRUE">-91.538068</eastBL>
<northBL Sync="TRUE">46.763506</northBL>
<southBL Sync="TRUE">46.661167</southBL>
</GeoBndBox>
</geoEle>
</dataExt>
<idAbs/>
<idPurp/>
<idCredit/>
<resConst>
<Consts>
<useLimit/>
</Consts>
</resConst>
</dataIdInfo>
<mdLang>
<languageCode Sync="TRUE" value="eng"/>
<countryCode Sync="TRUE" value="USA"/>
</mdLang>
<mdChar>
<CharSetCd Sync="TRUE" value="004"/>
</mdChar>
<distInfo>
<distFormat>
<formatName Sync="TRUE">Raster Dataset</formatName>
</distFormat>
</distInfo>
<mdHrLv>
<ScopeCd Sync="TRUE" value="005"/>
</mdHrLv>
<mdHrLvName Sync="TRUE">dataset</mdHrLvName>
<refSysInfo>
<RefSystem>
<refSysID>
<identCode Sync="TRUE" code="0"/>
</refSysID>
</RefSystem>
</refSysInfo>
<spatRepInfo>
<Georect>
<cellGeo>
<CellGeoCd Sync="TRUE" value="002"/>
</cellGeo>
<numDims Sync="TRUE">2</numDims>
<tranParaAv Sync="TRUE">1</tranParaAv>
<chkPtAv Sync="TRUE">0</chkPtAv>
<cornerPts>
<pos Sync="TRUE">235595.434326 283903.763718</pos>
</cornerPts>
<cornerPts>
<pos Sync="TRUE">235595.434326 321046.096680</pos>
</cornerPts>
<cornerPts>
<pos Sync="TRUE">288891.100460 321046.096680</pos>
</cornerPts>
<cornerPts>
<pos Sync="TRUE">288891.100460 283903.763718</pos>
</cornerPts>
<centerPt>
<pos Sync="TRUE">262243.267393 302474.930199</pos>
</centerPt>
<axisDimension type="002">
<dimSize Sync="TRUE">159887</dimSize>
<dimResol>
<value Sync="TRUE">0.333333</value>
</dimResol>
</axisDimension>
<axisDimension type="001">
<dimSize Sync="TRUE">111427</dimSize>
<dimResol>
<value Sync="TRUE">0.333333</value>
</dimResol>
</axisDimension>
<ptInPixel>
<PixOrientCd Sync="TRUE" value="001"/>
</ptInPixel>
</Georect>
</spatRepInfo>
<contInfo>
<ImgDesc>
<contentTyp>
<ContentTypCd Sync="TRUE" value="001"/>
</contentTyp>
<covDim>
<Band>
<dimDescrp Sync="TRUE">Band_1</dimDescrp>
<maxVal Sync="TRUE">255.000000</maxVal>
<minVal Sync="TRUE">0.000000</minVal>
<bitsPerVal Sync="TRUE">8</bitsPerVal>
</Band>
<Band>
<dimDescrp Sync="TRUE">Band_2</dimDescrp>
<maxVal Sync="TRUE">255.000000</maxVal>
<minVal Sync="TRUE">46.000000</minVal>
<bitsPerVal Sync="TRUE">8</bitsPerVal>
</Band>
<Band>
<dimDescrp Sync="TRUE">Band_3</dimDescrp>
<maxVal Sync="TRUE">255.000000</maxVal>
<minVal Sync="TRUE">36.000000</minVal>
<bitsPerVal Sync="TRUE">8</bitsPerVal>
</Band>
</covDim>
</ImgDesc>
</contInfo>
<mdDateSt Sync="TRUE">20150430</mdDateSt>
</metadata>
