{
 "extent": {
  "ymin": 211649,
  "xmin": 96669,
  "ymax": 316041,
  "xmax": 191701,
  "spatialReference": {
   "wkt": "PROJCS[\"dc-4\",GEOGCS[\"douglas cnty geographic coord system\",DATUM[\"\",SPHEROID[\"douglas county\",6378414.93,298.27021878]],PRIMEM[\"greenwich\",0.0],UNIT[\"Degree\",0.0174532925199433]],PROJECTION[\"Transverse_Mercator\"],PARAMETER[\"False_Easting\",194000.0],PARAMETER[\"False_Northing\",0.0],PARAMETER[\"Central_Meridian\",-91.91666667],PARAMETER[\"Scale_Factor\",0.999994968],PARAMETER[\"Latitude_Of_Origin\",45.88333333],UNIT[\"Foot_US\",0.3048006096012192]]",
   "wkt2": "PROJCRS[\"dc-4\",BASEGEOGCRS[\"douglas cnty geographic coord system\",DATUM[\"\",ELLIPSOID[\"douglas county\",6378414.93,298.27021878]],PRIMEM[\"greenwich\",0.0],CS[ellipsoidal,2],ANGLEUNIT[\"Degree\",0.0174532925199433]],CONVERSION[\"Transverse_Mercator\",METHOD[\"Transverse_Mercator\"],PARAMETER[\"False_Easting\",194000.0,LENGTHUNIT[\"Foot_US\",0.3048006096012192]],PARAMETER[\"False_Northing\",0.0,LENGTHUNIT[\"Foot_US\",0.3048006096012192]],PARAMETER[\"Central_Meridian\",-91.91666667],PARAMETER[\"Scale_Factor\",0.999994968],PARAMETER[\"Latitude_Of_Origin\",45.88333333]],CS[Cartesian,2],AXIS[\"Easting (X)\",east,ORDER[1]],AXIS[\"Northing (Y)\",north,ORDER[2]],LENGTHUNIT[\"Foot_US\",0.3048006096012192]]"
  }
 },
 "blockWidth": 1024,
 "mosaicOperator": "First",
 "serviceSourceType": "esriImageServiceSourceTypeDataset",
 "hasMultidimensions": false,
 "maxImageWidth": 15000,
 "meanValues": [
  120.84471853257,
  118.35694707991,
  111.02688172043
 ],
 "hasColormap": false,
 "compressionType": "Wavelet (MG3)",
 "defaultCompressionQuality": 75,
 "maxValues": [
  255,
  253,
  244
 ],
 "hasHistograms": true,
 "datasetFormat": "MrSID",
 "maxImageHeight": 4100,
 "sortField": "",
 "bandNames": [
  "Band_1",
  "Band_2",
  "Band_3"
 ],
 "spatialReference": {
  "wkt": "PROJCS[\"dc-4\",GEOGCS[\"douglas cnty geographic coord system\",DATUM[\"\",SPHEROID[\"douglas county\",6378414.93,298.27021878]],PRIMEM[\"greenwich\",0.0],UNIT[\"Degree\",0.0174532925199433]],PROJECTION[\"Transverse_Mercator\"],PARAMETER[\"False_Easting\",194000.0],PARAMETER[\"False_Northing\",0.0],PARAMETER[\"Central_Meridian\",-91.91666667],PARAMETER[\"Scale_Factor\",0.999994968],PARAMETER[\"Latitude_Of_Origin\",45.88333333],UNIT[\"Foot_US\",0.3048006096012192]]",
  "wkt2": "PROJCRS[\"dc-4\",BASEGEOGCRS[\"douglas cnty geographic coord system\",DATUM[\"\",ELLIPSOID[\"douglas county\",6378414.93,298.27021878]],PRIMEM[\"greenwich\",0.0],CS[ellipsoidal,2],ANGLEUNIT[\"Degree\",0.0174532925199433]],CONVERSION[\"Transverse_Mercator\",METHOD[\"Transverse_Mercator\"],PARAMETER[\"False_Easting\",194000.0,LENGTHUNIT[\"Foot_US\",0.3048006096012192]],PARAMETER[\"False_Northing\",0.0,LENGTHUNIT[\"Foot_US\",0.3048006096012192]],PARAMETER[\"Central_Meridian\",-91.91666667],PARAMETER[\"Scale_Factor\",0.999994968],PARAMETER[\"Latitude_Of_Origin\",45.88333333]],CS[Cartesian,2],AXIS[\"Easting (X)\",east,ORDER[1]],AXIS[\"Northing (Y)\",north,ORDER[2]],LENGTHUNIT[\"Foot_US\",0.3048006096012192]]"
 },
 "fullExtent": {
  "ymin": 211649,
  "xmin": 96669,
  "ymax": 316041,
  "xmax": 191701,
  "spatialReference": {
   "wkt": "PROJCS[\"dc-4\",GEOGCS[\"douglas cnty geographic coord system\",DATUM[\"\",SPHEROID[\"douglas county\",6378414.93,298.27021878]],PRIMEM[\"greenwich\",0.0],UNIT[\"Degree\",0.0174532925199433]],PROJECTION[\"Transverse_Mercator\"],PARAMETER[\"False_Easting\",194000.0],PARAMETER[\"False_Northing\",0.0],PARAMETER[\"Central_Meridian\",-91.91666667],PARAMETER[\"Scale_Factor\",0.999994968],PARAMETER[\"Latitude_Of_Origin\",45.88333333],UNIT[\"Foot_US\",0.3048006096012192]]",
   "wkt2": "PROJCRS[\"dc-4\",BASEGEOGCRS[\"douglas cnty geographic coord system\",DATUM[\"\",ELLIPSOID[\"douglas county\",6378414.93,298.27021878]],PRIMEM[\"greenwich\",0.0],CS[ellipsoidal,2],ANGLEUNIT[\"Degree\",0.0174532925199433]],CONVERSION[\"Transverse_Mercator\",METHOD[\"Transverse_Mercator\"],PARAMETER[\"False_Easting\",194000.0,LENGTHUNIT[\"Foot_US\",0.3048006096012192]],PARAMETER[\"False_Northing\",0.0,LENGTHUNIT[\"Foot_US\",0.3048006096012192]],PARAMETER[\"Central_Meridian\",-91.91666667],PARAMETER[\"Scale_Factor\",0.999994968],PARAMETER[\"Latitude_Of_Origin\",45.88333333]],CS[Cartesian,2],AXIS[\"Easting (X)\",east,ORDER[1]],AXIS[\"Northing (Y)\",north,ORDER[2]],LENGTHUNIT[\"Foot_US\",0.3048006096012192]]"
  }
 },
 "bandCount": 3,
 "rasterFunctionInfos": [
  {
   "help": "",
   "name": "None",
   "description": ""
  }
 ],
 "supportsStatistics": false,
 "sortableFields": "",
 "minValues": [
  0,
  0,
  0
 ],
 "allowRasterFunction": true,
 "allowComputeTiePoints": false,
 "serviceDataType": "esriImageServiceDataTypeRGB",
 "supportsAdvancedQueries": false,
 "currentVersion": 12.1,
 "sortValue": null,
 "objectIdField": "",
 "blockHeight": 128,
 "initialExtent": {
  "ymin": 211649,
  "xmin": 96669,
  "ymax": 316041,
  "xmax": 191701,
  "spatialReference": {
   "wkt": "PROJCS[\"dc-4\",GEOGCS[\"douglas cnty geographic coord system\",DATUM[\"\",SPHEROID[\"douglas county\",6378414.93,298.27021878]],PRIMEM[\"greenwich\",0.0],UNIT[\"Degree\",0.0174532925199433]],PROJECTION[\"Transverse_Mercator\"],PARAMETER[\"False_Easting\",194000.0],PARAMETER[\"False_Northing\",0.0],PARAMETER[\"Central_Meridian\",-91.91666667],PARAMETER[\"Scale_Factor\",0.999994968],PARAMETER[\"Latitude_Of_Origin\",45.88333333],UNIT[\"Foot_US\",0.3048006096012192]]",
   "wkt2": "PROJCRS[\"dc-4\",BASEGEOGCRS[\"douglas cnty geographic coord system\",DATUM[\"\",ELLIPSOID[\"douglas county\",6378414.93,298.27021878]],PRIMEM[\"greenwich\",0.0],CS[ellipsoidal,2],ANGLEUNIT[\"Degree\",0.0174532925199433]],CONVERSION[\"Transverse_Mercator\",METHOD[\"Transverse_Mercator\"],PARAMETER[\"False_Easting\",194000.0,LENGTHUNIT[\"Foot_US\",0.3048006096012192]],PARAMETER[\"False_Northing\",0.0,LENGTHUNIT[\"Foot_US\",0.3048006096012192]],PARAMETER[\"Central_Meridian\",-91.91666667],PARAMETER[\"Scale_Factor\",0.999994968],PARAMETER[\"Latitude_Of_Origin\",45.88333333]],CS[Cartesian,2],AXIS[\"Easting (X)\",east,ORDER[1]],AXIS[\"Northing (Y)\",north,ORDER[2]],LENGTHUNIT[\"Foot_US\",0.3048006096012192]]"
  }
 },
 "pixelSizeX": 1,
 "pixelSizeY": 1,
 "defaultMosaicMethod": "Center",
 "name": "2006Aerials/DOUGLAS_NW_DOUGLASCOUNTYPROJECTION",
 "allowedMosaicMethods": "",
 "fields": [],
 "allowAnalysis": true,
 "hasRasterAttributeTable": false,
 "useStandardizedQueries": false,
 "description": "",
 "pixelType": "U8",
 "meanPixelSize": 0.30480060960121924,
 "exportTilesAllowed": false,
 "editFieldsInfo": null,
 "rasterTypeInfos": [
  {
   "help": "",
   "name": "Raster Dataset",
   "description": "Supports all ArcGIS Raster Datasets"
  }
 ],
 "defaultResamplingMethod": "Bilinear",
 "itemAccess": false,
 "minScale": 0,
 "serviceProperties": "Center<\/MosaicMethod>First<\/MosaicOperator>true<\/SortAscending><\/LockImageID><\/TileOrderField>0<\/TileOrderBase>0.000000<\/AvgImageSpacingX>0.000000<\/AvgImageSpacingY>0.0<\/ViewPointX>0.0<\/ViewPointY>0.0<\/ViewPointDefShiftX>0.0<\/ViewPointDefShiftY>None<\/CompressionMethod>75<\/CompressionQuality>0.010000<\/CompressionTolerance>Bilinear<\/SamplingMethod><\/ImageServiceProperties><\/ImageServer>",
 "advancedQueryCapabilities": {
  "supportsStatistics": false,
  "supportsSqlExpression": false,
  "supportsOrderBy": false,
  "useStandardizedQueries": false,
  "supportsPagination": false,
  "supportsDistinct": false
 },
 "serviceItemId": "4bc228410c804a97b1f4282f1d1c83b0",
 "capabilities": "Image,Metadata,Mensuration",
 "maxScale": 0,
 "stdvValues": [
  48.060718096057997,
  46.462716636379,
  43.488320781540999
 ],
 "allowedFields": "",
 "minPixelSize": 0,
 "sortAscending": true,
 "inspectionCapabilities": "",
 "maxPixelSize": 0,
 "allowedCompressions": "None,JPEG,LZ77,LERC",
 "uncompressedSize": 29761741632,
 "serviceDescription": "2006Aerials/DOUGLAS_NW_DOUGLASCOUNTYPROJECTION",
 "allowCopy": true,
 "copyrightText": "",
 "mensurationCapabilities": "Basic",
 "ownershipBasedAccessControlForRasters": null
}
